| Back to Multiple platform build/check report for BioC 3.9 |
|
This page was generated on 2018-10-29 10:32:04 -0400 (Mon, 29 Oct 2018).
| Package 1127/1642 | Hostname | OS / Arch | INSTALL | BUILD | CHECK | BUILD BIN | ||||||
Cristobal Fresno
| malbec2 | Linux (Ubuntu 16.04.1 LTS) / x86_64 | ERROR | ERROR | skipped | |||||||
| tokay2 | Windows Server 2012 R2 Standard / x64 | [ ERROR ] | ERROR | skipped | skipped | |||||||
| merida2 | OS X 10.11.6 El Capitan / x86_64 | ERROR | ERROR | skipped | skipped |
| Package: pbcmc |
| Version: 1.9.1 |
| Command: C:\cygwin\bin\curl.exe -O https://malbec2.bioconductor.org/BBS/3.9/bioc/src/contrib/pbcmc_1.9.1.tar.gz && rm -rf pbcmc.buildbin-libdir && mkdir pbcmc.buildbin-libdir && C:\Users\biocbuild\bbs-3.9-bioc\R\bin\R.exe CMD INSTALL --merge-multiarch --build --library=pbcmc.buildbin-libdir pbcmc_1.9.1.tar.gz && C:\Users\biocbuild\bbs-3.9-bioc\R\bin\R.exe CMD INSTALL pbcmc_1.9.1.zip && rm pbcmc_1.9.1.tar.gz pbcmc_1.9.1.zip |
| StartedAt: 2018-10-28 20:14:46 -0400 (Sun, 28 Oct 2018) |
| EndedAt: 2018-10-28 20:14:50 -0400 (Sun, 28 Oct 2018) |
| EllapsedTime: 3.8 seconds |
| RetCode: 1 |
| Status: ERROR |
##############################################################################
##############################################################################
###
### Running command:
###
### C:\cygwin\bin\curl.exe -O https://malbec2.bioconductor.org/BBS/3.9/bioc/src/contrib/pbcmc_1.9.1.tar.gz && rm -rf pbcmc.buildbin-libdir && mkdir pbcmc.buildbin-libdir && C:\Users\biocbuild\bbs-3.9-bioc\R\bin\R.exe CMD INSTALL --merge-multiarch --build --library=pbcmc.buildbin-libdir pbcmc_1.9.1.tar.gz && C:\Users\biocbuild\bbs-3.9-bioc\R\bin\R.exe CMD INSTALL pbcmc_1.9.1.zip && rm pbcmc_1.9.1.tar.gz pbcmc_1.9.1.zip
###
##############################################################################
##############################################################################
% Total % Received % Xferd Average Speed Time Time Time Current
Dload Upload Total Spent Left Speed
0 0 0 0 0 0 0 0 --:--:-- --:--:-- --:--:-- 0
100 555k 100 555k 0 0 8103k 0 --:--:-- --:--:-- --:--:-- 8965k
install for i386
* installing *source* package 'pbcmc' ...
** R
Error in .install_package_code_files(".", instdir) :
files in 'C:/Users/biocbuild/bbs-3.9-bioc/tmpdir/Rtmpw3I2c1/R.INSTALL1d8036015021/pbcmc/R' missing from 'Collate' field:
zzz.R
ERROR: unable to collate and parse R files for package 'pbcmc'
* removing 'C:/Users/biocbuild/bbs-3.9-bioc/meat/pbcmc.buildbin-libdir/pbcmc'
In R CMD INSTALL
In R CMD INSTALL