| Back to Multiple platform build/check report for BioC 3.9 |
|
This page was generated on 2019-10-16 12:40:06 -0400 (Wed, 16 Oct 2019).
| Package 1135/1741 | Hostname | OS / Arch | INSTALL | BUILD | CHECK | BUILD BIN | ||||||
| omicsPrint 1.4.0 Davy Cats
| malbec2 | Linux (Ubuntu 18.04.2 LTS) / x86_64 | OK | OK | OK | |||||||
| tokay2 | Windows Server 2012 R2 Standard / x64 | [ OK ] | OK | OK | OK | |||||||
| celaya2 | OS X 10.11.6 El Capitan / x86_64 | OK | OK | OK | OK |
| Package: omicsPrint |
| Version: 1.4.0 |
| Command: C:\cygwin\bin\curl.exe -O https://malbec2.bioconductor.org/BBS/3.9/bioc/src/contrib/omicsPrint_1.4.0.tar.gz && rm -rf omicsPrint.buildbin-libdir && mkdir omicsPrint.buildbin-libdir && C:\Users\biocbuild\bbs-3.9-bioc\R\bin\R.exe CMD INSTALL --merge-multiarch --build --library=omicsPrint.buildbin-libdir omicsPrint_1.4.0.tar.gz && C:\Users\biocbuild\bbs-3.9-bioc\R\bin\R.exe CMD INSTALL omicsPrint_1.4.0.zip && rm omicsPrint_1.4.0.tar.gz omicsPrint_1.4.0.zip |
| StartedAt: 2019-10-15 20:09:21 -0400 (Tue, 15 Oct 2019) |
| EndedAt: 2019-10-15 20:10:43 -0400 (Tue, 15 Oct 2019) |
| EllapsedTime: 82.5 seconds |
| RetCode: 0 |
| Status: OK |
##############################################################################
##############################################################################
###
### Running command:
###
### C:\cygwin\bin\curl.exe -O https://malbec2.bioconductor.org/BBS/3.9/bioc/src/contrib/omicsPrint_1.4.0.tar.gz && rm -rf omicsPrint.buildbin-libdir && mkdir omicsPrint.buildbin-libdir && C:\Users\biocbuild\bbs-3.9-bioc\R\bin\R.exe CMD INSTALL --merge-multiarch --build --library=omicsPrint.buildbin-libdir omicsPrint_1.4.0.tar.gz && C:\Users\biocbuild\bbs-3.9-bioc\R\bin\R.exe CMD INSTALL omicsPrint_1.4.0.zip && rm omicsPrint_1.4.0.tar.gz omicsPrint_1.4.0.zip
###
##############################################################################
##############################################################################
% Total % Received % Xferd Average Speed Time Time Time Current
Dload Upload Total Spent Left Speed
0 0 0 0 0 0 0 0 --:--:-- --:--:-- --:--:-- 0
100 4213k 100 4213k 0 0 43.9M 0 --:--:-- --:--:-- --:--:-- 47.2M
install for i386
* installing *source* package 'omicsPrint' ...
** using staged installation
** R
** data
*** moving datasets to lazyload DB
** inst
** byte-compile and prepare package for lazy loading
** help
*** installing help indices
converting help for package 'omicsPrint'
finding HTML links ... done
alleleSharing html
beta2genotype html
hg19.GoNLsnps html
hm450.manifest.pop.GoNL html
inferRelations html
** building package indices
** installing vignettes
** testing if installed package can be loaded from temporary location
** testing if installed package can be loaded from final location
** testing if installed package keeps a record of temporary installation path
install for x64
* installing *source* package 'omicsPrint' ...
** testing if installed package can be loaded
* MD5 sums
packaged installation of 'omicsPrint' as omicsPrint_1.4.0.zip
* DONE (omicsPrint)
* installing to library 'C:/Users/biocbuild/bbs-3.9-bioc/R/library'
package 'omicsPrint' successfully unpacked and MD5 sums checked