| Back to Multiple platform build/check report for BioC 3.9 |
|
This page was generated on 2019-10-16 12:38:02 -0400 (Wed, 16 Oct 2019).
| Package 1070/1741 | Hostname | OS / Arch | INSTALL | BUILD | CHECK | BUILD BIN | ||||||
| multiOmicsViz 1.8.0 Jing Wang
| malbec2 | Linux (Ubuntu 18.04.2 LTS) / x86_64 | OK | OK | OK | |||||||
| tokay2 | Windows Server 2012 R2 Standard / x64 | OK | OK | [ OK ] | OK | |||||||
| celaya2 | OS X 10.11.6 El Capitan / x86_64 | OK | OK | OK | OK |
| Package: multiOmicsViz |
| Version: 1.8.0 |
| Command: C:\Users\biocbuild\bbs-3.9-bioc\R\bin\R.exe CMD check --force-multiarch --install=check:multiOmicsViz.install-out.txt --library=C:\Users\biocbuild\bbs-3.9-bioc\R\library --no-vignettes --timings multiOmicsViz_1.8.0.tar.gz |
| StartedAt: 2019-10-16 05:29:01 -0400 (Wed, 16 Oct 2019) |
| EndedAt: 2019-10-16 05:33:35 -0400 (Wed, 16 Oct 2019) |
| EllapsedTime: 273.8 seconds |
| RetCode: 0 |
| Status: OK |
| CheckDir: multiOmicsViz.Rcheck |
| Warnings: 0 |
##############################################################################
##############################################################################
###
### Running command:
###
### C:\Users\biocbuild\bbs-3.9-bioc\R\bin\R.exe CMD check --force-multiarch --install=check:multiOmicsViz.install-out.txt --library=C:\Users\biocbuild\bbs-3.9-bioc\R\library --no-vignettes --timings multiOmicsViz_1.8.0.tar.gz
###
##############################################################################
##############################################################################
* using log directory 'C:/Users/biocbuild/bbs-3.9-bioc/meat/multiOmicsViz.Rcheck'
* using R version 3.6.1 (2019-07-05)
* using platform: x86_64-w64-mingw32 (64-bit)
* using session charset: ISO8859-1
* using option '--no-vignettes'
* checking for file 'multiOmicsViz/DESCRIPTION' ... OK
* checking extension type ... Package
* this is package 'multiOmicsViz' version '1.8.0'
* checking package namespace information ... OK
* checking package dependencies ... OK
* checking if this is a source package ... OK
* checking if there is a namespace ... OK
* checking for hidden files and directories ... OK
* checking for portable file names ... OK
* checking whether package 'multiOmicsViz' can be installed ... OK
* checking installed package size ... OK
* checking package directory ... OK
* checking 'build' directory ... OK
* checking DESCRIPTION meta-information ... OK
* checking top-level files ... OK
* checking for left-over files ... OK
* checking index information ... OK
* checking package subdirectories ... OK
* checking R files for non-ASCII characters ... OK
* checking R files for syntax errors ... OK
* loading checks for arch 'i386'
** checking whether the package can be loaded ... OK
** checking whether the package can be loaded with stated dependencies ... OK
** checking whether the package can be unloaded cleanly ... OK
** checking whether the namespace can be loaded with stated dependencies ... OK
** checking whether the namespace can be unloaded cleanly ... OK
* loading checks for arch 'x64'
** checking whether the package can be loaded ... OK
** checking whether the package can be loaded with stated dependencies ... OK
** checking whether the package can be unloaded cleanly ... OK
** checking whether the namespace can be loaded with stated dependencies ... OK
** checking whether the namespace can be unloaded cleanly ... OK
* checking dependencies in R code ... OK
* checking S3 generic/method consistency ... OK
* checking replacement functions ... OK
* checking foreign function calls ... OK
* checking R code for possible problems ... OK
* checking Rd files ... OK
* checking Rd metadata ... OK
* checking Rd cross-references ... OK
* checking for missing documentation entries ... OK
* checking for code/documentation mismatches ... OK
* checking Rd \usage sections ... OK
* checking Rd contents ... OK
* checking for unstated dependencies in examples ... OK
* checking files in 'vignettes' ... OK
* checking examples ...
** running examples for arch 'i386' ... OK
Examples with CPU or elapsed time > 5s
user system elapsed
multiOmicsViz 9.86 1.00 10.88
calculateCorForTwoMatrices 4.98 0.37 10.31
** running examples for arch 'x64' ... OK
Examples with CPU or elapsed time > 5s
user system elapsed
multiOmicsViz 13 1.03 14.08
* checking for unstated dependencies in 'tests' ... OK
* checking tests ...
** running tests for arch 'i386' ...
Running 'runTests.R'
OK
** running tests for arch 'x64' ...
Running 'runTests.R'
OK
* checking for unstated dependencies in vignettes ... OK
* checking package vignettes in 'inst/doc' ... OK
* checking running R code from vignettes ... SKIPPED
* checking re-building of vignette outputs ... SKIPPED
* checking PDF version of manual ... OK
* DONE
Status: OK
multiOmicsViz.Rcheck/00install.out
##############################################################################
##############################################################################
###
### Running command:
###
### C:\cygwin\bin\curl.exe -O https://malbec2.bioconductor.org/BBS/3.9/bioc/src/contrib/multiOmicsViz_1.8.0.tar.gz && rm -rf multiOmicsViz.buildbin-libdir && mkdir multiOmicsViz.buildbin-libdir && C:\Users\biocbuild\bbs-3.9-bioc\R\bin\R.exe CMD INSTALL --merge-multiarch --build --library=multiOmicsViz.buildbin-libdir multiOmicsViz_1.8.0.tar.gz && C:\Users\biocbuild\bbs-3.9-bioc\R\bin\R.exe CMD INSTALL multiOmicsViz_1.8.0.zip && rm multiOmicsViz_1.8.0.tar.gz multiOmicsViz_1.8.0.zip
###
##############################################################################
##############################################################################
% Total % Received % Xferd Average Speed Time Time Time Current
Dload Upload Total Spent Left Speed
0 0 0 0 0 0 0 0 --:--:-- --:--:-- --:--:-- 0
100 2012k 100 2012k 0 0 28.3M 0 --:--:-- --:--:-- --:--:-- 30.7M
install for i386
* installing *source* package 'multiOmicsViz' ...
** using staged installation
** R
** inst
** byte-compile and prepare package for lazy loading
** help
*** installing help indices
converting help for package 'multiOmicsViz'
finding HTML links ... done
calculateCorForTwoMatrices html
exampleData html
multiOmicsViz-package html
multiOmicsViz html
** building package indices
** installing vignettes
** testing if installed package can be loaded from temporary location
** testing if installed package can be loaded from final location
** testing if installed package keeps a record of temporary installation path
install for x64
* installing *source* package 'multiOmicsViz' ...
** testing if installed package can be loaded
* MD5 sums
packaged installation of 'multiOmicsViz' as multiOmicsViz_1.8.0.zip
* DONE (multiOmicsViz)
* installing to library 'C:/Users/biocbuild/bbs-3.9-bioc/R/library'
package 'multiOmicsViz' successfully unpacked and MD5 sums checked
|
multiOmicsViz.Rcheck/tests_i386/runTests.Rout
R version 3.6.1 (2019-07-05) -- "Action of the Toes"
Copyright (C) 2019 The R Foundation for Statistical Computing
Platform: i386-w64-mingw32/i386 (32-bit)
R is free software and comes with ABSOLUTELY NO WARRANTY.
You are welcome to redistribute it under certain conditions.
Type 'license()' or 'licence()' for distribution details.
R is a collaborative project with many contributors.
Type 'contributors()' for more information and
'citation()' on how to cite R or R packages in publications.
Type 'demo()' for some demos, 'help()' for on-line help, or
'help.start()' for an HTML browser interface to help.
Type 'q()' to quit R.
> BiocGenerics:::testPackage("multiOmicsViz")
RUNIT TEST PROTOCOL -- Wed Oct 16 05:33:18 2019
***********************************************
Number of test functions: 1
Number of errors: 0
Number of failures: 0
1 Test Suite :
multiOmicsViz RUnit Tests - 1 test function, 0 errors, 0 failures
Number of test functions: 1
Number of errors: 0
Number of failures: 0
>
> proc.time()
user system elapsed
6.09 0.28 6.35
|
multiOmicsViz.Rcheck/tests_x64/runTests.Rout
R version 3.6.1 (2019-07-05) -- "Action of the Toes"
Copyright (C) 2019 The R Foundation for Statistical Computing
Platform: x86_64-w64-mingw32/x64 (64-bit)
R is free software and comes with ABSOLUTELY NO WARRANTY.
You are welcome to redistribute it under certain conditions.
Type 'license()' or 'licence()' for distribution details.
R is a collaborative project with many contributors.
Type 'contributors()' for more information and
'citation()' on how to cite R or R packages in publications.
Type 'demo()' for some demos, 'help()' for on-line help, or
'help.start()' for an HTML browser interface to help.
Type 'q()' to quit R.
> BiocGenerics:::testPackage("multiOmicsViz")
RUNIT TEST PROTOCOL -- Wed Oct 16 05:33:24 2019
***********************************************
Number of test functions: 1
Number of errors: 0
Number of failures: 0
1 Test Suite :
multiOmicsViz RUnit Tests - 1 test function, 0 errors, 0 failures
Number of test functions: 1
Number of errors: 0
Number of failures: 0
>
> proc.time()
user system elapsed
5.23 0.20 5.56
|
|
multiOmicsViz.Rcheck/examples_i386/multiOmicsViz-Ex.timings
|
multiOmicsViz.Rcheck/examples_x64/multiOmicsViz-Ex.timings
|