| Back to Multiple platform build/check report for BioC 3.9 | 
 | 
This page was generated on 2019-10-16 12:39:57 -0400 (Wed, 16 Oct 2019).
| Package 1047/1741 | Hostname | OS / Arch | INSTALL | BUILD | CHECK | BUILD BIN | ||||||
| mpra 1.6.0 Leslie Myint 
 | malbec2 | Linux (Ubuntu 18.04.2 LTS) / x86_64 | OK | OK | OK |  | ||||||
| tokay2 | Windows Server 2012 R2 Standard / x64 | [ OK ] | OK | OK | OK |  | ||||||
| celaya2 | OS X 10.11.6 El Capitan / x86_64 | OK | OK | OK | OK |  | 
| Package: mpra | 
| Version: 1.6.0 | 
| Command: C:\cygwin\bin\curl.exe -O https://malbec2.bioconductor.org/BBS/3.9/bioc/src/contrib/mpra_1.6.0.tar.gz && rm -rf mpra.buildbin-libdir && mkdir mpra.buildbin-libdir && C:\Users\biocbuild\bbs-3.9-bioc\R\bin\R.exe CMD INSTALL --merge-multiarch --build --library=mpra.buildbin-libdir mpra_1.6.0.tar.gz && C:\Users\biocbuild\bbs-3.9-bioc\R\bin\R.exe CMD INSTALL mpra_1.6.0.zip && rm mpra_1.6.0.tar.gz mpra_1.6.0.zip | 
| StartedAt: 2019-10-15 20:15:21 -0400 (Tue, 15 Oct 2019) | 
| EndedAt: 2019-10-15 20:16:14 -0400 (Tue, 15 Oct 2019) | 
| EllapsedTime: 52.4 seconds | 
| RetCode: 0 | 
| Status: OK | 
##############################################################################
##############################################################################
###
### Running command:
###
###   C:\cygwin\bin\curl.exe -O https://malbec2.bioconductor.org/BBS/3.9/bioc/src/contrib/mpra_1.6.0.tar.gz && rm -rf mpra.buildbin-libdir && mkdir mpra.buildbin-libdir && C:\Users\biocbuild\bbs-3.9-bioc\R\bin\R.exe CMD INSTALL --merge-multiarch --build --library=mpra.buildbin-libdir mpra_1.6.0.tar.gz && C:\Users\biocbuild\bbs-3.9-bioc\R\bin\R.exe CMD INSTALL mpra_1.6.0.zip && rm mpra_1.6.0.tar.gz mpra_1.6.0.zip
###
##############################################################################
##############################################################################
  % Total    % Received % Xferd  Average Speed   Time    Time     Time  Current
                                 Dload  Upload   Total   Spent    Left  Speed
  0     0    0     0    0     0      0      0 --:--:-- --:--:-- --:--:--     0
100 2744k  100 2744k    0     0  14.6M      0 --:--:-- --:--:-- --:--:-- 15.2M
install for i386
* installing *source* package 'mpra' ...
** using staged installation
** R
** data
** inst
** byte-compile and prepare package for lazy loading
** help
*** installing help indices
  converting help for package 'mpra'
    finding HTML links ... done
    MPRASet-class                           html  
    finding level-2 HTML links ... done
    compute_logratio                        html  
    get_precision_weights                   html  
    mpra-package                            html  
    mpraSetExample                          html  
    mpralm                                  html  
    normalize_counts                        html  
** building package indices
** installing vignettes
** testing if installed package can be loaded from temporary location
** testing if installed package can be loaded from final location
** testing if installed package keeps a record of temporary installation path
install for x64
* installing *source* package 'mpra' ...
** testing if installed package can be loaded
* MD5 sums
packaged installation of 'mpra' as mpra_1.6.0.zip
* DONE (mpra)
* installing to library 'C:/Users/biocbuild/bbs-3.9-bioc/R/library'
package 'mpra' successfully unpacked and MD5 sums checked