| Back to Multiple platform build/check report for BioC 3.9 |
|
This page was generated on 2019-10-16 12:32:57 -0400 (Wed, 16 Oct 2019).
| Package 1034/1741 | Hostname | OS / Arch | INSTALL | BUILD | CHECK | BUILD BIN | ||||||
| mogsa 1.18.1 Chen Meng
| malbec2 | Linux (Ubuntu 18.04.2 LTS) / x86_64 | OK | OK | OK | |||||||
| tokay2 | Windows Server 2012 R2 Standard / x64 | OK | OK | OK | [ OK ] | |||||||
| celaya2 | OS X 10.11.6 El Capitan / x86_64 | OK | OK | OK | OK |
| Package: mogsa |
| Version: 1.18.1 |
| Command: rm -rf mogsa.buildbin-libdir && mkdir mogsa.buildbin-libdir && C:\Users\biocbuild\bbs-3.9-bioc\R\bin\R.exe CMD INSTALL --merge-multiarch --build --library=mogsa.buildbin-libdir mogsa_1.18.1.tar.gz |
| StartedAt: 2019-10-16 09:42:36 -0400 (Wed, 16 Oct 2019) |
| EndedAt: 2019-10-16 09:43:33 -0400 (Wed, 16 Oct 2019) |
| EllapsedTime: 57.0 seconds |
| RetCode: 0 |
| Status: OK |
| PackageFile: mogsa_1.18.1.zip |
| PackageFileSize: 1.115 MiB |
##############################################################################
##############################################################################
###
### Running command:
###
### rm -rf mogsa.buildbin-libdir && mkdir mogsa.buildbin-libdir && C:\Users\biocbuild\bbs-3.9-bioc\R\bin\R.exe CMD INSTALL --merge-multiarch --build --library=mogsa.buildbin-libdir mogsa_1.18.1.tar.gz
###
##############################################################################
##############################################################################
install for i386
* installing *source* package 'mogsa' ...
** using staged installation
** R
** data
** inst
** byte-compile and prepare package for lazy loading
** help
*** installing help indices
converting help for package 'mogsa'
finding HTML links ... done
GIS html
NCI60_4array_supdata html
NCI60_4arrays html
annotate.gs html
bootMbpca html
bootMbpcaK html
bootMoa html
box.gs.feature html
combine-methods html
decompose.gs.group html
decompose.gs.ind html
deflat html
distMoa html
getmgsa html
matpower html
mbpca html
mgsa-class html
moGap html
moa-class html
moa html
moa.sup-class html
moaCoef html
moaScore html
mogsa-package html
mogsa html
msvd html
nipalsSoftK html
pairwise.rv html
plot-methods html
plotGS html
prepGraphite html
prepMsigDB html
prepSupMoa html
print-methods html
processOpt html
show-methods html
softK html
summary-methods html
sup.moa html
toMoa html
wsvd html
** building package indices
** installing vignettes
** testing if installed package can be loaded from temporary location
** testing if installed package can be loaded from final location
** testing if installed package keeps a record of temporary installation path
install for x64
* installing *source* package 'mogsa' ...
** testing if installed package can be loaded
* MD5 sums
packaged installation of 'mogsa' as mogsa_1.18.1.zip
* DONE (mogsa)