This page was generated on 2019-10-16 12:15:09 -0400 (Wed, 16 Oct 2019).
##############################################################################
##############################################################################
###
### Running command:
###
### /home/biocbuild/bbs-3.9-bioc/R/bin/R CMD INSTALL mlm4omics
###
##############################################################################
##############################################################################
* installing to library ‘/home/biocbuild/bbs-3.9-bioc/R/library’
* installing *source* package ‘mlm4omics’ ...
** using staged installation
** libs
"/home/biocbuild/bbs-3.9-bioc/R/bin/Rscript" -e "source(file.path('..', 'tools', 'make_cc.R')); make_cc(commandArgs(TRUE))" stan_files/mmlm_code.stan
Wrote C++ file "stan_files/mmlm_code.cc"
g++ -std=gnu++11 -I"/home/biocbuild/bbs-3.9-bioc/R/include" -DNDEBUG -I"../inst/include" -I"`"/home/biocbuild/bbs-3.9-bioc/R/bin/Rscript" --vanilla -e "cat(system.file('include', 'src', package = 'StanHeaders'))"`" -DBOOST_RESULT_OF_USE_TR1 -DBOOST_NO_DECLTYPE -DBOOST_DISABLE_ASSERTS -DEIGEN_NO_DEBUG -DBOOST_MATH_OVERFLOW_ERROR_POLICY=errno_on_error -I"/home/biocbuild/bbs-3.9-bioc/R/library/StanHeaders/include" -I"/home/biocbuild/bbs-3.9-bioc/R/library/rstan/include" -I"/home/biocbuild/bbs-3.9-bioc/R/library/BH/include" -I"/home/biocbuild/bbs-3.9-bioc/R/library/Rcpp/include" -I"/home/biocbuild/bbs-3.9-bioc/R/library/RcppEigen/include" -I/usr/local/include -fpic -g -O2 -Wall -c stan_files/mmlm_code.cc -o stan_files/mmlm_code.o
In file included from /home/biocbuild/bbs-3.9-bioc/R/library/BH/include/boost/smart_ptr/shared_ptr.hpp:28:0,
from /home/biocbuild/bbs-3.9-bioc/R/library/BH/include/boost/shared_ptr.hpp:17,
from /home/biocbuild/bbs-3.9-bioc/R/library/BH/include/boost/date_time/time_clock.hpp:17,
from /home/biocbuild/bbs-3.9-bioc/R/library/BH/include/boost/date_time/posix_time/posix_time_types.hpp:10,
from /home/biocbuild/bbs-3.9-bioc/R/library/rstan/include/rstan/stan_fit.hpp:13,
from /home/biocbuild/bbs-3.9-bioc/R/library/rstan/include/rstan/rstaninc.hpp:3,
from stan_files/mmlm_code.hpp:18,
from stan_files/mmlm_code.cc:3:
/home/biocbuild/bbs-3.9-bioc/R/library/BH/include/boost/smart_ptr/detail/shared_count.hpp:355:33: warning: ‘template class std::auto_ptr’ is deprecated [-Wdeprecated-declarations]
explicit shared_count( std::auto_ptr & r ): pi_( new sp_counted_impl_p( r.get() ) )
^~~~~~~~
In file included from /usr/include/c++/7/bits/locale_conv.h:41:0,
from /usr/include/c++/7/locale:43,
from /usr/include/c++/7/iomanip:43,
from /home/biocbuild/bbs-3.9-bioc/R/library/Rcpp/include/RcppCommon.h:52,
from /home/biocbuild/bbs-3.9-bioc/R/library/Rcpp/include/Rcpp.h:27,
from stan_files/mmlm_code.cc:1:
/usr/include/c++/7/bits/unique_ptr.h:51:28: note: declared here
template class auto_ptr;
^~~~~~~~
In file included from /home/biocbuild/bbs-3.9-bioc/R/library/BH/include/boost/shared_ptr.hpp:17:0,
from /home/biocbuild/bbs-3.9-bioc/R/library/BH/include/boost/date_time/time_clock.hpp:17,
from /home/biocbuild/bbs-3.9-bioc/R/library/BH/include/boost/date_time/posix_time/posix_time_types.hpp:10,
from /home/biocbuild/bbs-3.9-bioc/R/library/rstan/include/rstan/stan_fit.hpp:13,
from /home/biocbuild/bbs-3.9-bioc/R/library/rstan/include/rstan/rstaninc.hpp:3,
from stan_files/mmlm_code.hpp:18,
from stan_files/mmlm_code.cc:3:
/home/biocbuild/bbs-3.9-bioc/R/library/BH/include/boost/smart_ptr/shared_ptr.hpp:256:65: warning: ‘template class std::auto_ptr’ is deprecated [-Wdeprecated-declarations]
template< class T, class R > struct sp_enable_if_auto_ptr< std::auto_ptr< T >, R >
^~~~~~~~
In file included from /usr/include/c++/7/bits/locale_conv.h:41:0,
from /usr/include/c++/7/locale:43,
from /usr/include/c++/7/iomanip:43,
from /home/biocbuild/bbs-3.9-bioc/R/library/Rcpp/include/RcppCommon.h:52,
from /home/biocbuild/bbs-3.9-bioc/R/library/Rcpp/include/Rcpp.h:27,
from stan_files/mmlm_code.cc:1:
/usr/include/c++/7/bits/unique_ptr.h:51:28: note: declared here
template class auto_ptr;
^~~~~~~~
In file included from /home/biocbuild/bbs-3.9-bioc/R/library/BH/include/boost/shared_ptr.hpp:17:0,
from /home/biocbuild/bbs-3.9-bioc/R/library/BH/include/boost/date_time/time_clock.hpp:17,
from /home/biocbuild/bbs-3.9-bioc/R/library/BH/include/boost/date_time/posix_time/posix_time_types.hpp:10,
from /home/biocbuild/bbs-3.9-bioc/R/library/rstan/include/rstan/stan_fit.hpp:13,
from /home/biocbuild/bbs-3.9-bioc/R/library/rstan/include/rstan/rstaninc.hpp:3,
from stan_files/mmlm_code.hpp:18,
from stan_files/mmlm_code.cc:3:
/home/biocbuild/bbs-3.9-bioc/R/library/BH/include/boost/smart_ptr/shared_ptr.hpp:471:31: warning: ‘template class std::auto_ptr’ is deprecated [-Wdeprecated-declarations]
explicit shared_ptr( std::auto_ptr & r ): px(r.get()), pn()
^~~~~~~~
In file included from /usr/include/c++/7/bits/locale_conv.h:41:0,
from /usr/include/c++/7/locale:43,
from /usr/include/c++/7/iomanip:43,
from /home/biocbuild/bbs-3.9-bioc/R/library/Rcpp/include/RcppCommon.h:52,
from /home/biocbuild/bbs-3.9-bioc/R/library/Rcpp/include/Rcpp.h:27,
from stan_files/mmlm_code.cc:1:
/usr/include/c++/7/bits/unique_ptr.h:51:28: note: declared here
template class auto_ptr;
^~~~~~~~
In file included from /home/biocbuild/bbs-3.9-bioc/R/library/BH/include/boost/shared_ptr.hpp:17:0,
from /home/biocbuild/bbs-3.9-bioc/R/library/BH/include/boost/date_time/time_clock.hpp:17,
from /home/biocbuild/bbs-3.9-bioc/R/library/BH/include/boost/date_time/posix_time/posix_time_types.hpp:10,
from /home/biocbuild/bbs-3.9-bioc/R/library/rstan/include/rstan/stan_fit.hpp:13,
from /home/biocbuild/bbs-3.9-bioc/R/library/rstan/include/rstan/rstaninc.hpp:3,
from stan_files/mmlm_code.hpp:18,
from stan_files/mmlm_code.cc:3:
/home/biocbuild/bbs-3.9-bioc/R/library/BH/include/boost/smart_ptr/shared_ptr.hpp:484:22: warning: ‘template class std::auto_ptr’ is deprecated [-Wdeprecated-declarations]
shared_ptr( std::auto_ptr && r ): px(r.get()), pn()
^~~~~~~~
In file included from /usr/include/c++/7/bits/locale_conv.h:41:0,
from /usr/include/c++/7/locale:43,
from /usr/include/c++/7/iomanip:43,
from /home/biocbuild/bbs-3.9-bioc/R/library/Rcpp/include/RcppCommon.h:52,
from /home/biocbuild/bbs-3.9-bioc/R/library/Rcpp/include/Rcpp.h:27,
from stan_files/mmlm_code.cc:1:
/usr/include/c++/7/bits/unique_ptr.h:51:28: note: declared here
template class auto_ptr;
^~~~~~~~
In file included from /home/biocbuild/bbs-3.9-bioc/R/library/BH/include/boost/shared_ptr.hpp:17:0,
from /home/biocbuild/bbs-3.9-bioc/R/library/BH/include/boost/date_time/time_clock.hpp:17,
from /home/biocbuild/bbs-3.9-bioc/R/library/BH/include/boost/date_time/posix_time/posix_time_types.hpp:10,
from /home/biocbuild/bbs-3.9-bioc/R/library/rstan/include/rstan/stan_fit.hpp:13,
from /home/biocbuild/bbs-3.9-bioc/R/library/rstan/include/rstan/rstaninc.hpp:3,
from stan_files/mmlm_code.hpp:18,
from stan_files/mmlm_code.cc:3:
/home/biocbuild/bbs-3.9-bioc/R/library/BH/include/boost/smart_ptr/shared_ptr.hpp:567:34: warning: ‘template class std::auto_ptr’ is deprecated [-Wdeprecated-declarations]
shared_ptr & operator=( std::auto_ptr & r )
^~~~~~~~
In file included from /usr/include/c++/7/bits/locale_conv.h:41:0,
from /usr/include/c++/7/locale:43,
from /usr/include/c++/7/iomanip:43,
from /home/biocbuild/bbs-3.9-bioc/R/library/Rcpp/include/RcppCommon.h:52,
from /home/biocbuild/bbs-3.9-bioc/R/library/Rcpp/include/Rcpp.h:27,
from stan_files/mmlm_code.cc:1:
/usr/include/c++/7/bits/unique_ptr.h:51:28: note: declared here
template class auto_ptr;
^~~~~~~~
In file included from /home/biocbuild/bbs-3.9-bioc/R/library/BH/include/boost/shared_ptr.hpp:17:0,
from /home/biocbuild/bbs-3.9-bioc/R/library/BH/include/boost/date_time/time_clock.hpp:17,
from /home/biocbuild/bbs-3.9-bioc/R/library/BH/include/boost/date_time/posix_time/posix_time_types.hpp:10,
from /home/biocbuild/bbs-3.9-bioc/R/library/rstan/include/rstan/stan_fit.hpp:13,
from /home/biocbuild/bbs-3.9-bioc/R/library/rstan/include/rstan/rstaninc.hpp:3,
from stan_files/mmlm_code.hpp:18,
from stan_files/mmlm_code.cc:3:
/home/biocbuild/bbs-3.9-bioc/R/library/BH/include/boost/smart_ptr/shared_ptr.hpp:576:34: warning: ‘template class std::auto_ptr’ is deprecated [-Wdeprecated-declarations]
shared_ptr & operator=( std::auto_ptr && r )
^~~~~~~~
In file included from /usr/include/c++/7/bits/locale_conv.h:41:0,
from /usr/include/c++/7/locale:43,
from /usr/include/c++/7/iomanip:43,
from /home/biocbuild/bbs-3.9-bioc/R/library/Rcpp/include/RcppCommon.h:52,
from /home/biocbuild/bbs-3.9-bioc/R/library/Rcpp/include/Rcpp.h:27,
from stan_files/mmlm_code.cc:1:
/usr/include/c++/7/bits/unique_ptr.h:51:28: note: declared here
template class auto_ptr;
^~~~~~~~
In file included from /home/biocbuild/bbs-3.9-bioc/R/library/BH/include/boost/shared_ptr.hpp:17:0,
from /home/biocbuild/bbs-3.9-bioc/R/library/BH/include/boost/date_time/time_clock.hpp:17,
from /home/biocbuild/bbs-3.9-bioc/R/library/BH/include/boost/date_time/posix_time/posix_time_types.hpp:10,
from /home/biocbuild/bbs-3.9-bioc/R/library/rstan/include/rstan/stan_fit.hpp:13,
from /home/biocbuild/bbs-3.9-bioc/R/library/rstan/include/rstan/rstaninc.hpp:3,
from stan_files/mmlm_code.hpp:18,
from stan_files/mmlm_code.cc:3:
/home/biocbuild/bbs-3.9-bioc/R/library/BH/include/boost/smart_ptr/shared_ptr.hpp: In member function ‘boost::shared_ptr& boost::shared_ptr::operator=(std::auto_ptr<_Up>&&)’:
/home/biocbuild/bbs-3.9-bioc/R/library/BH/include/boost/smart_ptr/shared_ptr.hpp:578:38: warning: ‘template class std::auto_ptr’ is deprecated [-Wdeprecated-declarations]
this_type( static_cast< std::auto_ptr && >( r ) ).swap( *this );
^~~~~~~~
In file included from /usr/include/c++/7/bits/locale_conv.h:41:0,
from /usr/include/c++/7/locale:43,
from /usr/include/c++/7/iomanip:43,
from /home/biocbuild/bbs-3.9-bioc/R/library/Rcpp/include/RcppCommon.h:52,
from /home/biocbuild/bbs-3.9-bioc/R/library/Rcpp/include/Rcpp.h:27,
from stan_files/mmlm_code.cc:1:
/usr/include/c++/7/bits/unique_ptr.h:51:28: note: declared here
template class auto_ptr;
^~~~~~~~
In file included from /home/biocbuild/bbs-3.9-bioc/R/library/BH/include/boost/random/detail/integer_log2.hpp:19:0,
from /home/biocbuild/bbs-3.9-bioc/R/library/BH/include/boost/random/detail/large_arithmetic.hpp:19,
from /home/biocbuild/bbs-3.9-bioc/R/library/BH/include/boost/random/detail/const_mod.hpp:23,
from /home/biocbuild/bbs-3.9-bioc/R/library/BH/include/boost/random/linear_congruential.hpp:30,
from /home/biocbuild/bbs-3.9-bioc/R/library/BH/include/boost/random/additive_combine.hpp:27,
from /home/biocbuild/bbs-3.9-bioc/R/library/rstan/include/rstan/stan_fit.hpp:15,
from /home/biocbuild/bbs-3.9-bioc/R/library/rstan/include/rstan/rstaninc.hpp:3,
from stan_files/mmlm_code.hpp:18,
from stan_files/mmlm_code.cc:3:
/home/biocbuild/bbs-3.9-bioc/R/library/BH/include/boost/pending/integer_log2.hpp: At global scope:
/home/biocbuild/bbs-3.9-bioc/R/library/BH/include/boost/pending/integer_log2.hpp:7:59: note: #pragma message: This header is deprecated. Use instead.
BOOST_HEADER_DEPRECATED("");
^
In file included from /home/biocbuild/bbs-3.9-bioc/R/library/RcppEigen/include/Eigen/Core:392:0,
from /home/biocbuild/bbs-3.9-bioc/R/library/RcppEigen/include/Eigen/Dense:1,
from /home/biocbuild/bbs-3.9-bioc/R/library/RcppEigen/include/RcppEigenForward.h:30,
from /home/biocbuild/bbs-3.9-bioc/R/library/RcppEigen/include/RcppEigen.h:25,
from /home/biocbuild/bbs-3.9-bioc/R/library/rstan/include/rstan/stan_fit.hpp:22,
from /home/biocbuild/bbs-3.9-bioc/R/library/rstan/include/rstan/rstaninc.hpp:3,
from stan_files/mmlm_code.hpp:18,
from stan_files/mmlm_code.cc:3:
/home/biocbuild/bbs-3.9-bioc/R/library/RcppEigen/include/Eigen/src/Core/arch/SSE/PacketMath.h:60:39: warning: ignoring attributes on template argument ‘__m128 {aka __vector(4) float}’ [-Wignored-attributes]
template<> struct is_arithmetic<__m128> { enum { value = true }; };
^
/home/biocbuild/bbs-3.9-bioc/R/library/RcppEigen/include/Eigen/src/Core/arch/SSE/PacketMath.h:61:40: warning: ignoring attributes on template argument ‘__m128i {aka __vector(2) long long int}’ [-Wignored-attributes]
template<> struct is_arithmetic<__m128i> { enum { value = true }; };
^
/home/biocbuild/bbs-3.9-bioc/R/library/RcppEigen/include/Eigen/src/Core/arch/SSE/PacketMath.h:62:40: warning: ignoring attributes on template argument ‘__m128d {aka __vector(2) double}’ [-Wignored-attributes]
template<> struct is_arithmetic<__m128d> { enum { value = true }; };
^
/home/biocbuild/bbs-3.9-bioc/R/library/RcppEigen/include/Eigen/src/Core/arch/SSE/PacketMath.h:161:43: warning: ignoring attributes on template argument ‘Eigen::internal::Packet4f {aka __vector(4) float}’ [-Wignored-attributes]
template<> struct unpacket_traits { typedef float type; enum {size=4, alignment=Aligned16}; typedef Packet4f half; };
^
In file included from /home/biocbuild/bbs-3.9-bioc/R/library/RcppEigen/include/Eigen/Core:392:0,
from /home/biocbuild/bbs-3.9-bioc/R/library/RcppEigen/include/Eigen/Dense:1,
from /home/biocbuild/bbs-3.9-bioc/R/library/RcppEigen/include/RcppEigenForward.h:30,
from /home/biocbuild/bbs-3.9-bioc/R/library/RcppEigen/include/RcppEigen.h:25,
from /home/biocbuild/bbs-3.9-bioc/R/library/rstan/include/rstan/stan_fit.hpp:22,
from /home/biocbuild/bbs-3.9-bioc/R/library/rstan/include/rstan/rstaninc.hpp:3,
from stan_files/mmlm_code.hpp:18,
from stan_files/mmlm_code.cc:3:
/home/biocbuild/bbs-3.9-bioc/R/library/RcppEigen/include/Eigen/src/Core/arch/SSE/PacketMath.h:162:43: warning: ignoring attributes on template argument ‘Eigen::internal::Packet2d {aka __vector(2) double}’ [-Wignored-attributes]
template<> struct unpacket_traits { typedef double type; enum {size=2, alignment=Aligned16}; typedef Packet2d half; };
^
/home/biocbuild/bbs-3.9-bioc/R/library/RcppEigen/include/Eigen/src/Core/arch/SSE/PacketMath.h:163:43: warning: ignoring attributes on template argument ‘Eigen::internal::Packet4i {aka __vector(2) long long int}’ [-Wignored-attributes]
template<> struct unpacket_traits { typedef int type; enum {size=4, alignment=Aligned16}; typedef Packet4i half; };
^
/home/biocbuild/bbs-3.9-bioc/R/library/RcppEigen/include/Eigen/src/Core/arch/SSE/PacketMath.h:718:35: warning: ignoring attributes on template argument ‘Eigen::internal::Packet4f {aka __vector(4) float}’ [-Wignored-attributes]
struct palign_impl
^
/home/biocbuild/bbs-3.9-bioc/R/library/RcppEigen/include/Eigen/src/Core/arch/SSE/PacketMath.h:741:35: warning: ignoring attributes on template argument ‘Eigen::internal::Packet4i {aka __vector(2) long long int}’ [-Wignored-attributes]
struct palign_impl
^
/home/biocbuild/bbs-3.9-bioc/R/library/RcppEigen/include/Eigen/src/Core/arch/SSE/PacketMath.h:764:35: warning: ignoring attributes on template argument ‘Eigen::internal::Packet2d {aka __vector(2) double}’ [-Wignored-attributes]
struct palign_impl
^
/home/biocbuild/bbs-3.9-bioc/R/library/RcppEigen/include/Eigen/src/Core/arch/SSE/PacketMath.h:778:34: warning: ignoring attributes on template argument ‘Eigen::internal::Packet4f {aka __vector(4) float}’ [-Wignored-attributes]
ptranspose(PacketBlock& kernel) {
^
/home/biocbuild/bbs-3.9-bioc/R/library/RcppEigen/include/Eigen/src/Core/arch/SSE/PacketMath.h:783:34: warning: ignoring attributes on template argument ‘Eigen::internal::Packet2d {aka __vector(2) double}’ [-Wignored-attributes]
ptranspose(PacketBlock& kernel) {
^
/home/biocbuild/bbs-3.9-bioc/R/library/RcppEigen/include/Eigen/src/Core/arch/SSE/PacketMath.h:790:34: warning: ignoring attributes on template argument ‘Eigen::internal::Packet4i {aka __vector(2) long long int}’ [-Wignored-attributes]
ptranspose(PacketBlock& kernel) {
^
In file included from /home/biocbuild/bbs-3.9-bioc/R/library/RcppEigen/include/Eigen/Core:374:0,
from /home/biocbuild/bbs-3.9-bioc/R/library/RcppEigen/include/Eigen/Dense:1,
from /home/biocbuild/bbs-3.9-bioc/R/library/RcppEigen/include/RcppEigenForward.h:30,
from /home/biocbuild/bbs-3.9-bioc/R/library/RcppEigen/include/RcppEigen.h:25,
from /home/biocbuild/bbs-3.9-bioc/R/library/rstan/include/rstan/stan_fit.hpp:22,
from /home/biocbuild/bbs-3.9-bioc/R/library/rstan/include/rstan/rstaninc.hpp:3,
from stan_files/mmlm_code.hpp:18,
from stan_files/mmlm_code.cc:3:
/home/biocbuild/bbs-3.9-bioc/R/library/RcppEigen/include/Eigen/src/Core/arch/Default/ConjHelper.h:15:70: warning: ignoring attributes on template argument ‘Eigen::internal::Packet4f {aka __vector(4) float}’ [-Wignored-attributes]
template<> struct conj_helper { \
^
/home/biocbuild/bbs-3.9-bioc/R/library/RcppEigen/include/Eigen/src/Core/arch/SSE/Complex.h:232:1: note: in expansion of macro ‘EIGEN_MAKE_CONJ_HELPER_CPLX_REAL’
EIGEN_MAKE_CONJ_HELPER_CPLX_REAL(Packet2cf,Packet4f)
^
/home/biocbuild/bbs-3.9-bioc/R/library/RcppEigen/include/Eigen/src/Core/arch/Default/ConjHelper.h:22:70: warning: ignoring attributes on template argument ‘Eigen::internal::Packet4f {aka __vector(4) float}’ [-Wignored-attributes]
template<> struct conj_helper { \
^
/home/biocbuild/bbs-3.9-bioc/R/library/RcppEigen/include/Eigen/src/Core/arch/SSE/Complex.h:232:1: note: in expansion of macro ‘EIGEN_MAKE_CONJ_HELPER_CPLX_REAL’
EIGEN_MAKE_CONJ_HELPER_CPLX_REAL(Packet2cf,Packet4f)
^
/home/biocbuild/bbs-3.9-bioc/R/library/RcppEigen/include/Eigen/src/Core/arch/Default/ConjHelper.h:15:70: warning: ignoring attributes on template argument ‘Eigen::internal::Packet2d {aka __vector(2) double}’ [-Wignored-attributes]
template<> struct conj_helper { \
^
/home/biocbuild/bbs-3.9-bioc/R/library/RcppEigen/include/Eigen/src/Core/arch/SSE/Complex.h:417:1: note: in expansion of macro ‘EIGEN_MAKE_CONJ_HELPER_CPLX_REAL’
EIGEN_MAKE_CONJ_HELPER_CPLX_REAL(Packet1cd,Packet2d)
^
/home/biocbuild/bbs-3.9-bioc/R/library/RcppEigen/include/Eigen/src/Core/arch/Default/ConjHelper.h:22:70: warning: ignoring attributes on template argument ‘Eigen::internal::Packet2d {aka __vector(2) double}’ [-Wignored-attributes]
template<> struct conj_helper { \
^
/home/biocbuild/bbs-3.9-bioc/R/library/RcppEigen/include/Eigen/src/Core/arch/SSE/Complex.h:417:1: note: in expansion of macro ‘EIGEN_MAKE_CONJ_HELPER_CPLX_REAL’
EIGEN_MAKE_CONJ_HELPER_CPLX_REAL(Packet1cd,Packet2d)
^
In file included from /home/biocbuild/bbs-3.9-bioc/R/library/RcppEigen/include/Eigen/Core:367:0,
from /home/biocbuild/bbs-3.9-bioc/R/library/RcppEigen/include/Eigen/Dense:1,
from /home/biocbuild/bbs-3.9-bioc/R/library/RcppEigen/include/RcppEigenForward.h:30,
from /home/biocbuild/bbs-3.9-bioc/R/library/RcppEigen/include/RcppEigen.h:25,
from /home/biocbuild/bbs-3.9-bioc/R/library/rstan/include/rstan/stan_fit.hpp:22,
from /home/biocbuild/bbs-3.9-bioc/R/library/rstan/include/rstan/rstaninc.hpp:3,
from stan_files/mmlm_code.hpp:18,
from stan_files/mmlm_code.cc:3:
/home/biocbuild/bbs-3.9-bioc/R/library/RcppEigen/include/Eigen/src/Core/util/XprHelper.h: In instantiation of ‘struct Eigen::internal::find_best_packet’:
/home/biocbuild/bbs-3.9-bioc/R/library/RcppEigen/include/Eigen/src/Core/Matrix.h:22:57: required from ‘struct Eigen::internal::traits >’
/home/biocbuild/bbs-3.9-bioc/R/library/RcppEigen/include/Eigen/src/Geometry/Quaternion.h:224:7: required from ‘struct Eigen::internal::traits >’
/home/biocbuild/bbs-3.9-bioc/R/library/RcppEigen/include/Eigen/src/Geometry/arch/Geometry_SSE.h:24:46: required from here
/home/biocbuild/bbs-3.9-bioc/R/library/RcppEigen/include/Eigen/src/Core/util/XprHelper.h:170:44: warning: ignoring attributes on template argument ‘Eigen::internal::packet_traits::type {aka __vector(4) float}’ [-Wignored-attributes]
bool Stop = Size==Dynamic || (Size%unpacket_traits::size)==0 || is_same::half>::value>
~~~~~^~~~~~~~~~~~~~~~~~~~~~~~~~~~~~~~~~~
/home/biocbuild/bbs-3.9-bioc/R/library/RcppEigen/include/Eigen/src/Core/util/XprHelper.h:170:83: warning: ignoring attributes on template argument ‘Eigen::internal::packet_traits::type {aka __vector(4) float}’ [-Wignored-attributes]
bool Stop = Size==Dynamic || (Size%unpacket_traits::size)==0 || is_same::half>::value>
~~~~~~~~~~~~~~~~~~~~~~~~~~~~~~~~~~~~~~~~~~~~~~~~~~~~~~~~~~~~~^~~~~~~~~~~~~~~~~~~~~~~~~~~~~~~~~~~~~~~~~~~~~~~~~~~~~~~~~~~~~~~~~
/home/biocbuild/bbs-3.9-bioc/R/library/RcppEigen/include/Eigen/src/Core/util/XprHelper.h:170:83: warning: ignoring attributes on template argument ‘Eigen::internal::packet_traits::type {aka __vector(4) float}’ [-Wignored-attributes]
/home/biocbuild/bbs-3.9-bioc/R/library/RcppEigen/include/Eigen/src/Core/util/XprHelper.h:170:83: warning: ignoring attributes on template argument ‘Eigen::internal::unpacket_traits<__vector(4) float>::half {aka __vector(4) float}’ [-Wignored-attributes]
/home/biocbuild/bbs-3.9-bioc/R/library/RcppEigen/include/Eigen/src/Core/util/XprHelper.h:188:88: warning: ignoring attributes on template argument ‘Eigen::internal::packet_traits::type {aka __vector(4) float}’ [-Wignored-attributes]
typedef typename find_best_packet_helper::type>::type type;
^~~~
In file included from /home/biocbuild/bbs-3.9-bioc/R/library/RcppEigen/include/Eigen/Core:434:0,
from /home/biocbuild/bbs-3.9-bioc/R/library/RcppEigen/include/Eigen/Dense:1,
from /home/biocbuild/bbs-3.9-bioc/R/library/RcppEigen/include/RcppEigenForward.h:30,
from /home/biocbuild/bbs-3.9-bioc/R/library/RcppEigen/include/RcppEigen.h:25,
from /home/biocbuild/bbs-3.9-bioc/R/library/rstan/include/rstan/stan_fit.hpp:22,
from /home/biocbuild/bbs-3.9-bioc/R/library/rstan/include/rstan/rstaninc.hpp:3,
from stan_files/mmlm_code.hpp:18,
from stan_files/mmlm_code.cc:3:
/home/biocbuild/bbs-3.9-bioc/R/library/RcppEigen/include/Eigen/src/Core/DenseCoeffsBase.h: In instantiation of ‘class Eigen::DenseCoeffsBase, 0>’:
/home/biocbuild/bbs-3.9-bioc/R/library/RcppEigen/include/Eigen/src/Core/DenseCoeffsBase.h:300:7: required from ‘class Eigen::DenseCoeffsBase, 1>’
/home/biocbuild/bbs-3.9-bioc/R/library/RcppEigen/include/Eigen/src/Core/DenseCoeffsBase.h:551:7: required from ‘class Eigen::DenseCoeffsBase, 3>’
/home/biocbuild/bbs-3.9-bioc/R/library/RcppEigen/include/Eigen/src/Core/DenseBase.h:41:34: required from ‘class Eigen::DenseBase >’
/home/biocbuild/bbs-3.9-bioc/R/library/RcppEigen/include/Eigen/src/Core/MatrixBase.h:48:34: required from ‘class Eigen::MatrixBase >’
/home/biocbuild/bbs-3.9-bioc/R/library/RcppEigen/include/Eigen/src/Core/PlainObjectBase.h:98:7: required from ‘class Eigen::PlainObjectBase >’
/home/biocbuild/bbs-3.9-bioc/R/library/RcppEigen/include/Eigen/src/Core/Matrix.h:178:7: required from ‘class Eigen::Matrix’
/home/biocbuild/bbs-3.9-bioc/R/library/RcppEigen/include/Eigen/src/Geometry/Quaternion.h:46:50: required from ‘class Eigen::QuaternionBase >’
/home/biocbuild/bbs-3.9-bioc/R/library/RcppEigen/include/Eigen/src/Geometry/Quaternion.h:232:7: required from ‘class Eigen::Quaternion’
/home/biocbuild/bbs-3.9-bioc/R/library/RcppEigen/include/Eigen/src/Geometry/arch/Geometry_SSE.h:27:3: required from here
/home/biocbuild/bbs-3.9-bioc/R/library/RcppEigen/include/Eigen/src/Core/DenseCoeffsBase.h:55:30: warning: ignoring attributes on template argument ‘Eigen::internal::packet_traits::type {aka __vector(4) float}’ [-Wignored-attributes]
>::type PacketReturnType;
^~~~~~~~~~~~~~~~
In file included from /home/biocbuild/bbs-3.9-bioc/R/library/RcppEigen/include/Eigen/Core:367:0,
from /home/biocbuild/bbs-3.9-bioc/R/library/RcppEigen/include/Eigen/Dense:1,
from /home/biocbuild/bbs-3.9-bioc/R/library/RcppEigen/include/RcppEigenForward.h:30,
from /home/biocbuild/bbs-3.9-bioc/R/library/RcppEigen/include/RcppEigen.h:25,
from /home/biocbuild/bbs-3.9-bioc/R/library/rstan/include/rstan/stan_fit.hpp:22,
from /home/biocbuild/bbs-3.9-bioc/R/library/rstan/include/rstan/rstaninc.hpp:3,
from stan_files/mmlm_code.hpp:18,
from stan_files/mmlm_code.cc:3:
/home/biocbuild/bbs-3.9-bioc/R/library/RcppEigen/include/Eigen/src/Core/util/XprHelper.h: In instantiation of ‘struct Eigen::internal::find_best_packet’:
/home/biocbuild/bbs-3.9-bioc/R/library/RcppEigen/include/Eigen/src/Core/Matrix.h:22:57: required from ‘struct Eigen::internal::traits >’
/home/biocbuild/bbs-3.9-bioc/R/library/RcppEigen/include/Eigen/src/Geometry/Quaternion.h:224:7: required from ‘struct Eigen::internal::traits >’
/home/biocbuild/bbs-3.9-bioc/R/library/RcppEigen/include/Eigen/src/Geometry/arch/Geometry_SSE.h:88:47: required from here
/home/biocbuild/bbs-3.9-bioc/R/library/RcppEigen/include/Eigen/src/Core/util/XprHelper.h:170:44: warning: ignoring attributes on template argument ‘Eigen::internal::packet_traits::type {aka __vector(2) double}’ [-Wignored-attributes]
bool Stop = Size==Dynamic || (Size%unpacket_traits::size)==0 || is_same::half>::value>
~~~~~^~~~~~~~~~~~~~~~~~~~~~~~~~~~~~~~~~~
/home/biocbuild/bbs-3.9-bioc/R/library/RcppEigen/include/Eigen/src/Core/util/XprHelper.h:170:83: warning: ignoring attributes on template argument ‘Eigen::internal::packet_traits::type {aka __vector(2) double}’ [-Wignored-attributes]
bool Stop = Size==Dynamic || (Size%unpacket_traits::size)==0 || is_same::half>::value>
~~~~~~~~~~~~~~~~~~~~~~~~~~~~~~~~~~~~~~~~~~~~~~~~~~~~~~~~~~~~~^~~~~~~~~~~~~~~~~~~~~~~~~~~~~~~~~~~~~~~~~~~~~~~~~~~~~~~~~~~~~~~~~
/home/biocbuild/bbs-3.9-bioc/R/library/RcppEigen/include/Eigen/src/Core/util/XprHelper.h:170:83: warning: ignoring attributes on template argument ‘Eigen::internal::packet_traits::type {aka __vector(2) double}’ [-Wignored-attributes]
/home/biocbuild/bbs-3.9-bioc/R/library/RcppEigen/include/Eigen/src/Core/util/XprHelper.h:170:83: warning: ignoring attributes on template argument ‘Eigen::internal::unpacket_traits<__vector(2) double>::half {aka __vector(2) double}’ [-Wignored-attributes]
/home/biocbuild/bbs-3.9-bioc/R/library/RcppEigen/include/Eigen/src/Core/util/XprHelper.h:188:88: warning: ignoring attributes on template argument ‘Eigen::internal::packet_traits::type {aka __vector(2) double}’ [-Wignored-attributes]
typedef typename find_best_packet_helper::type>::type type;
^~~~
In file included from /home/biocbuild/bbs-3.9-bioc/R/library/RcppEigen/include/Eigen/Core:434:0,
from /home/biocbuild/bbs-3.9-bioc/R/library/RcppEigen/include/Eigen/Dense:1,
from /home/biocbuild/bbs-3.9-bioc/R/library/RcppEigen/include/RcppEigenForward.h:30,
from /home/biocbuild/bbs-3.9-bioc/R/library/RcppEigen/include/RcppEigen.h:25,
from /home/biocbuild/bbs-3.9-bioc/R/library/rstan/include/rstan/stan_fit.hpp:22,
from /home/biocbuild/bbs-3.9-bioc/R/library/rstan/include/rstan/rstaninc.hpp:3,
from stan_files/mmlm_code.hpp:18,
from stan_files/mmlm_code.cc:3:
/home/biocbuild/bbs-3.9-bioc/R/library/RcppEigen/include/Eigen/src/Core/DenseCoeffsBase.h: In instantiation of ‘class Eigen::DenseCoeffsBase, 0>’:
/home/biocbuild/bbs-3.9-bioc/R/library/RcppEigen/include/Eigen/src/Core/DenseCoeffsBase.h:300:7: required from ‘class Eigen::DenseCoeffsBase, 1>’
/home/biocbuild/bbs-3.9-bioc/R/library/RcppEigen/include/Eigen/src/Core/DenseCoeffsBase.h:551:7: required from ‘class Eigen::DenseCoeffsBase, 3>’
/home/biocbuild/bbs-3.9-bioc/R/library/RcppEigen/include/Eigen/src/Core/DenseBase.h:41:34: required from ‘class Eigen::DenseBase >’
/home/biocbuild/bbs-3.9-bioc/R/library/RcppEigen/include/Eigen/src/Core/MatrixBase.h:48:34: required from ‘class Eigen::MatrixBase >’
/home/biocbuild/bbs-3.9-bioc/R/library/RcppEigen/include/Eigen/src/Core/PlainObjectBase.h:98:7: required from ‘class Eigen::PlainObjectBase >’
/home/biocbuild/bbs-3.9-bioc/R/library/RcppEigen/include/Eigen/src/Core/Matrix.h:178:7: required from ‘class Eigen::Matrix’
/home/biocbuild/bbs-3.9-bioc/R/library/RcppEigen/include/Eigen/src/Geometry/Quaternion.h:46:50: required from ‘class Eigen::QuaternionBase >’
/home/biocbuild/bbs-3.9-bioc/R/library/RcppEigen/include/Eigen/src/Geometry/Quaternion.h:232:7: required from ‘class Eigen::Quaternion’
/home/biocbuild/bbs-3.9-bioc/R/library/RcppEigen/include/Eigen/src/Geometry/arch/Geometry_SSE.h:92:3: required from here
/home/biocbuild/bbs-3.9-bioc/R/library/RcppEigen/include/Eigen/src/Core/DenseCoeffsBase.h:55:30: warning: ignoring attributes on template argument ‘Eigen::internal::packet_traits::type {aka __vector(2) double}’ [-Wignored-attributes]
>::type PacketReturnType;
^~~~~~~~~~~~~~~~
In file included from /home/biocbuild/bbs-3.9-bioc/R/library/RcppEigen/include/Eigen/SparseCore:37:0,
from /home/biocbuild/bbs-3.9-bioc/R/library/RcppEigen/include/Eigen/Sparse:26,
from /home/biocbuild/bbs-3.9-bioc/R/library/RcppEigen/include/RcppEigenForward.h:31,
from /home/biocbuild/bbs-3.9-bioc/R/library/RcppEigen/include/RcppEigen.h:25,
from /home/biocbuild/bbs-3.9-bioc/R/library/rstan/include/rstan/stan_fit.hpp:22,
from /home/biocbuild/bbs-3.9-bioc/R/library/rstan/include/rstan/rstaninc.hpp:3,
from stan_files/mmlm_code.hpp:18,
from stan_files/mmlm_code.cc:3:
/home/biocbuild/bbs-3.9-bioc/R/library/RcppEigen/include/Eigen/src/SparseCore/SparseMatrixBase.h: In instantiation of ‘class Eigen::SparseMatrixBase >’:
/home/biocbuild/bbs-3.9-bioc/R/library/RcppEigen/include/Eigen/src/SparseCore/SparseCompressedBase.h:36:7: required from ‘class Eigen::SparseCompressedBase >’
/home/biocbuild/bbs-3.9-bioc/R/library/RcppEigen/include/Eigen/src/SparseCore/SparseMatrix.h:96:7: required from ‘class Eigen::SparseMatrix’
/home/biocbuild/bbs-3.9-bioc/R/library/RcppEigen/include/unsupported/Eigen/src/IterativeSolvers/ConstrainedConjGrad.h:61:25: required from here
/home/biocbuild/bbs-3.9-bioc/R/library/RcppEigen/include/Eigen/src/SparseCore/SparseMatrixBase.h:47:30: warning: ignoring attributes on template argument ‘Eigen::internal::packet_traits::type {aka __vector(2) double}’ [-Wignored-attributes]
>::type PacketReturnType;
^~~~~~~~~~~~~~~~
In file included from /home/biocbuild/bbs-3.9-bioc/R/library/RcppEigen/include/Eigen/Core:367:0,
from /home/biocbuild/bbs-3.9-bioc/R/library/RcppEigen/include/Eigen/Dense:1,
from /home/biocbuild/bbs-3.9-bioc/R/library/RcppEigen/include/RcppEigenForward.h:30,
from /home/biocbuild/bbs-3.9-bioc/R/library/RcppEigen/include/RcppEigen.h:25,
from /home/biocbuild/bbs-3.9-bioc/R/library/rstan/include/rstan/stan_fit.hpp:22,
from /home/biocbuild/bbs-3.9-bioc/R/library/rstan/include/rstan/rstaninc.hpp:3,
from stan_files/mmlm_code.hpp:18,
from stan_files/mmlm_code.cc:3:
/home/biocbuild/bbs-3.9-bioc/R/library/RcppEigen/include/Eigen/src/Core/util/XprHelper.h: In instantiation of ‘struct Eigen::internal::find_best_packet’:
/home/biocbuild/bbs-3.9-bioc/R/library/RcppEigen/include/Eigen/src/Core/Matrix.h:22:57: required from ‘struct Eigen::internal::traits >’
/home/biocbuild/bbs-3.9-bioc/R/library/RcppEigen/include/Eigen/src/Core/PlainObjectBase.h:98:7: required from ‘class Eigen::PlainObjectBase >’
/home/biocbuild/bbs-3.9-bioc/R/library/RcppEigen/include/Eigen/src/Core/Matrix.h:178:7: required from ‘class Eigen::Matrix’
/home/biocbuild/bbs-3.9-bioc/R/library/RcppEigen/include/unsupported/Eigen/src/KroneckerProduct/KroneckerTensorProduct.h:168:29: required from here
/home/biocbuild/bbs-3.9-bioc/R/library/RcppEigen/include/Eigen/src/Core/util/XprHelper.h:170:44: warning: ignoring attributes on template argument ‘Eigen::internal::packet_traits::type {aka __vector(2) long long int}’ [-Wignored-attributes]
bool Stop = Size==Dynamic || (Size%unpacket_traits::size)==0 || is_same::half>::value>
~~~~~^~~~~~~~~~~~~~~~~~~~~~~~~~~~~~~~~~~
/home/biocbuild/bbs-3.9-bioc/R/library/RcppEigen/include/Eigen/src/Core/util/XprHelper.h:170:83: warning: ignoring attributes on template argument ‘Eigen::internal::packet_traits::type {aka __vector(2) long long int}’ [-Wignored-attributes]
bool Stop = Size==Dynamic || (Size%unpacket_traits::size)==0 || is_same::half>::value>
~~~~~~~~~~~~~~~~~~~~~~~~~~~~~~~~~~~~~~~~~~~~~~~~~~~~~~~~~~~~~^~~~~~~~~~~~~~~~~~~~~~~~~~~~~~~~~~~~~~~~~~~~~~~~~~~~~~~~~~~~~~~~~
/home/biocbuild/bbs-3.9-bioc/R/library/RcppEigen/include/Eigen/src/Core/util/XprHelper.h:170:83: warning: ignoring attributes on template argument ‘Eigen::internal::packet_traits::type {aka __vector(2) long long int}’ [-Wignored-attributes]
/home/biocbuild/bbs-3.9-bioc/R/library/RcppEigen/include/Eigen/src/Core/util/XprHelper.h:170:83: warning: ignoring attributes on template argument ‘Eigen::internal::unpacket_traits<__vector(2) long long int>::half {aka __vector(2) long long int}’ [-Wignored-attributes]
/home/biocbuild/bbs-3.9-bioc/R/library/RcppEigen/include/Eigen/src/Core/util/XprHelper.h:188:88: warning: ignoring attributes on template argument ‘Eigen::internal::packet_traits::type {aka __vector(2) long long int}’ [-Wignored-attributes]
typedef typename find_best_packet_helper::type>::type type;
^~~~
In file included from /home/biocbuild/bbs-3.9-bioc/R/library/RcppEigen/include/Eigen/Core:434:0,
from /home/biocbuild/bbs-3.9-bioc/R/library/RcppEigen/include/Eigen/Dense:1,
from /home/biocbuild/bbs-3.9-bioc/R/library/RcppEigen/include/RcppEigenForward.h:30,
from /home/biocbuild/bbs-3.9-bioc/R/library/RcppEigen/include/RcppEigen.h:25,
from /home/biocbuild/bbs-3.9-bioc/R/library/rstan/include/rstan/stan_fit.hpp:22,
from /home/biocbuild/bbs-3.9-bioc/R/library/rstan/include/rstan/rstaninc.hpp:3,
from stan_files/mmlm_code.hpp:18,
from stan_files/mmlm_code.cc:3:
/home/biocbuild/bbs-3.9-bioc/R/library/RcppEigen/include/Eigen/src/Core/DenseCoeffsBase.h: In instantiation of ‘class Eigen::DenseCoeffsBase, 0>’:
/home/biocbuild/bbs-3.9-bioc/R/library/RcppEigen/include/Eigen/src/Core/DenseCoeffsBase.h:300:7: required from ‘class Eigen::DenseCoeffsBase, 1>’
/home/biocbuild/bbs-3.9-bioc/R/library/RcppEigen/include/Eigen/src/Core/DenseCoeffsBase.h:551:7: required from ‘class Eigen::DenseCoeffsBase, 3>’
/home/biocbuild/bbs-3.9-bioc/R/library/RcppEigen/include/Eigen/src/Core/DenseBase.h:41:34: required from ‘class Eigen::DenseBase >’
/home/biocbuild/bbs-3.9-bioc/R/library/RcppEigen/include/Eigen/src/Core/MatrixBase.h:48:34: required from ‘class Eigen::MatrixBase >’
/home/biocbuild/bbs-3.9-bioc/R/library/RcppEigen/include/Eigen/src/Core/PlainObjectBase.h:98:7: required from ‘class Eigen::PlainObjectBase >’
/home/biocbuild/bbs-3.9-bioc/R/library/RcppEigen/include/Eigen/src/Core/Matrix.h:178:7: required from ‘class Eigen::Matrix’
/home/biocbuild/bbs-3.9-bioc/R/library/RcppEigen/include/unsupported/Eigen/src/KroneckerProduct/KroneckerTensorProduct.h:168:29: required from here
/home/biocbuild/bbs-3.9-bioc/R/library/RcppEigen/include/Eigen/src/Core/DenseCoeffsBase.h:55:30: warning: ignoring attributes on template argument ‘Eigen::internal::packet_traits::type {aka __vector(2) long long int}’ [-Wignored-attributes]
>::type PacketReturnType;
^~~~~~~~~~~~~~~~
/home/biocbuild/bbs-3.9-bioc/R/library/RcppEigen/include/Eigen/src/Core/DenseCoeffsBase.h: In instantiation of ‘class Eigen::DenseCoeffsBase >, 0>’:
/home/biocbuild/bbs-3.9-bioc/R/library/RcppEigen/include/Eigen/src/Core/DenseCoeffsBase.h:300:7: required from ‘class Eigen::DenseCoeffsBase >, 1>’
/home/biocbuild/bbs-3.9-bioc/R/library/RcppEigen/include/Eigen/src/Core/DenseCoeffsBase.h:551:7: required from ‘class Eigen::DenseCoeffsBase >, 3>’
/home/biocbuild/bbs-3.9-bioc/R/library/RcppEigen/include/Eigen/src/Core/DenseBase.h:41:34: required from ‘class Eigen::DenseBase > >’
/home/biocbuild/bbs-3.9-bioc/R/library/RcppEigen/include/Eigen/src/Core/MatrixBase.h:48:34: required from ‘class Eigen::MatrixBase > >’
/home/biocbuild/bbs-3.9-bioc/R/library/RcppEigen/include/Eigen/src/Core/Transpose.h:115:37: required from ‘class Eigen::TransposeImpl, Eigen::Dense>’
/home/biocbuild/bbs-3.9-bioc/R/library/RcppEigen/include/Eigen/src/Core/Transpose.h:52:37: required from ‘class Eigen::Transpose >’
/home/biocbuild/bbs-3.9-bioc/R/library/RcppEigen/include/unsupported/Eigen/src/KroneckerProduct/KroneckerTensorProduct.h:178:72: required from here
/home/biocbuild/bbs-3.9-bioc/R/library/RcppEigen/include/Eigen/src/Core/DenseCoeffsBase.h:55:30: warning: ignoring attributes on template argument ‘Eigen::internal::packet_traits::type {aka __vector(2) long long int}’ [-Wignored-attributes]
/home/biocbuild/bbs-3.9-bioc/R/library/RcppEigen/include/Eigen/src/Core/DenseCoeffsBase.h: In instantiation of ‘class Eigen::DenseCoeffsBase, 0>’:
/home/biocbuild/bbs-3.9-bioc/R/library/RcppEigen/include/Eigen/src/Core/DenseCoeffsBase.h:300:7: required from ‘class Eigen::DenseCoeffsBase, 1>’
/home/biocbuild/bbs-3.9-bioc/R/library/RcppEigen/include/Eigen/src/Core/DenseCoeffsBase.h:551:7: required from ‘class Eigen::DenseCoeffsBase, 3>’
/home/biocbuild/bbs-3.9-bioc/R/library/RcppEigen/include/Eigen/src/Core/DenseBase.h:41:34: required from ‘class Eigen::DenseBase >’
/home/biocbuild/bbs-3.9-bioc/R/library/RcppEigen/include/Eigen/src/Core/MatrixBase.h:48:34: required from ‘class Eigen::MatrixBase >’
/home/biocbuild/bbs-3.9-bioc/R/library/RcppEigen/include/Eigen/src/Core/PlainObjectBase.h:98:7: required from ‘class Eigen::PlainObjectBase >’
/home/biocbuild/bbs-3.9-bioc/R/library/RcppEigen/include/Eigen/src/Core/Matrix.h:178:7: required from ‘class Eigen::Matrix’
/home/biocbuild/bbs-3.9-bioc/R/library/RcppEigen/include/unsupported/Eigen/src/KroneckerProduct/KroneckerTensorProduct.h:179:36: required from here
/home/biocbuild/bbs-3.9-bioc/R/library/RcppEigen/include/Eigen/src/Core/DenseCoeffsBase.h:55:30: warning: ignoring attributes on template argument ‘Eigen::internal::packet_traits::type {aka __vector(2) long long int}’ [-Wignored-attributes]
In file included from /home/biocbuild/bbs-3.9-bioc/R/library/RcppEigen/include/Eigen/Core:367:0,
from /home/biocbuild/bbs-3.9-bioc/R/library/RcppEigen/include/Eigen/Dense:1,
from /home/biocbuild/bbs-3.9-bioc/R/library/RcppEigen/include/RcppEigenForward.h:30,
from /home/biocbuild/bbs-3.9-bioc/R/library/RcppEigen/include/RcppEigen.h:25,
from /home/biocbuild/bbs-3.9-bioc/R/library/rstan/include/rstan/stan_fit.hpp:22,
from /home/biocbuild/bbs-3.9-bioc/R/library/rstan/include/rstan/rstaninc.hpp:3,
from stan_files/mmlm_code.hpp:18,
from stan_files/mmlm_code.cc:3:
/home/biocbuild/bbs-3.9-bioc/R/library/RcppEigen/include/Eigen/src/Core/util/XprHelper.h: In instantiation of ‘struct Eigen::internal::find_best_packet’:
/home/biocbuild/bbs-3.9-bioc/R/library/RcppEigen/include/Eigen/src/Core/Matrix.h:22:57: required from ‘struct Eigen::internal::traits >’
/home/biocbuild/bbs-3.9-bioc/R/library/RcppEigen/include/Eigen/src/Core/PlainObjectBase.h:98:7: required from ‘class Eigen::PlainObjectBase >’
/home/biocbuild/bbs-3.9-bioc/R/library/RcppEigen/include/Eigen/src/Core/Matrix.h:178:7: required from ‘class Eigen::Matrix’
/home/biocbuild/bbs-3.9-bioc/R/library/StanHeaders/include/stan/math/rev/mat/fun/typedefs.hpp:10:62: required from here
/home/biocbuild/bbs-3.9-bioc/R/library/RcppEigen/include/Eigen/src/Core/util/XprHelper.h:170:44: warning: ignoring attributes on template argument ‘Eigen::internal::packet_traits::type {aka __vector(2) double}’ [-Wignored-attributes]
bool Stop = Size==Dynamic || (Size%unpacket_traits::size)==0 || is_same::half>::value>
~~~~~^~~~~~~~~~~~~~~~~~~~~~~~~~~~~~~~~~~
/home/biocbuild/bbs-3.9-bioc/R/library/RcppEigen/include/Eigen/src/Core/util/XprHelper.h:170:83: warning: ignoring attributes on template argument ‘Eigen::internal::packet_traits::type {aka __vector(2) double}’ [-Wignored-attributes]
bool Stop = Size==Dynamic || (Size%unpacket_traits::size)==0 || is_same::half>::value>
~~~~~~~~~~~~~~~~~~~~~~~~~~~~~~~~~~~~~~~~~~~~~~~~~~~~~~~~~~~~~^~~~~~~~~~~~~~~~~~~~~~~~~~~~~~~~~~~~~~~~~~~~~~~~~~~~~~~~~~~~~~~~~
/home/biocbuild/bbs-3.9-bioc/R/library/RcppEigen/include/Eigen/src/Core/util/XprHelper.h:170:83: warning: ignoring attributes on template argument ‘Eigen::internal::packet_traits::type {aka __vector(2) double}’ [-Wignored-attributes]
/home/biocbuild/bbs-3.9-bioc/R/library/RcppEigen/include/Eigen/src/Core/util/XprHelper.h:170:83: warning: ignoring attributes on template argument ‘Eigen::internal::unpacket_traits<__vector(2) double>::half {aka __vector(2) double}’ [-Wignored-attributes]
/home/biocbuild/bbs-3.9-bioc/R/library/RcppEigen/include/Eigen/src/Core/util/XprHelper.h:188:88: warning: ignoring attributes on template argument ‘Eigen::internal::packet_traits::type {aka __vector(2) double}’ [-Wignored-attributes]
typedef typename find_best_packet_helper::type>::type type;
^~~~
In file included from /home/biocbuild/bbs-3.9-bioc/R/library/RcppEigen/include/Eigen/Core:434:0,
from /home/biocbuild/bbs-3.9-bioc/R/library/RcppEigen/include/Eigen/Dense:1,
from /home/biocbuild/bbs-3.9-bioc/R/library/RcppEigen/include/RcppEigenForward.h:30,
from /home/biocbuild/bbs-3.9-bioc/R/library/RcppEigen/include/RcppEigen.h:25,
from /home/biocbuild/bbs-3.9-bioc/R/library/rstan/include/rstan/stan_fit.hpp:22,
from /home/biocbuild/bbs-3.9-bioc/R/library/rstan/include/rstan/rstaninc.hpp:3,
from stan_files/mmlm_code.hpp:18,
from stan_files/mmlm_code.cc:3:
/home/biocbuild/bbs-3.9-bioc/R/library/RcppEigen/include/Eigen/src/Core/DenseCoeffsBase.h: In instantiation of ‘class Eigen::DenseCoeffsBase, 0>’:
/home/biocbuild/bbs-3.9-bioc/R/library/RcppEigen/include/Eigen/src/Core/DenseCoeffsBase.h:300:7: required from ‘class Eigen::DenseCoeffsBase, 1>’
/home/biocbuild/bbs-3.9-bioc/R/library/RcppEigen/include/Eigen/src/Core/DenseCoeffsBase.h:551:7: required from ‘class Eigen::DenseCoeffsBase, 3>’
/home/biocbuild/bbs-3.9-bioc/R/library/RcppEigen/include/Eigen/src/Core/DenseBase.h:41:34: required from ‘class Eigen::DenseBase >’
/home/biocbuild/bbs-3.9-bioc/R/library/RcppEigen/include/Eigen/src/Core/MatrixBase.h:48:34: required from ‘class Eigen::MatrixBase >’
/home/biocbuild/bbs-3.9-bioc/R/library/RcppEigen/include/Eigen/src/Core/PlainObjectBase.h:98:7: required from ‘class Eigen::PlainObjectBase >’
/home/biocbuild/bbs-3.9-bioc/R/library/RcppEigen/include/Eigen/src/Core/Matrix.h:178:7: required from ‘class Eigen::Matrix’
/home/biocbuild/bbs-3.9-bioc/R/library/StanHeaders/include/stan/math/rev/mat/fun/typedefs.hpp:10:62: required from here
/home/biocbuild/bbs-3.9-bioc/R/library/RcppEigen/include/Eigen/src/Core/DenseCoeffsBase.h:55:30: warning: ignoring attributes on template argument ‘Eigen::internal::packet_traits::type {aka __vector(2) double}’ [-Wignored-attributes]
>::type PacketReturnType;
^~~~~~~~~~~~~~~~
/home/biocbuild/bbs-3.9-bioc/R/library/RcppEigen/include/Eigen/src/Core/DenseCoeffsBase.h: In instantiation of ‘class Eigen::DenseCoeffsBase, 0>’:
/home/biocbuild/bbs-3.9-bioc/R/library/RcppEigen/include/Eigen/src/Core/DenseCoeffsBase.h:300:7: required from ‘class Eigen::DenseCoeffsBase, 1>’
/home/biocbuild/bbs-3.9-bioc/R/library/RcppEigen/include/Eigen/src/Core/DenseCoeffsBase.h:551:7: required from ‘class Eigen::DenseCoeffsBase, 3>’
/home/biocbuild/bbs-3.9-bioc/R/library/RcppEigen/include/Eigen/src/Core/DenseBase.h:41:34: required from ‘class Eigen::DenseBase >’
/home/biocbuild/bbs-3.9-bioc/R/library/RcppEigen/include/Eigen/src/Core/MatrixBase.h:48:34: required from ‘class Eigen::MatrixBase >’
/home/biocbuild/bbs-3.9-bioc/R/library/RcppEigen/include/Eigen/src/Core/PlainObjectBase.h:98:7: required from ‘class Eigen::PlainObjectBase >’
/home/biocbuild/bbs-3.9-bioc/R/library/RcppEigen/include/Eigen/src/Core/Matrix.h:178:7: required from ‘class Eigen::Matrix’
/home/biocbuild/bbs-3.9-bioc/R/library/StanHeaders/include/stan/math/rev/mat/meta/operands_and_partials.hpp:20:14: required from here
/home/biocbuild/bbs-3.9-bioc/R/library/RcppEigen/include/Eigen/src/Core/DenseCoeffsBase.h:55:30: warning: ignoring attributes on template argument ‘Eigen::internal::packet_traits::type {aka __vector(2) double}’ [-Wignored-attributes]
/home/biocbuild/bbs-3.9-bioc/R/library/RcppEigen/include/Eigen/src/Core/DenseCoeffsBase.h: In instantiation of ‘class Eigen::DenseCoeffsBase, Eigen::Matrix >, 0>’:
/home/biocbuild/bbs-3.9-bioc/R/library/RcppEigen/include/Eigen/src/Core/DenseBase.h:41:34: required from ‘class Eigen::DenseBase, Eigen::Matrix > >’
/home/biocbuild/bbs-3.9-bioc/R/library/RcppEigen/include/Eigen/src/Core/MatrixBase.h:48:34: required from ‘class Eigen::MatrixBase, Eigen::Matrix > >’
/home/biocbuild/bbs-3.9-bioc/R/library/RcppEigen/include/Eigen/src/Core/CwiseNullaryOp.h:60:7: required from ‘class Eigen::CwiseNullaryOp, Eigen::Matrix >’
/home/biocbuild/bbs-3.9-bioc/R/library/StanHeaders/include/stan/math/rev/mat/meta/operands_and_partials.hpp:23:45: required from here
/home/biocbuild/bbs-3.9-bioc/R/library/RcppEigen/include/Eigen/src/Core/DenseCoeffsBase.h:55:30: warning: ignoring attributes on template argument ‘Eigen::internal::packet_traits::type {aka __vector(2) double}’ [-Wignored-attributes]
/home/biocbuild/bbs-3.9-bioc/R/library/RcppEigen/include/Eigen/src/Core/DenseCoeffsBase.h: In instantiation of ‘class Eigen::DenseCoeffsBase, 0>, 0>’:
/home/biocbuild/bbs-3.9-bioc/R/library/RcppEigen/include/Eigen/src/Core/DenseCoeffsBase.h:478:7: required from ‘class Eigen::DenseCoeffsBase, 0>, 2>’
/home/biocbuild/bbs-3.9-bioc/R/library/RcppEigen/include/Eigen/src/Core/DenseBase.h:41:34: required from ‘class Eigen::DenseBase, 0> >’
/home/biocbuild/bbs-3.9-bioc/R/library/RcppEigen/include/Eigen/src/Core/MatrixBase.h:48:34: required from ‘class Eigen::MatrixBase, 0> >’
/home/biocbuild/bbs-3.9-bioc/R/library/RcppEigen/include/Eigen/src/Core/Diagonal.h:63:53: required from ‘class Eigen::Diagonal, 0>’
/home/biocbuild/bbs-3.9-bioc/R/library/StanHeaders/include/stan/math/prim/mat/err/check_pos_definite.hpp:40:29: required from here
/home/biocbuild/bbs-3.9-bioc/R/library/RcppEigen/include/Eigen/src/Core/DenseCoeffsBase.h:55:30: warning: ignoring attributes on template argument ‘Eigen::internal::packet_traits::type {aka __vector(2) double}’ [-Wignored-attributes]
/home/biocbuild/bbs-3.9-bioc/R/library/RcppEigen/include/Eigen/src/Core/DenseCoeffsBase.h: In instantiation of ‘class Eigen::DenseCoeffsBase, 0> >, 0>’:
/home/biocbuild/bbs-3.9-bioc/R/library/RcppEigen/include/Eigen/src/Core/DenseCoeffsBase.h:478:7: required from ‘class Eigen::DenseCoeffsBase, 0> >, 2>’
/home/biocbuild/bbs-3.9-bioc/R/library/RcppEigen/include/Eigen/src/Core/DenseBase.h:41:34: required from ‘class Eigen::DenseBase, 0> > >’
/home/biocbuild/bbs-3.9-bioc/R/library/RcppEigen/include/Eigen/src/Core/ArrayBase.h:39:34: required from ‘class Eigen::ArrayBase, 0> > >’
/home/biocbuild/bbs-3.9-bioc/R/library/RcppEigen/include/Eigen/src/Core/ArrayWrapper.h:42:7: required from ‘class Eigen::ArrayWrapper, 0> >’
/home/biocbuild/bbs-3.9-bioc/R/library/StanHeaders/include/stan/math/prim/mat/err/check_pos_definite.hpp:40:41: required from here
/home/biocbuild/bbs-3.9-bioc/R/library/RcppEigen/include/Eigen/src/Core/DenseCoeffsBase.h:55:30: warning: ignoring attributes on template argument ‘Eigen::internal::packet_traits::type {aka __vector(2) double}’ [-Wignored-attributes]
/home/biocbuild/bbs-3.9-bioc/R/library/RcppEigen/include/Eigen/src/Core/DenseCoeffsBase.h: In instantiation of ‘class Eigen::DenseCoeffsBase, Eigen::Array >, 0>’:
/home/biocbuild/bbs-3.9-bioc/R/library/RcppEigen/include/Eigen/src/Core/DenseBase.h:41:34: required from ‘class Eigen::DenseBase, Eigen::Array > >’
/home/biocbuild/bbs-3.9-bioc/R/library/RcppEigen/include/Eigen/src/Core/ArrayBase.h:39:34: required from ‘class Eigen::ArrayBase, Eigen::Array > >’
/home/biocbuild/bbs-3.9-bioc/R/library/RcppEigen/include/Eigen/src/Core/CwiseNullaryOp.h:60:7: required from ‘class Eigen::CwiseNullaryOp, Eigen::Array >’
/home/biocbuild/bbs-3.9-bioc/R/library/RcppEigen/include/Eigen/src/Core/CwiseBinaryOp.h:38:28: required from ‘struct Eigen::internal::traits, const Eigen::ArrayWrapper, 0> >, const Eigen::CwiseNullaryOp, Eigen::Array > > >’
/home/biocbuild/bbs-3.9-bioc/R/library/RcppEigen/include/Eigen/src/Core/CwiseBinaryOp.h:148:7: required from ‘class Eigen::CwiseBinaryOpImpl, const Eigen::ArrayWrapper, 0> >, const Eigen::CwiseNullaryOp, Eigen::Array >, Eigen::Dense>’
/home/biocbuild/bbs-3.9-bioc/R/library/RcppEigen/include/Eigen/src/Core/CwiseBinaryOp.h:77:7: required from ‘class Eigen::CwiseBinaryOp, const Eigen::ArrayWrapper, 0> >, const Eigen::CwiseNullaryOp, Eigen::Array > >’
/home/biocbuild/bbs-3.9-bioc/R/library/StanHeaders/include/stan/math/prim/mat/err/check_pos_definite.hpp:40:45: required from here
/home/biocbuild/bbs-3.9-bioc/R/library/RcppEigen/include/Eigen/src/Core/DenseCoeffsBase.h:55:30: warning: ignoring attributes on template argument ‘Eigen::internal::packet_traits::type {aka __vector(2) double}’ [-Wignored-attributes]
/home/biocbuild/bbs-3.9-bioc/R/library/RcppEigen/include/Eigen/src/Core/DenseCoeffsBase.h: In instantiation of ‘class Eigen::DenseCoeffsBase >, 0>’:
/home/biocbuild/bbs-3.9-bioc/R/library/RcppEigen/include/Eigen/src/Core/DenseCoeffsBase.h:478:7: required from ‘class Eigen::DenseCoeffsBase >, 2>’
/home/biocbuild/bbs-3.9-bioc/R/library/RcppEigen/include/Eigen/src/Core/DenseBase.h:41:34: required from ‘class Eigen::DenseBase > >’
/home/biocbuild/bbs-3.9-bioc/R/library/RcppEigen/include/Eigen/src/Core/MatrixBase.h:48:34: required from ‘class Eigen::MatrixBase > >’
/home/biocbuild/bbs-3.9-bioc/R/library/RcppEigen/include/Eigen/src/Core/Transpose.h:115:37: required from ‘class Eigen::TransposeImpl, Eigen::Dense>’
/home/biocbuild/bbs-3.9-bioc/R/library/RcppEigen/include/Eigen/src/Core/Transpose.h:52:37: required from ‘class Eigen::Transpose >’
/home/biocbuild/bbs-3.9-bioc/R/library/StanHeaders/include/stan/math/prim/mat/fun/multiply_lower_tri_self_transpose.hpp:29:29: required from here
/home/biocbuild/bbs-3.9-bioc/R/library/RcppEigen/include/Eigen/src/Core/DenseCoeffsBase.h:55:30: warning: ignoring attributes on template argument ‘Eigen::internal::packet_traits::type {aka __vector(2) double}’ [-Wignored-attributes]
/home/biocbuild/bbs-3.9-bioc/R/library/RcppEigen/include/Eigen/src/Core/DenseCoeffsBase.h: In instantiation of ‘class Eigen::DenseCoeffsBase, -1, 1, true>, 0>’:
/home/biocbuild/bbs-3.9-bioc/R/library/RcppEigen/include/Eigen/src/Core/DenseCoeffsBase.h:300:7: required from ‘class Eigen::DenseCoeffsBase, -1, 1, true>, 1>’
/home/biocbuild/bbs-3.9-bioc/R/library/RcppEigen/include/Eigen/src/Core/DenseCoeffsBase.h:551:7: required from ‘class Eigen::DenseCoeffsBase, -1, 1, true>, 3>’
/home/biocbuild/bbs-3.9-bioc/R/library/RcppEigen/include/Eigen/src/Core/DenseBase.h:41:34: required from ‘class Eigen::DenseBase, -1, 1, true> >’
/home/biocbuild/bbs-3.9-bioc/R/library/RcppEigen/include/Eigen/src/Core/MatrixBase.h:48:34: required from ‘class Eigen::MatrixBase, -1, 1, true> >’
/home/biocbuild/bbs-3.9-bioc/R/library/RcppEigen/include/Eigen/src/Core/MapBase.h:37:34: required from ‘class Eigen::MapBase, -1, 1, true>, 0>’
/home/biocbuild/bbs-3.9-bioc/R/library/RcppEigen/include/Eigen/src/Core/MapBase.h:215:34: required from ‘class Eigen::MapBase, -1, 1, true>, 1>’
/home/biocbuild/bbs-3.9-bioc/R/library/RcppEigen/include/Eigen/src/Core/Block.h:329:7: required from ‘class Eigen::internal::BlockImpl_dense, -1, 1, true, true>’
/home/biocbuild/bbs-3.9-bioc/R/library/RcppEigen/include/Eigen/src/Core/Block.h:154:7: required from ‘class Eigen::BlockImpl, -1, 1, true, Eigen::Dense>’
/home/biocbuild/bbs-3.9-bioc/R/library/RcppEigen/include/Eigen/src/Core/Block.h:103:81: required from ‘class Eigen::Block, -1, 1, true>’
/home/biocbuild/bbs-3.9-bioc/R/library/StanHeaders/include/stan/math/prim/mat/fun/multiply_lower_tri_self_transpose.hpp:32:25: required from here
/home/biocbuild/bbs-3.9-bioc/R/library/RcppEigen/include/Eigen/src/Core/DenseCoeffsBase.h:55:30: warning: ignoring attributes on template argument ‘Eigen::internal::packet_traits::type {aka __vector(2) double}’ [-Wignored-attributes]
/home/biocbuild/bbs-3.9-bioc/R/library/RcppEigen/include/Eigen/src/Core/DenseCoeffsBase.h: In instantiation of ‘class Eigen::DenseCoeffsBase, -1, 1, true>, -1, 1, false>, 0>’:
/home/biocbuild/bbs-3.9-bioc/R/library/RcppEigen/include/Eigen/src/Core/DenseCoeffsBase.h:300:7: required from ‘class Eigen::DenseCoeffsBase, -1, 1, true>, -1, 1, false>, 1>’
/home/biocbuild/bbs-3.9-bioc/R/library/RcppEigen/include/Eigen/src/Core/DenseCoeffsBase.h:551:7: required from ‘class Eigen::DenseCoeffsBase, -1, 1, true>, -1, 1, false>, 3>’
/home/biocbuild/bbs-3.9-bioc/R/library/RcppEigen/include/Eigen/src/Core/DenseBase.h:41:34: required from ‘class Eigen::DenseBase, -1, 1, true>, -1, 1, false> >’
/home/biocbuild/bbs-3.9-bioc/R/library/RcppEigen/include/Eigen/src/Core/MatrixBase.h:48:34: required from ‘class Eigen::MatrixBase, -1, 1, true>, -1, 1, false> >’
/home/biocbuild/bbs-3.9-bioc/R/library/RcppEigen/include/Eigen/src/Core/MapBase.h:37:34: required from ‘class Eigen::MapBase, -1, 1, true>, -1, 1, false>, 0>’
/home/biocbuild/bbs-3.9-bioc/R/library/RcppEigen/include/Eigen/src/Core/MapBase.h:215:34: required from ‘class Eigen::MapBase, -1, 1, true>, -1, 1, false>, 1>’
/home/biocbuild/bbs-3.9-bioc/R/library/RcppEigen/include/Eigen/src/Core/Block.h:329:7: required from ‘class Eigen::internal::BlockImpl_dense, -1, 1, true>, -1, 1, false, true>’
/home/biocbuild/bbs-3.9-bioc/R/library/RcppEigen/include/Eigen/src/Core/Block.h:154:7: required from ‘class Eigen::BlockImpl, -1, 1, true>, -1, 1, false, Eigen::Dense>’
/home/biocbuild/bbs-3.9-bioc/R/library/RcppEigen/include/Eigen/src/Core/Block.h:103:81: required from ‘class Eigen::Block, -1, 1, true>, -1, 1, false>’
/home/biocbuild/bbs-3.9-bioc/R/library/RcppEigen/include/Eigen/src/Core/VectorBlock.h:56:47: required from ‘class Eigen::VectorBlock, -1, 1, true>, -1>’
/home/biocbuild/bbs-3.9-bioc/R/library/StanHeaders/include/stan/math/prim/mat/fun/multiply_lower_tri_self_transpose.hpp:32:33: required from here
/home/biocbuild/bbs-3.9-bioc/R/library/RcppEigen/include/Eigen/src/Core/DenseCoeffsBase.h:55:30: warning: ignoring attributes on template argument ‘Eigen::internal::packet_traits::type {aka __vector(2) double}’ [-Wignored-attributes]
/home/biocbuild/bbs-3.9-bioc/R/library/RcppEigen/include/Eigen/src/Core/DenseCoeffsBase.h: In instantiation of ‘class Eigen::DenseCoeffsBase, Eigen::Transpose >, 0>, 0>’:
/home/biocbuild/bbs-3.9-bioc/R/library/RcppEigen/include/Eigen/src/Core/DenseBase.h:41:34: required from ‘class Eigen::DenseBase, Eigen::Transpose >, 0> >’
/home/biocbuild/bbs-3.9-bioc/R/library/RcppEigen/include/Eigen/src/Core/MatrixBase.h:48:34: required from ‘class Eigen::MatrixBase, Eigen::Transpose >, 0> >’
/home/biocbuild/bbs-3.9-bioc/R/library/RcppEigen/include/Eigen/src/Core/Product.h:115:7: required from ‘class Eigen::internal::dense_product_base, Eigen::Transpose >, 0, 8>’
/home/biocbuild/bbs-3.9-bioc/R/library/RcppEigen/include/Eigen/src/Core/Product.h:147:7: required from ‘class Eigen::ProductImpl, Eigen::Transpose >, 0, Eigen::Dense>’
/home/biocbuild/bbs-3.9-bioc/R/library/RcppEigen/include/Eigen/src/Core/Product.h:71:7: required from ‘class Eigen::Product, Eigen::Transpose >, 0>’
/home/biocbuild/bbs-3.9-bioc/R/library/StanHeaders/include/stan/math/prim/mat/fun/tcrossprod.hpp:20:28: required from here
/home/biocbuild/bbs-3.9-bioc/R/library/RcppEigen/include/Eigen/src/Core/DenseCoeffsBase.h:55:30: warning: ignoring attributes on template argument ‘Eigen::internal::packet_traits::type {aka __vector(2) double}’ [-Wignored-attributes]
/home/biocbuild/bbs-3.9-bioc/R/library/RcppEigen/include/Eigen/src/Core/DenseCoeffsBase.h: In instantiation of ‘class Eigen::DenseCoeffsBase, Eigen::internal::member_lpnorm<1, double>, 0>, 0>’:
/home/biocbuild/bbs-3.9-bioc/R/library/RcppEigen/include/Eigen/src/Core/DenseBase.h:41:34: required from ‘class Eigen::DenseBase, Eigen::internal::member_lpnorm<1, double>, 0> >’
/home/biocbuild/bbs-3.9-bioc/R/library/RcppEigen/include/Eigen/src/Core/MatrixBase.h:48:34: required from ‘class Eigen::MatrixBase, Eigen::internal::member_lpnorm<1, double>, 0> >’
/home/biocbuild/bbs-3.9-bioc/R/library/RcppEigen/include/Eigen/src/Core/VectorwiseOp.h:56:7: required from ‘class Eigen::PartialReduxExpr, Eigen::internal::member_lpnorm<1, double>, 0>’
/home/biocbuild/bbs-3.9-bioc/R/library/StanHeaders/include/stan/math/prim/mat/fun/matrix_exp_action_handler.hpp:33:34: required from here
/home/biocbuild/bbs-3.9-bioc/R/library/RcppEigen/include/Eigen/src/Core/DenseCoeffsBase.h:55:30: warning: ignoring attributes on template argument ‘Eigen::internal::packet_traits::type {aka __vector(2) double}’ [-Wignored-attributes]
/home/biocbuild/bbs-3.9-bioc/R/library/RcppEigen/include/Eigen/src/Core/DenseCoeffsBase.h: In instantiation of ‘class Eigen::DenseCoeffsBase, -1, 1, true>, 0>’:
/home/biocbuild/bbs-3.9-bioc/R/library/RcppEigen/include/Eigen/src/Core/DenseCoeffsBase.h:478:7: required from ‘class Eigen::DenseCoeffsBase, -1, 1, true>, 2>’
/home/biocbuild/bbs-3.9-bioc/R/library/RcppEigen/include/Eigen/src/Core/DenseBase.h:41:34: required from ‘class Eigen::DenseBase, -1, 1, true> >’
/home/biocbuild/bbs-3.9-bioc/R/library/RcppEigen/include/Eigen/src/Core/MatrixBase.h:48:34: required from ‘class Eigen::MatrixBase, -1, 1, true> >’
/home/biocbuild/bbs-3.9-bioc/R/library/RcppEigen/include/Eigen/src/Core/MapBase.h:37:34: required from ‘class Eigen::MapBase, -1, 1, true>, 0>’
/home/biocbuild/bbs-3.9-bioc/R/library/RcppEigen/include/Eigen/src/Core/Block.h:329:7: required from ‘class Eigen::internal::BlockImpl_dense, -1, 1, true, true>’
/home/biocbuild/bbs-3.9-bioc/R/library/RcppEigen/include/Eigen/src/Core/Block.h:154:7: required from ‘class Eigen::BlockImpl, -1, 1, true, Eigen::Dense>’
/home/biocbuild/bbs-3.9-bioc/R/library/RcppEigen/include/Eigen/src/Core/Block.h:103:81: required from ‘class Eigen::Block, -1, 1, true>’
/home/biocbuild/bbs-3.9-bioc/R/library/StanHeaders/include/stan/math/prim/mat/fun/matrix_exp_action_handler.hpp:63:36: required from here
/home/biocbuild/bbs-3.9-bioc/R/library/RcppEigen/include/Eigen/src/Core/DenseCoeffsBase.h:55:30: warning: ignoring attributes on template argument ‘Eigen::internal::packet_traits::type {aka __vector(2) double}’ [-Wignored-attributes]
/home/biocbuild/bbs-3.9-bioc/R/library/RcppEigen/include/Eigen/src/Core/DenseCoeffsBase.h: In instantiation of ‘class Eigen::DenseCoeffsBase, const Eigen::Matrix