| Back to Multiple platform build/check report for BioC 3.9 |
|
This page was generated on 2019-10-16 11:56:58 -0400 (Wed, 16 Oct 2019).
| Package 1002/1741 | Hostname | OS / Arch | INSTALL | BUILD | CHECK | BUILD BIN | ||||||
| minet 3.42.0 Patrick E. Meyer
| malbec2 | Linux (Ubuntu 18.04.2 LTS) / x86_64 | [ OK ] | OK | OK | |||||||
| tokay2 | Windows Server 2012 R2 Standard / x64 | OK | OK | OK | OK | |||||||
| celaya2 | OS X 10.11.6 El Capitan / x86_64 | OK | OK | OK | OK |
| Package: minet |
| Version: 3.42.0 |
| Command: /home/biocbuild/bbs-3.9-bioc/R/bin/R CMD INSTALL minet |
| StartedAt: 2019-10-15 18:09:37 -0400 (Tue, 15 Oct 2019) |
| EndedAt: 2019-10-15 18:09:45 -0400 (Tue, 15 Oct 2019) |
| EllapsedTime: 8.2 seconds |
| RetCode: 0 |
| Status: OK |
##############################################################################
##############################################################################
###
### Running command:
###
### /home/biocbuild/bbs-3.9-bioc/R/bin/R CMD INSTALL minet
###
##############################################################################
##############################################################################
* installing to library ‘/home/biocbuild/bbs-3.9-bioc/R/library’
* installing *source* package ‘minet’ ...
** using staged installation
** libs
g++ -std=gnu++11 -I"/home/biocbuild/bbs-3.9-bioc/R/include" -DNDEBUG -I/usr/local/include -fpic -g -O2 -Wall -c aracne.cpp -o aracne.o
g++ -std=gnu++11 -I"/home/biocbuild/bbs-3.9-bioc/R/include" -DNDEBUG -I/usr/local/include -fpic -g -O2 -Wall -c clr.cpp -o clr.o
g++ -std=gnu++11 -I"/home/biocbuild/bbs-3.9-bioc/R/include" -DNDEBUG -I/usr/local/include -fpic -g -O2 -Wall -c minet.cpp -o minet.o
g++ -std=gnu++11 -I"/home/biocbuild/bbs-3.9-bioc/R/include" -DNDEBUG -I/usr/local/include -fpic -g -O2 -Wall -c mrnet.cpp -o mrnet.o
mrnet.cpp: In function ‘SEXPREC* mrnet(SEXP, SEXP)’:
mrnet.cpp:190:34: warning: comparison between signed and unsigned integer expressions [-Wsign-compare]
for( int l=0; l