| Back to Multiple platform build/check report for BioC 3.9 | 
 | 
This page was generated on 2019-10-16 13:00:54 -0400 (Wed, 16 Oct 2019).
| Package 1012/1741 | Hostname | OS / Arch | INSTALL | BUILD | CHECK | BUILD BIN | ||||||
| miRmine 1.6.0 Dusan Randjelovic 
 | malbec2 | Linux (Ubuntu 18.04.2 LTS) / x86_64 | OK | OK | OK |  | ||||||
| tokay2 | Windows Server 2012 R2 Standard / x64 | OK | OK | OK | OK |  | ||||||
| celaya2 | OS X 10.11.6 El Capitan / x86_64 | OK | OK | OK | [ OK ] |  | 
| Package: miRmine | 
| Version: 1.6.0 | 
| Command: rm -rf miRmine.buildbin-libdir && mkdir miRmine.buildbin-libdir && /Users/biocbuild/BBS/utils/build-universal.sh miRmine_1.6.0.tar.gz /Library/Frameworks/R.framework/Versions/Current/Resources/bin/R miRmine.buildbin-libdir | 
| StartedAt: 2019-10-16 08:57:53 -0400 (Wed, 16 Oct 2019) | 
| EndedAt: 2019-10-16 08:58:28 -0400 (Wed, 16 Oct 2019) | 
| EllapsedTime: 34.6 seconds | 
| RetCode: 0 | 
| Status: OK | 
| PackageFile: miRmine_1.6.0.tgz | 
| PackageFileSize: 3.281 MiB | 
############################################################################## ############################################################################## ### ### Running command: ### ### rm -rf miRmine.buildbin-libdir && mkdir miRmine.buildbin-libdir && /Users/biocbuild/BBS/utils/build-universal.sh miRmine_1.6.0.tar.gz /Library/Frameworks/R.framework/Versions/Current/Resources/bin/R miRmine.buildbin-libdir ### ############################################################################## ############################################################################## >>>>>>> >>>>>>> INSTALLATION WITH 'R CMD INSTALL --preclean --no-multiarch --library=miRmine.buildbin-libdir miRmine_1.6.0.tar.gz' >>>>>>> * installing *source* package ‘miRmine’ ... ** using staged installation ** R ** data *** moving datasets to lazyload DB ** inst ** byte-compile and prepare package for lazy loading ** help *** installing help indices ** building package indices ** installing vignettes ** testing if installed package can be loaded from temporary location ** testing if installed package can be loaded from final location ** testing if installed package keeps a record of temporary installation path * DONE (miRmine)