| Back to Multiple platform build/check report for BioC 3.9 |
|
This page was generated on 2019-04-09 13:25:38 -0400 (Tue, 09 Apr 2019).
| Package 977/1703 | Hostname | OS / Arch | INSTALL | BUILD | CHECK | BUILD BIN | ||||||
| mgsa 1.31.0 Sebastian Bauer
| malbec2 | Linux (Ubuntu 18.04.2 LTS) / x86_64 | OK | OK | OK | |||||||
| tokay2 | Windows Server 2012 R2 Standard / x64 | OK | OK | OK | OK | |||||||
| celaya2 | OS X 10.11.6 El Capitan / x86_64 | OK | OK | OK | OK | |||||||
| merida2 | OS X 10.11.6 El Capitan / x86_64 | OK | OK | OK | [ OK ] |
| Package: mgsa |
| Version: 1.31.0 |
| Command: rm -rf mgsa.buildbin-libdir && mkdir mgsa.buildbin-libdir && /Users/biocbuild/BBS/utils/build-universal.sh mgsa_1.31.0.tar.gz /Library/Frameworks/R.framework/Versions/Current/Resources/bin/R mgsa.buildbin-libdir |
| StartedAt: 2019-04-09 05:52:17 -0400 (Tue, 09 Apr 2019) |
| EndedAt: 2019-04-09 05:53:33 -0400 (Tue, 09 Apr 2019) |
| EllapsedTime: 76.1 seconds |
| RetCode: 0 |
| Status: OK |
| PackageFile: mgsa_1.31.0.tgz |
| PackageFileSize: 489.9 KiB |
##############################################################################
##############################################################################
###
### Running command:
###
### rm -rf mgsa.buildbin-libdir && mkdir mgsa.buildbin-libdir && /Users/biocbuild/BBS/utils/build-universal.sh mgsa_1.31.0.tar.gz /Library/Frameworks/R.framework/Versions/Current/Resources/bin/R mgsa.buildbin-libdir
###
##############################################################################
##############################################################################
>>>>>>>
>>>>>>> INSTALLATION WITH 'R CMD INSTALL --preclean --no-multiarch --library=mgsa.buildbin-libdir mgsa_1.31.0.tar.gz'
>>>>>>>
* installing *source* package ‘mgsa’ ...
configure: creating ./config.status
config.status: creating src/Makevars
** libs
clang -I"/Library/Frameworks/R.framework/Resources/include" -DNDEBUG -I/usr/local/include -I. -fopenmp -fPIC -Wall -g -O2 -c mgsa-core.c -o mgsa-core.o
mgsa-core.c:796:13: warning: unused function 'print_context' [-Wunused-function]
static void print_context(struct context *cn)
^
1 warning generated.
clang -I"/Library/Frameworks/R.framework/Resources/include" -DNDEBUG -I/usr/local/include -I. -fopenmp -fPIC -Wall -g -O2 -c mgsa.c -o mgsa.o
clang -I"/Library/Frameworks/R.framework/Resources/include" -DNDEBUG -I/usr/local/include -I. -fopenmp -fPIC -Wall -g -O2 -c mt.c -o mt.o
clang -dynamiclib -Wl,-headerpad_max_install_names -undefined dynamic_lookup -single_module -multiply_defined suppress -L/Library/Frameworks/R.framework/Resources/lib -L/usr/local/lib -o mgsa.so mgsa-core.o mgsa.o mt.o -fopenmp -F/Library/Frameworks/R.framework/.. -framework R -Wl,-framework -Wl,CoreFoundation
installing to /Users/biocbuild/bbs-3.9-bioc/meat/mgsa.buildbin-libdir/mgsa/libs
** R
** data
** inst
** byte-compile and prepare package for lazy loading
** help
*** installing help indices
** building package indices
** installing vignettes
** testing if installed package can be loaded
* DONE (mgsa)
>>>>>>>
>>>>>>> FIXING LINKS FOR mgsa.buildbin-libdir/mgsa/libs//mgsa.so
>>>>>>>
install_name_tool -change "/usr/local/lib/libgcc_s.1.dylib" "/Library/Frameworks/R.framework/Versions/3.6/Resources/lib/libgcc_s.1.dylib" "mgsa.buildbin-libdir/mgsa/libs//mgsa.so"
install_name_tool -change "/usr/local/lib/libgfortran.3.dylib" "/Library/Frameworks/R.framework/Versions/3.6/Resources/lib/libgfortran.3.dylib" "mgsa.buildbin-libdir/mgsa/libs//mgsa.so"
install_name_tool -change "/usr/local/lib/libreadline.5.2.dylib" "/Library/Frameworks/R.framework/Versions/3.6/Resources/lib/libreadline.5.2.dylib" "mgsa.buildbin-libdir/mgsa/libs//mgsa.so"
install_name_tool -change "/usr/local/lib/libreadline.dylib" "/Library/Frameworks/R.framework/Versions/3.6/Resources/lib/libreadline.dylib" "mgsa.buildbin-libdir/mgsa/libs//mgsa.so"
install_name_tool -change "/usr/local/lib/libquadmath.0.dylib" "/Library/Frameworks/R.framework/Versions/3.6/Resources/lib/libquadmath.0.dylib" "mgsa.buildbin-libdir/mgsa/libs//mgsa.so"