| Back to Multiple platform build/check report for BioC 3.9 |
|
This page was generated on 2019-10-16 12:30:43 -0400 (Wed, 16 Oct 2019).
| Package 957/1741 | Hostname | OS / Arch | INSTALL | BUILD | CHECK | BUILD BIN | ||||||
| metabomxtr 1.18.0 Michael Nodzenski
| malbec2 | Linux (Ubuntu 18.04.2 LTS) / x86_64 | OK | OK | OK | |||||||
| tokay2 | Windows Server 2012 R2 Standard / x64 | OK | OK | OK | [ OK ] | |||||||
| celaya2 | OS X 10.11.6 El Capitan / x86_64 | OK | OK | OK | OK |
| Package: metabomxtr |
| Version: 1.18.0 |
| Command: rm -rf metabomxtr.buildbin-libdir && mkdir metabomxtr.buildbin-libdir && C:\Users\biocbuild\bbs-3.9-bioc\R\bin\R.exe CMD INSTALL --merge-multiarch --build --library=metabomxtr.buildbin-libdir metabomxtr_1.18.0.tar.gz |
| StartedAt: 2019-10-16 09:37:42 -0400 (Wed, 16 Oct 2019) |
| EndedAt: 2019-10-16 09:38:33 -0400 (Wed, 16 Oct 2019) |
| EllapsedTime: 50.3 seconds |
| RetCode: 0 |
| Status: OK |
| PackageFile: metabomxtr_1.18.0.zip |
| PackageFileSize: 498 KiB |
##############################################################################
##############################################################################
###
### Running command:
###
### rm -rf metabomxtr.buildbin-libdir && mkdir metabomxtr.buildbin-libdir && C:\Users\biocbuild\bbs-3.9-bioc\R\bin\R.exe CMD INSTALL --merge-multiarch --build --library=metabomxtr.buildbin-libdir metabomxtr_1.18.0.tar.gz
###
##############################################################################
##############################################################################
install for i386
* installing *source* package 'metabomxtr' ...
** using staged installation
** R
** data
** inst
** byte-compile and prepare package for lazy loading
** help
*** installing help indices
converting help for package 'metabomxtr'
finding HTML links ... done
addBatchMeans html
addOutlierInfo html
allMissingLevels html
anyMissingLevels html
euMetabCData html
euMetabData html
idMissingLevels html
metabdata html
metabomxtr-package html
metabplot html
mixnorm html
mxtrmod html
mxtrmodLL html
mxtrmodLRT html
mxtrmodstart html
removeAllMissingCatVar html
removeMissingLevels html
runMxtrmod html
xdesign-methods html
yvals-methods html
zdesign-methods html
** building package indices
** installing vignettes
** testing if installed package can be loaded from temporary location
** testing if installed package can be loaded from final location
** testing if installed package keeps a record of temporary installation path
install for x64
* installing *source* package 'metabomxtr' ...
** testing if installed package can be loaded
* MD5 sums
packaged installation of 'metabomxtr' as metabomxtr_1.18.0.zip
* DONE (metabomxtr)