| Back to Multiple platform build/check report for BioC 3.9 |
|
This page was generated on 2019-10-16 12:34:58 -0400 (Wed, 16 Oct 2019).
| Package 959/1741 | Hostname | OS / Arch | INSTALL | BUILD | CHECK | BUILD BIN | ||||||
| metaCCA 1.12.0 Anna Cichonska
| malbec2 | Linux (Ubuntu 18.04.2 LTS) / x86_64 | OK | OK | OK | |||||||
| tokay2 | Windows Server 2012 R2 Standard / x64 | OK | OK | OK | [ OK ] | |||||||
| celaya2 | OS X 10.11.6 El Capitan / x86_64 | OK | OK | OK | OK |
| Package: metaCCA |
| Version: 1.12.0 |
| Command: rm -rf metaCCA.buildbin-libdir && mkdir metaCCA.buildbin-libdir && C:\Users\biocbuild\bbs-3.9-bioc\R\bin\R.exe CMD INSTALL --merge-multiarch --build --library=metaCCA.buildbin-libdir metaCCA_1.12.0.tar.gz |
| StartedAt: 2019-10-16 09:37:50 -0400 (Wed, 16 Oct 2019) |
| EndedAt: 2019-10-16 09:38:44 -0400 (Wed, 16 Oct 2019) |
| EllapsedTime: 54.3 seconds |
| RetCode: 0 |
| Status: OK |
| PackageFile: metaCCA_1.12.0.zip |
| PackageFileSize: 974.7 KiB |
##############################################################################
##############################################################################
###
### Running command:
###
### rm -rf metaCCA.buildbin-libdir && mkdir metaCCA.buildbin-libdir && C:\Users\biocbuild\bbs-3.9-bioc\R\bin\R.exe CMD INSTALL --merge-multiarch --build --library=metaCCA.buildbin-libdir metaCCA_1.12.0.tar.gz
###
##############################################################################
##############################################################################
install for i386
* installing *source* package 'metaCCA' ...
** using staged installation
** R
** data
*** moving datasets to lazyload DB
** inst
** byte-compile and prepare package for lazy loading
** help
*** installing help indices
converting help for package 'metaCCA'
finding HTML links ... done
N1 html
N2 html
S_XX_study1 html
S_XX_study2 html
S_XY_full_study1 html
S_XY_full_study2 html
S_XY_study1 html
S_XY_study2 html
estimateSyy html
metaCcaGp html
metaCcaPlusGp html
** building package indices
** installing vignettes
** testing if installed package can be loaded from temporary location
** testing if installed package can be loaded from final location
** testing if installed package keeps a record of temporary installation path
install for x64
* installing *source* package 'metaCCA' ...
** testing if installed package can be loaded
* MD5 sums
packaged installation of 'metaCCA' as metaCCA_1.12.0.zip
* DONE (metaCCA)