| Back to Multiple platform build/check report for BioC 3.9 |
|
This page was generated on 2019-10-16 12:40:39 -0400 (Wed, 16 Oct 2019).
| Package 917/1741 | Hostname | OS / Arch | INSTALL | BUILD | CHECK | BUILD BIN | ||||||
| martini 1.4.0 Hector Climente-Gonzalez
| malbec2 | Linux (Ubuntu 18.04.2 LTS) / x86_64 | OK | OK | WARNINGS | |||||||
| tokay2 | Windows Server 2012 R2 Standard / x64 | OK | OK | OK | [ OK ] | |||||||
| celaya2 | OS X 10.11.6 El Capitan / x86_64 | OK | OK | OK | OK |
| Package: martini |
| Version: 1.4.0 |
| Command: rm -rf martini.buildbin-libdir && mkdir martini.buildbin-libdir && C:\Users\biocbuild\bbs-3.9-bioc\R\bin\R.exe CMD INSTALL --merge-multiarch --build --library=martini.buildbin-libdir martini_1.4.0.tar.gz |
| StartedAt: 2019-10-16 09:35:15 -0400 (Wed, 16 Oct 2019) |
| EndedAt: 2019-10-16 09:36:06 -0400 (Wed, 16 Oct 2019) |
| EllapsedTime: 50.9 seconds |
| RetCode: 0 |
| Status: OK |
| PackageFile: martini_1.4.0.zip |
| PackageFileSize: 1.366 MiB |
##############################################################################
##############################################################################
###
### Running command:
###
### rm -rf martini.buildbin-libdir && mkdir martini.buildbin-libdir && C:\Users\biocbuild\bbs-3.9-bioc\R\bin\R.exe CMD INSTALL --merge-multiarch --build --library=martini.buildbin-libdir martini_1.4.0.tar.gz
###
##############################################################################
##############################################################################
install for i386
* installing *source* package 'martini' ...
** using staged installation
** libs
C:/Rtools/mingw_32/bin/g++ -I"C:/Users/BIOCBU~1/BBS-3~1.9-B/R/include" -DNDEBUG -DAS_GINLIB -DAS_RGINLIB -fopenmp -I"C:/Users/biocbuild/bbs-3.9-bioc/R/library/Rgin/include" -I"C:/Users/biocbuild/bbs-3.9-bioc/R/library/Rcpp/include" -I"C:/Users/biocbuild/bbs-3.9-bioc/R/library/RcppEigen/include" -I"C:/extsoft/include" -O2 -Wall -mtune=generic -c RcppExports.cpp -o RcppExports.o
C:/Rtools/mingw_32/bin/g++ -I"C:/Users/BIOCBU~1/BBS-3~1.9-B/R/include" -DNDEBUG -DAS_GINLIB -DAS_RGINLIB -fopenmp -I"C:/Users/biocbuild/bbs-3.9-bioc/R/library/Rgin/include" -I"C:/Users/biocbuild/bbs-3.9-bioc/R/library/Rcpp/include" -I"C:/Users/biocbuild/bbs-3.9-bioc/R/library/RcppEigen/include" -I"C:/extsoft/include" -O2 -Wall -mtune=generic -c evo.cpp -o evo.o
C:/Rtools/mingw_32/bin/g++ -I"C:/Users/BIOCBU~1/BBS-3~1.9-B/R/include" -DNDEBUG -DAS_GINLIB -DAS_RGINLIB -fopenmp -I"C:/Users/biocbuild/bbs-3.9-bioc/R/library/Rgin/include" -I"C:/Users/biocbuild/bbs-3.9-bioc/R/library/Rcpp/include" -I"C:/Users/biocbuild/bbs-3.9-bioc/R/library/RcppEigen/include" -I"C:/extsoft/include" -O2 -Wall -mtune=generic -c run_scones.cpp -o run_scones.o
C:/Rtools/mingw_32/bin/g++ -shared -s -static-libgcc -o martini.dll tmp.def RcppExports.o evo.o run_scones.o C:/Users/biocbuild/bbs-3.9-bioc/R/library/Rgin/usrlib/i386/libgin.a C:/Users/biocbuild/bbs-3.9-bioc/R/library/Rgin/usrlib/i386/libmaxflow.a C:/Users/biocbuild/bbs-3.9-bioc/R/library/Rgin/usrlib/i386/libcephes.a -lz -pthread -fopenmp -LC:/extsoft/lib/i386 -LC:/extsoft/lib -LC:/Users/BIOCBU~1/BBS-3~1.9-B/R/bin/i386 -lR
installing to C:/Users/biocbuild/bbs-3.9-bioc/meat/martini.buildbin-libdir/00LOCK-martini/00new/martini/libs/i386
** R
** data
*** moving datasets to lazyload DB
** inst
** byte-compile and prepare package for lazy loading
** help
*** installing help indices
converting help for package 'martini'
finding HTML links ... done
arrange_covars html
calculateE html
calculateG html
check_installed html
encode_gwas html
evo html
get_GI_network html
get_GM_network html
get_GS_network html
get_evo_settings html
get_ppi html
get_snp_modules html
is_coherent html
ldweight_edges html
minigwas html
minippi html
minisnpMapping html
parse_scones_settings html
permute_snpMatrix html
run_scones html
scones html
scones.cv html
score_fold html
search_cones html
simulate_causal_snps html
simulate_phenotype html
single_snp_association html
snp2gene html
subnet html
subvert html
test_cones_modules html
** building package indices
** installing vignettes
** testing if installed package can be loaded from temporary location
** testing if installed package can be loaded from final location
** testing if installed package keeps a record of temporary installation path
install for x64
* installing *source* package 'martini' ...
** libs
C:/Rtools/mingw_64/bin/g++ -I"C:/Users/BIOCBU~1/BBS-3~1.9-B/R/include" -DNDEBUG -DAS_GINLIB -DAS_RGINLIB -fopenmp -I"C:/Users/biocbuild/bbs-3.9-bioc/R/library/Rgin/include" -I"C:/Users/biocbuild/bbs-3.9-bioc/R/library/Rcpp/include" -I"C:/Users/biocbuild/bbs-3.9-bioc/R/library/RcppEigen/include" -I"C:/extsoft/include" -O2 -Wall -mtune=generic -c RcppExports.cpp -o RcppExports.o
C:/Rtools/mingw_64/bin/g++ -I"C:/Users/BIOCBU~1/BBS-3~1.9-B/R/include" -DNDEBUG -DAS_GINLIB -DAS_RGINLIB -fopenmp -I"C:/Users/biocbuild/bbs-3.9-bioc/R/library/Rgin/include" -I"C:/Users/biocbuild/bbs-3.9-bioc/R/library/Rcpp/include" -I"C:/Users/biocbuild/bbs-3.9-bioc/R/library/RcppEigen/include" -I"C:/extsoft/include" -O2 -Wall -mtune=generic -c evo.cpp -o evo.o
C:/Rtools/mingw_64/bin/g++ -I"C:/Users/BIOCBU~1/BBS-3~1.9-B/R/include" -DNDEBUG -DAS_GINLIB -DAS_RGINLIB -fopenmp -I"C:/Users/biocbuild/bbs-3.9-bioc/R/library/Rgin/include" -I"C:/Users/biocbuild/bbs-3.9-bioc/R/library/Rcpp/include" -I"C:/Users/biocbuild/bbs-3.9-bioc/R/library/RcppEigen/include" -I"C:/extsoft/include" -O2 -Wall -mtune=generic -c run_scones.cpp -o run_scones.o
C:/Rtools/mingw_64/bin/g++ -shared -s -static-libgcc -o martini.dll tmp.def RcppExports.o evo.o run_scones.o C:/Users/biocbuild/bbs-3.9-bioc/R/library/Rgin/usrlib/x64/libgin.a C:/Users/biocbuild/bbs-3.9-bioc/R/library/Rgin/usrlib/x64/libmaxflow.a C:/Users/biocbuild/bbs-3.9-bioc/R/library/Rgin/usrlib/x64/libcephes.a -lz -pthread -fopenmp -LC:/extsoft/lib/x64 -LC:/extsoft/lib -LC:/Users/BIOCBU~1/BBS-3~1.9-B/R/bin/x64 -lR
installing to C:/Users/biocbuild/bbs-3.9-bioc/meat/martini.buildbin-libdir/martini/libs/x64
** testing if installed package can be loaded
* MD5 sums
packaged installation of 'martini' as martini_1.4.0.zip
* DONE (martini)