| Back to Multiple platform build/check report for BioC 3.9 |
|
This page was generated on 2018-10-29 10:28:10 -0400 (Mon, 29 Oct 2018).
| Package 1000/1642 | Hostname | OS / Arch | INSTALL | BUILD | CHECK | BUILD BIN | ||||||
Lyamine Hedjazi
| malbec2 | Linux (Ubuntu 16.04.1 LTS) / x86_64 | ERROR | ERROR | skipped | |||||||
| tokay2 | Windows Server 2012 R2 Standard / x64 | ERROR | [ ERROR ] | skipped | skipped | |||||||
| merida2 | OS X 10.11.6 El Capitan / x86_64 | ERROR | ERROR | skipped | skipped |
| Package: mQTL.NMR |
| Version: 1.15.1 |
| Command: chmod a+r mQTL.NMR -R && C:\Users\biocbuild\bbs-3.9-bioc\R\bin\R.exe CMD build --keep-empty-dirs --no-resave-data mQTL.NMR |
| StartedAt: 2018-10-28 23:05:06 -0400 (Sun, 28 Oct 2018) |
| EndedAt: 2018-10-28 23:05:11 -0400 (Sun, 28 Oct 2018) |
| EllapsedTime: 5.0 seconds |
| RetCode: 1 |
| Status: ERROR |
| PackageFile: mQTL.NMR_1.15.1.tar.gz |
| PackageFileSize: 1.511 MiB |
##############################################################################
##############################################################################
###
### Running command:
###
### chmod a+r mQTL.NMR -R && C:\Users\biocbuild\bbs-3.9-bioc\R\bin\R.exe CMD build --keep-empty-dirs --no-resave-data mQTL.NMR
###
##############################################################################
##############################################################################
* checking for file 'mQTL.NMR/DESCRIPTION' ... OK
* preparing 'mQTL.NMR':
* checking DESCRIPTION meta-information ... OK
* installing the package to build vignettes
-----------------------------------
ERROR: dependency 'GenABEL' is not available for package 'mQTL.NMR'
* removing 'C:/Users/biocbuild/bbs-3.9-bioc/tmpdir/Rtmpm27bQH/Rinste8421ac57af/mQTL.NMR'
In R CMD INSTALL
-----------------------------------
ERROR: package installation failed