| Back to Multiple platform build/check report for BioC 3.9 |
|
This page was generated on 2019-10-16 12:40:20 -0400 (Wed, 16 Oct 2019).
| Package 938/1741 | Hostname | OS / Arch | INSTALL | BUILD | CHECK | BUILD BIN | ||||||
| mCSEA 1.4.0 Jordi Martorell-Marugán
| malbec2 | Linux (Ubuntu 18.04.2 LTS) / x86_64 | OK | OK | OK | |||||||
| tokay2 | Windows Server 2012 R2 Standard / x64 | [ OK ] | OK | OK | OK | |||||||
| celaya2 | OS X 10.11.6 El Capitan / x86_64 | OK | OK | OK | OK |
| Package: mCSEA |
| Version: 1.4.0 |
| Command: C:\cygwin\bin\curl.exe -O https://malbec2.bioconductor.org/BBS/3.9/bioc/src/contrib/mCSEA_1.4.0.tar.gz && rm -rf mCSEA.buildbin-libdir && mkdir mCSEA.buildbin-libdir && C:\Users\biocbuild\bbs-3.9-bioc\R\bin\R.exe CMD INSTALL --merge-multiarch --build --library=mCSEA.buildbin-libdir mCSEA_1.4.0.tar.gz && C:\Users\biocbuild\bbs-3.9-bioc\R\bin\R.exe CMD INSTALL mCSEA_1.4.0.zip && rm mCSEA_1.4.0.tar.gz mCSEA_1.4.0.zip |
| StartedAt: 2019-10-15 20:59:12 -0400 (Tue, 15 Oct 2019) |
| EndedAt: 2019-10-15 21:00:20 -0400 (Tue, 15 Oct 2019) |
| EllapsedTime: 68.6 seconds |
| RetCode: 0 |
| Status: OK |
##############################################################################
##############################################################################
###
### Running command:
###
### C:\cygwin\bin\curl.exe -O https://malbec2.bioconductor.org/BBS/3.9/bioc/src/contrib/mCSEA_1.4.0.tar.gz && rm -rf mCSEA.buildbin-libdir && mkdir mCSEA.buildbin-libdir && C:\Users\biocbuild\bbs-3.9-bioc\R\bin\R.exe CMD INSTALL --merge-multiarch --build --library=mCSEA.buildbin-libdir mCSEA_1.4.0.tar.gz && C:\Users\biocbuild\bbs-3.9-bioc\R\bin\R.exe CMD INSTALL mCSEA_1.4.0.zip && rm mCSEA_1.4.0.tar.gz mCSEA_1.4.0.zip
###
##############################################################################
##############################################################################
% Total % Received % Xferd Average Speed Time Time Time Current
Dload Upload Total Spent Left Speed
0 0 0 0 0 0 0 0 --:--:-- --:--:-- --:--:-- 0
100 1545k 100 1545k 0 0 19.5M 0 --:--:-- --:--:-- --:--:-- 21.2M
install for i386
* installing *source* package 'mCSEA' ...
** using staged installation
** R
** data
*** moving datasets to lazyload DB
** inst
** byte-compile and prepare package for lazy loading
** help
*** installing help indices
converting help for package 'mCSEA'
finding HTML links ... done
exprTest html
mCSEA-package html
mCSEAIntegrate html
mCSEAPlot html
mCSEAPlotGSEA html
mCSEATest html
precomputedmCSEA html
rankProbes html
** building package indices
** installing vignettes
** testing if installed package can be loaded from temporary location
** testing if installed package can be loaded from final location
** testing if installed package keeps a record of temporary installation path
install for x64
* installing *source* package 'mCSEA' ...
** testing if installed package can be loaded
* MD5 sums
packaged installation of 'mCSEA' as mCSEA_1.4.0.zip
* DONE (mCSEA)
* installing to library 'C:/Users/biocbuild/bbs-3.9-bioc/R/library'
package 'mCSEA' successfully unpacked and MD5 sums checked