| Back to Multiple platform build/check report for BioC 3.9 |
|
This page was generated on 2019-10-16 12:06:02 -0400 (Wed, 16 Oct 2019).
| Package 913/1741 | Hostname | OS / Arch | INSTALL | BUILD | CHECK | BUILD BIN | ||||||
| mAPKL 1.14.1 Argiris Sakellariou
| malbec2 | Linux (Ubuntu 18.04.2 LTS) / x86_64 | OK | [ OK ] | OK | |||||||
| tokay2 | Windows Server 2012 R2 Standard / x64 | OK | OK | OK | OK | |||||||
| celaya2 | OS X 10.11.6 El Capitan / x86_64 | OK | OK | WARNINGS | OK |
| Package: mAPKL |
| Version: 1.14.1 |
| Command: /home/biocbuild/bbs-3.9-bioc/R/bin/R CMD build --keep-empty-dirs --no-resave-data mAPKL |
| StartedAt: 2019-10-15 21:14:58 -0400 (Tue, 15 Oct 2019) |
| EndedAt: 2019-10-15 21:17:26 -0400 (Tue, 15 Oct 2019) |
| EllapsedTime: 147.9 seconds |
| RetCode: 0 |
| Status: OK |
| PackageFile: mAPKL_1.14.1.tar.gz |
| PackageFileSize: 1.974 MiB |
##############################################################################
##############################################################################
###
### Running command:
###
### /home/biocbuild/bbs-3.9-bioc/R/bin/R CMD build --keep-empty-dirs --no-resave-data mAPKL
###
##############################################################################
##############################################################################
* checking for file ‘mAPKL/DESCRIPTION’ ... OK
* preparing ‘mAPKL’:
* checking DESCRIPTION meta-information ... OK
* installing the package to build vignettes
* creating vignettes ... OK
Warning: ‘inst/doc’ file
‘mAPKL.pdf’
ignored as vignettes have been rebuilt.
Run R CMD build with --no-build-vignettes to prevent rebuilding.
* checking for LF line-endings in source and make files and shell scripts
* checking for empty or unneeded directories
* building ‘mAPKL_1.14.1.tar.gz’