| Back to Multiple platform build/check report for BioC 3.9 |
|
This page was generated on 2019-10-16 12:44:10 -0400 (Wed, 16 Oct 2019).
| Package 875/1741 | Hostname | OS / Arch | INSTALL | BUILD | CHECK | BUILD BIN | ||||||
| lipidr 1.0.0 Ahmed Mohamed
| malbec2 | Linux (Ubuntu 18.04.2 LTS) / x86_64 | OK | OK | OK | |||||||
| tokay2 | Windows Server 2012 R2 Standard / x64 | [ OK ] | OK | OK | OK | |||||||
| celaya2 | OS X 10.11.6 El Capitan / x86_64 | OK | OK | OK | OK |
| Package: lipidr |
| Version: 1.0.0 |
| Command: C:\cygwin\bin\curl.exe -O https://malbec2.bioconductor.org/BBS/3.9/bioc/src/contrib/lipidr_1.0.0.tar.gz && rm -rf lipidr.buildbin-libdir && mkdir lipidr.buildbin-libdir && C:\Users\biocbuild\bbs-3.9-bioc\R\bin\R.exe CMD INSTALL --merge-multiarch --build --library=lipidr.buildbin-libdir lipidr_1.0.0.tar.gz && C:\Users\biocbuild\bbs-3.9-bioc\R\bin\R.exe CMD INSTALL lipidr_1.0.0.zip && rm lipidr_1.0.0.tar.gz lipidr_1.0.0.zip |
| StartedAt: 2019-10-15 20:05:57 -0400 (Tue, 15 Oct 2019) |
| EndedAt: 2019-10-15 20:07:06 -0400 (Tue, 15 Oct 2019) |
| EllapsedTime: 68.8 seconds |
| RetCode: 0 |
| Status: OK |
##############################################################################
##############################################################################
###
### Running command:
###
### C:\cygwin\bin\curl.exe -O https://malbec2.bioconductor.org/BBS/3.9/bioc/src/contrib/lipidr_1.0.0.tar.gz && rm -rf lipidr.buildbin-libdir && mkdir lipidr.buildbin-libdir && C:\Users\biocbuild\bbs-3.9-bioc\R\bin\R.exe CMD INSTALL --merge-multiarch --build --library=lipidr.buildbin-libdir lipidr_1.0.0.tar.gz && C:\Users\biocbuild\bbs-3.9-bioc\R\bin\R.exe CMD INSTALL lipidr_1.0.0.zip && rm lipidr_1.0.0.tar.gz lipidr_1.0.0.zip
###
##############################################################################
##############################################################################
% Total % Received % Xferd Average Speed Time Time Time Current
Dload Upload Total Spent Left Speed
0 0 0 0 0 0 0 0 --:--:-- --:--:-- --:--:-- 0
100 411k 100 411k 0 0 6098k 0 --:--:-- --:--:-- --:--:-- 6853k
install for i386
* installing *source* package 'lipidr' ...
** using staged installation
** R
** data
** inst
** byte-compile and prepare package for lazy loading
** help
*** installing help indices
converting help for package 'lipidr'
finding HTML links ... done
SkylineExperiment-class html
SkylineExperiment html
finding level-2 HTML links ... done
add_sample_annotation html
annotate_lipids html
data_normalized html
de_analysis html
dot-as_regex html
dot-read_skyline_file html
gen_lipidsets html
lipidDefaults html
lipidnames_pattern html
lipidr-data html
lipidr-package html
lsea html
mva html
normalize_istd html
normalize_pqn html
pipe html
plot_chain_distribution html
plot_lipidclass html
plot_molecules html
plot_samples html
read_skyline html
summarize_transitions html
use_interactive_graphics html
** building package indices
** installing vignettes
** testing if installed package can be loaded from temporary location
** testing if installed package can be loaded from final location
** testing if installed package keeps a record of temporary installation path
install for x64
* installing *source* package 'lipidr' ...
** testing if installed package can be loaded
* MD5 sums
packaged installation of 'lipidr' as lipidr_1.0.0.zip
* DONE (lipidr)
* installing to library 'C:/Users/biocbuild/bbs-3.9-bioc/R/library'
package 'lipidr' successfully unpacked and MD5 sums checked