| Back to Multiple platform build/check report for BioC 3.9 |
|
This page was generated on 2019-10-16 11:59:34 -0400 (Wed, 16 Oct 2019).
| Package 825/1741 | Hostname | OS / Arch | INSTALL | BUILD | CHECK | BUILD BIN | ||||||
| inveRsion 1.32.0 Alejandro Caceres
| malbec2 | Linux (Ubuntu 18.04.2 LTS) / x86_64 | [ OK ] | OK | WARNINGS | |||||||
| tokay2 | Windows Server 2012 R2 Standard / x64 | OK | OK | WARNINGS | OK | |||||||
| celaya2 | OS X 10.11.6 El Capitan / x86_64 | OK | OK | OK | OK |
| Package: inveRsion |
| Version: 1.32.0 |
| Command: /home/biocbuild/bbs-3.9-bioc/R/bin/R CMD INSTALL inveRsion |
| StartedAt: 2019-10-15 18:28:57 -0400 (Tue, 15 Oct 2019) |
| EndedAt: 2019-10-15 18:29:10 -0400 (Tue, 15 Oct 2019) |
| EllapsedTime: 13.1 seconds |
| RetCode: 0 |
| Status: OK |
##############################################################################
##############################################################################
###
### Running command:
###
### /home/biocbuild/bbs-3.9-bioc/R/bin/R CMD INSTALL inveRsion
###
##############################################################################
##############################################################################
* installing to library ‘/home/biocbuild/bbs-3.9-bioc/R/library’
* installing *source* package ‘inveRsion’ ...
** using staged installation
** libs
gcc -I"/home/biocbuild/bbs-3.9-bioc/R/include" -DNDEBUG -I/usr/local/include -fpic -g -O2 -Wall -c init_inveRsion.c -o init_inveRsion.o
gcc -I"/home/biocbuild/bbs-3.9-bioc/R/include" -DNDEBUG -I/usr/local/include -fpic -g -O2 -Wall -c inversionModel.c -o inversionModel.o
inversionModel.c: In function ‘blockAndLev’:
inversionModel.c:185:31: warning: suggest parentheses around comparison in operand of ‘&’ [-Wparentheses]
if(dat[(*nr)*(c1)+row]==levelleft[level] & dat[(*nr)*(c2)+row]==levelright[level])
~~~~~~~~~~~~~~~~~~~^~~~~~~~~~~~~~~~~~
inversionModel.c: In function ‘inversionModel’:
inversionModel.c:360:15: warning: suggest parentheses around comparison in operand of ‘&’ [-Wparentheses]
while(steps<*maxSteps & tol>mintol)
~~~~~^~~~~~~~~~
gcc -I"/home/biocbuild/bbs-3.9-bioc/R/include" -DNDEBUG -I/usr/local/include -fpic -g -O2 -Wall -c writeGenoDat.c -o writeGenoDat.o
writeGenoDat.c: In function ‘writeGenoDat’:
writeGenoDat.c:103:9: warning: ‘dat’ may be used uninitialized in this function [-Wmaybe-uninitialized]
fprintf(fg,"%d ", dat-1);
^~~~~~~~~~~~~~~~~~~~~~~~
gcc -shared -L/home/biocbuild/bbs-3.9-bioc/R/lib -L/usr/local/lib -o inveRsion.so init_inveRsion.o inversionModel.o writeGenoDat.o -L/home/biocbuild/bbs-3.9-bioc/R/lib -lRlapack -L/home/biocbuild/bbs-3.9-bioc/R/lib -lRblas -lgfortran -lm -lquadmath -L/home/biocbuild/bbs-3.9-bioc/R/lib -lR
installing to /home/biocbuild/bbs-3.9-bioc/R/library/00LOCK-inveRsion/00new/inveRsion/libs
** R
** data
** inst
** byte-compile and prepare package for lazy loading
** help
*** installing help indices
** building package indices
** installing vignettes
** testing if installed package can be loaded from temporary location
** checking absolute paths in shared objects and dynamic libraries
** testing if installed package can be loaded from final location
** testing if installed package keeps a record of temporary installation path
* DONE (inveRsion)