| Back to Multiple platform build/check report for BioC 3.9 |
|
This page was generated on 2019-04-09 13:25:22 -0400 (Tue, 09 Apr 2019).
| Package 789/1703 | Hostname | OS / Arch | INSTALL | BUILD | CHECK | BUILD BIN | ||||||
| imageHTS 1.33.1 Joseph Barry
| malbec2 | Linux (Ubuntu 18.04.2 LTS) / x86_64 | OK | OK | OK | |||||||
| tokay2 | Windows Server 2012 R2 Standard / x64 | OK | OK | OK | OK | |||||||
| celaya2 | OS X 10.11.6 El Capitan / x86_64 | OK | OK | OK | OK | |||||||
| merida2 | OS X 10.11.6 El Capitan / x86_64 | OK | OK | [ OK ] | OK |
| Package: imageHTS |
| Version: 1.33.1 |
| Command: /Library/Frameworks/R.framework/Versions/Current/Resources/bin/R CMD check --install=check:imageHTS.install-out.txt --library=/Library/Frameworks/R.framework/Versions/Current/Resources/library --no-vignettes --timings imageHTS_1.33.1.tar.gz |
| StartedAt: 2019-04-09 01:37:07 -0400 (Tue, 09 Apr 2019) |
| EndedAt: 2019-04-09 01:40:40 -0400 (Tue, 09 Apr 2019) |
| EllapsedTime: 213.5 seconds |
| RetCode: 0 |
| Status: OK |
| CheckDir: imageHTS.Rcheck |
| Warnings: 0 |
##############################################################################
##############################################################################
###
### Running command:
###
### /Library/Frameworks/R.framework/Versions/Current/Resources/bin/R CMD check --install=check:imageHTS.install-out.txt --library=/Library/Frameworks/R.framework/Versions/Current/Resources/library --no-vignettes --timings imageHTS_1.33.1.tar.gz
###
##############################################################################
##############################################################################
* using log directory ‘/Users/biocbuild/bbs-3.9-bioc/meat/imageHTS.Rcheck’
* using R Under development (unstable) (2018-11-27 r75683)
* using platform: x86_64-apple-darwin15.6.0 (64-bit)
* using session charset: UTF-8
* using option ‘--no-vignettes’
* checking for file ‘imageHTS/DESCRIPTION’ ... OK
* this is package ‘imageHTS’ version ‘1.33.1’
* checking package namespace information ... OK
* checking package dependencies ... OK
* checking if this is a source package ... OK
* checking if there is a namespace ... OK
* checking for hidden files and directories ... NOTE
Found the following hidden files and directories:
.BBSoptions
These were most likely included in error. See section ‘Package
structure’ in the ‘Writing R Extensions’ manual.
* checking for portable file names ... OK
* checking for sufficient/correct file permissions ... OK
* checking whether package ‘imageHTS’ can be installed ... OK
* checking installed package size ... OK
* checking package directory ... OK
* checking ‘build’ directory ... OK
* checking DESCRIPTION meta-information ... OK
* checking top-level files ... OK
* checking for left-over files ... OK
* checking index information ... OK
* checking package subdirectories ... OK
* checking R files for non-ASCII characters ... OK
* checking R files for syntax errors ... OK
* checking whether the package can be loaded ... OK
* checking whether the package can be loaded with stated dependencies ... OK
* checking whether the package can be unloaded cleanly ... OK
* checking whether the namespace can be loaded with stated dependencies ... OK
* checking whether the namespace can be unloaded cleanly ... OK
* checking dependencies in R code ... OK
* checking S3 generic/method consistency ... OK
* checking replacement functions ... OK
* checking foreign function calls ... OK
* checking R code for possible problems ... OK
* checking Rd files ... OK
* checking Rd metadata ... OK
* checking Rd cross-references ... OK
* checking for missing documentation entries ... OK
* checking for code/documentation mismatches ... OK
* checking Rd \usage sections ... OK
* checking Rd contents ... OK
* checking for unstated dependencies in examples ... OK
* checking sizes of PDF files under ‘inst/doc’ ... OK
* checking files in ‘vignettes’ ... OK
* checking examples ... OK
Examples with CPU or elapsed time > 5s
user system elapsed
extractFeatures 14.418 0.735 15.292
countObjects 7.208 0.321 7.782
segmentWells 5.376 0.240 5.679
fileHTS 2.693 0.040 5.348
* checking for unstated dependencies in vignettes ... OK
* checking package vignettes in ‘inst/doc’ ... OK
* checking running R code from vignettes ... SKIPPED
* checking re-building of vignette outputs ... SKIPPED
* checking PDF version of manual ... OK
* DONE
Status: 1 NOTE
See
‘/Users/biocbuild/bbs-3.9-bioc/meat/imageHTS.Rcheck/00check.log’
for details.
imageHTS.Rcheck/00install.out
############################################################################## ############################################################################## ### ### Running command: ### ### /Library/Frameworks/R.framework/Versions/Current/Resources/bin/R CMD INSTALL imageHTS ### ############################################################################## ############################################################################## * installing to library ‘/Library/Frameworks/R.framework/Versions/3.6/Resources/library’ * installing *source* package ‘imageHTS’ ... ** R ** inst ** byte-compile and prepare package for lazy loading ** help *** installing help indices ** building package indices ** installing vignettes ** testing if installed package can be loaded * DONE (imageHTS)
imageHTS.Rcheck/imageHTS-Ex.timings
| name | user | system | elapsed | |
| collectCellFeatures | 0.001 | 0.000 | 0.001 | |
| countObjects | 7.208 | 0.321 | 7.782 | |
| extractFeatures | 14.418 | 0.735 | 15.292 | |
| fileHTS | 2.693 | 0.040 | 5.348 | |
| getImageConf | 1.294 | 0.018 | 1.325 | |
| getUnames | 3.226 | 0.005 | 3.272 | |
| getWellFeatures | 4.057 | 0.008 | 4.115 | |
| highlightSegmentation | 0.001 | 0.000 | 0.000 | |
| installCellPicker | 2.067 | 0.011 | 2.103 | |
| makeCellHTS | 0.001 | 0.001 | 0.001 | |
| parseDCF | 0.003 | 0.000 | 0.004 | |
| parseImageConf | 1.234 | 0.002 | 1.245 | |
| popCellPicker | 1.270 | 0.002 | 1.284 | |
| prw2uname | 0.005 | 0.001 | 0.006 | |
| readLearnTS | 0 | 0 | 0 | |
| segmentATH | 0 | 0 | 0 | |
| segmentWells | 5.376 | 0.240 | 5.679 | |
| segmentYeastBF | 2.607 | 0.549 | 3.183 | |
| summarizeWells | 0 | 0 | 0 | |
| zprime | 3.337 | 0.032 | 3.388 | |