| Back to Multiple platform build/check report for BioC 3.9 |
|
This page was generated on 2019-04-09 13:37:07 -0400 (Tue, 09 Apr 2019).
| Package 727/1703 | Hostname | OS / Arch | INSTALL | BUILD | CHECK | BUILD BIN | ||||||
| gwasurvivr 1.1.0 Abbas Rizvi
| malbec2 | Linux (Ubuntu 18.04.2 LTS) / x86_64 | OK | OK | OK | |||||||
| tokay2 | Windows Server 2012 R2 Standard / x64 | OK | ERROR | skipped | skipped | |||||||
| celaya2 | OS X 10.11.6 El Capitan / x86_64 | OK | OK | OK | OK | |||||||
| merida2 | OS X 10.11.6 El Capitan / x86_64 | OK | OK | OK | [ OK ] |
| Package: gwasurvivr |
| Version: 1.1.0 |
| Command: rm -rf gwasurvivr.buildbin-libdir && mkdir gwasurvivr.buildbin-libdir && /Users/biocbuild/BBS/utils/build-universal.sh gwasurvivr_1.1.0.tar.gz /Library/Frameworks/R.framework/Versions/Current/Resources/bin/R gwasurvivr.buildbin-libdir |
| StartedAt: 2019-04-09 05:33:05 -0400 (Tue, 09 Apr 2019) |
| EndedAt: 2019-04-09 05:34:23 -0400 (Tue, 09 Apr 2019) |
| EllapsedTime: 77.4 seconds |
| RetCode: 0 |
| Status: OK |
| PackageFile: gwasurvivr_1.1.0.tgz |
| PackageFileSize: 396.2 KiB |
############################################################################## ############################################################################## ### ### Running command: ### ### rm -rf gwasurvivr.buildbin-libdir && mkdir gwasurvivr.buildbin-libdir && /Users/biocbuild/BBS/utils/build-universal.sh gwasurvivr_1.1.0.tar.gz /Library/Frameworks/R.framework/Versions/Current/Resources/bin/R gwasurvivr.buildbin-libdir ### ############################################################################## ############################################################################## >>>>>>> >>>>>>> INSTALLATION WITH 'R CMD INSTALL --preclean --no-multiarch --library=gwasurvivr.buildbin-libdir gwasurvivr_1.1.0.tar.gz' >>>>>>> * installing *source* package ‘gwasurvivr’ ... ** R ** inst ** byte-compile and prepare package for lazy loading ** help *** installing help indices ** building package indices ** installing vignettes ** testing if installed package can be loaded * DONE (gwasurvivr)