| Back to Multiple platform build/check report for BioC 3.9 |
|
This page was generated on 2019-10-16 12:32:47 -0400 (Wed, 16 Oct 2019).
| Package 732/1741 | Hostname | OS / Arch | INSTALL | BUILD | CHECK | BUILD BIN | ||||||
| gtrellis 1.16.1 Zuguang Gu
| malbec2 | Linux (Ubuntu 18.04.2 LTS) / x86_64 | OK | OK | OK | |||||||
| tokay2 | Windows Server 2012 R2 Standard / x64 | OK | OK | OK | [ OK ] | |||||||
| celaya2 | OS X 10.11.6 El Capitan / x86_64 | OK | OK | OK | OK |
| Package: gtrellis |
| Version: 1.16.1 |
| Command: rm -rf gtrellis.buildbin-libdir && mkdir gtrellis.buildbin-libdir && C:\Users\biocbuild\bbs-3.9-bioc\R\bin\R.exe CMD INSTALL --merge-multiarch --build --library=gtrellis.buildbin-libdir gtrellis_1.16.1.tar.gz |
| StartedAt: 2019-10-16 09:24:14 -0400 (Wed, 16 Oct 2019) |
| EndedAt: 2019-10-16 09:25:03 -0400 (Wed, 16 Oct 2019) |
| EllapsedTime: 48.9 seconds |
| RetCode: 0 |
| Status: OK |
| PackageFile: gtrellis_1.16.1.zip |
| PackageFileSize: 1.488 MiB |
##############################################################################
##############################################################################
###
### Running command:
###
### rm -rf gtrellis.buildbin-libdir && mkdir gtrellis.buildbin-libdir && C:\Users\biocbuild\bbs-3.9-bioc\R\bin\R.exe CMD INSTALL --merge-multiarch --build --library=gtrellis.buildbin-libdir gtrellis_1.16.1.tar.gz
###
##############################################################################
##############################################################################
install for i386
* installing *source* package 'gtrellis' ...
** using staged installation
** R
** inst
** byte-compile and prepare package for lazy loading
** help
*** installing help indices
converting help for package 'gtrellis'
finding HTML links ... done
add_heatmap_track html
add_ideogram_track html
add_lines_track html
add_points_track html
add_rect_track html
add_segments_track html
add_track html
current_track html
get_cell_meta_data html
gtrellis_layout html
gtrellis_show_index html
** building package indices
** installing vignettes
** testing if installed package can be loaded from temporary location
** testing if installed package can be loaded from final location
** testing if installed package keeps a record of temporary installation path
install for x64
* installing *source* package 'gtrellis' ...
** testing if installed package can be loaded
* MD5 sums
packaged installation of 'gtrellis' as gtrellis_1.16.1.zip
* DONE (gtrellis)