| Back to Multiple platform build/check report for BioC 3.9 |
|
This page was generated on 2019-10-16 12:08:37 -0400 (Wed, 16 Oct 2019).
| Package 665/1741 | Hostname | OS / Arch | INSTALL | BUILD | CHECK | BUILD BIN | ||||||
| genphen 1.12.1 Simo Kitanovski
| malbec2 | Linux (Ubuntu 18.04.2 LTS) / x86_64 | OK | OK | [ OK ] | |||||||
| tokay2 | Windows Server 2012 R2 Standard / x64 | OK | OK | OK | OK | |||||||
| celaya2 | OS X 10.11.6 El Capitan / x86_64 | OK | OK | OK | OK |
| Package: genphen |
| Version: 1.12.1 |
| Command: /home/biocbuild/bbs-3.9-bioc/R/bin/R CMD check --install=check:genphen.install-out.txt --library=/home/biocbuild/bbs-3.9-bioc/R/library --no-vignettes --timings genphen_1.12.1.tar.gz |
| StartedAt: 2019-10-16 01:58:07 -0400 (Wed, 16 Oct 2019) |
| EndedAt: 2019-10-16 02:02:46 -0400 (Wed, 16 Oct 2019) |
| EllapsedTime: 279.3 seconds |
| RetCode: 0 |
| Status: OK |
| CheckDir: genphen.Rcheck |
| Warnings: 0 |
##############################################################################
##############################################################################
###
### Running command:
###
### /home/biocbuild/bbs-3.9-bioc/R/bin/R CMD check --install=check:genphen.install-out.txt --library=/home/biocbuild/bbs-3.9-bioc/R/library --no-vignettes --timings genphen_1.12.1.tar.gz
###
##############################################################################
##############################################################################
* using log directory ‘/home/biocbuild/bbs-3.9-bioc/meat/genphen.Rcheck’
* using R version 3.6.1 (2019-07-05)
* using platform: x86_64-pc-linux-gnu (64-bit)
* using session charset: UTF-8
* using option ‘--no-vignettes’
* checking for file ‘genphen/DESCRIPTION’ ... OK
* checking extension type ... Package
* this is package ‘genphen’ version ‘1.12.1’
* package encoding: UTF-8
* checking package namespace information ... OK
* checking package dependencies ... OK
* checking if this is a source package ... OK
* checking if there is a namespace ... OK
* checking for hidden files and directories ... OK
* checking for portable file names ... OK
* checking for sufficient/correct file permissions ... OK
* checking whether package ‘genphen’ can be installed ... OK
* checking installed package size ... OK
* checking package directory ... OK
* checking ‘build’ directory ... OK
* checking DESCRIPTION meta-information ... OK
* checking top-level files ... OK
* checking for left-over files ... OK
* checking index information ... OK
* checking package subdirectories ... OK
* checking R files for non-ASCII characters ... OK
* checking R files for syntax errors ... OK
* checking whether the package can be loaded ... OK
* checking whether the package can be loaded with stated dependencies ... OK
* checking whether the package can be unloaded cleanly ... OK
* checking whether the namespace can be loaded with stated dependencies ... OK
* checking whether the namespace can be unloaded cleanly ... OK
* checking dependencies in R code ... OK
* checking S3 generic/method consistency ... OK
* checking replacement functions ... OK
* checking foreign function calls ... OK
* checking R code for possible problems ... OK
* checking Rd files ... OK
* checking Rd metadata ... OK
* checking Rd cross-references ... OK
* checking for missing documentation entries ... OK
* checking for code/documentation mismatches ... OK
* checking Rd \usage sections ... OK
* checking Rd contents ... OK
* checking for unstated dependencies in examples ... OK
* checking contents of ‘data’ directory ... OK
* checking data for non-ASCII characters ... OK
* checking data for ASCII and uncompressed saves ... OK
* checking files in ‘vignettes’ ... OK
* checking examples ... OK
Examples with CPU or elapsed time > 5s
user system elapsed
runGenphen 98.158 3.206 147.753
* checking for unstated dependencies in ‘tests’ ... OK
* checking tests ...
Running ‘testthat.R’
OK
* checking for unstated dependencies in vignettes ... OK
* checking package vignettes in ‘inst/doc’ ... OK
* checking running R code from vignettes ... SKIPPED
* checking re-building of vignette outputs ... SKIPPED
* checking PDF version of manual ... OK
* DONE
Status: OK
genphen.Rcheck/00install.out
############################################################################## ############################################################################## ### ### Running command: ### ### /home/biocbuild/bbs-3.9-bioc/R/bin/R CMD INSTALL genphen ### ############################################################################## ############################################################################## * installing to library ‘/home/biocbuild/bbs-3.9-bioc/R/library’ * installing *source* package ‘genphen’ ... ** using staged installation ** R ** data ** inst ** byte-compile and prepare package for lazy loading ** help *** installing help indices ** building package indices ** installing vignettes ** testing if installed package can be loaded from temporary location ** testing if installed package can be loaded from final location ** testing if installed package keeps a record of temporary installation path * DONE (genphen)
genphen.Rcheck/tests/testthat.Rout
R version 3.6.1 (2019-07-05) -- "Action of the Toes"
Copyright (C) 2019 The R Foundation for Statistical Computing
Platform: x86_64-pc-linux-gnu (64-bit)
R is free software and comes with ABSOLUTELY NO WARRANTY.
You are welcome to redistribute it under certain conditions.
Type 'license()' or 'licence()' for distribution details.
R is a collaborative project with many contributors.
Type 'contributors()' for more information and
'citation()' on how to cite R or R packages in publications.
Type 'demo()' for some demos, 'help()' for on-line help, or
'help.start()' for an HTML browser interface to help.
Type 'q()' to quit R.
> library(testthat)
> library(genphen)
Loading required package: Rcpp
>
> test_check("genphen")
══ testthat results ═══════════════════════════════════════════════════════════
[ OK: 21 | SKIPPED: 0 | WARNINGS: 0 | FAILED: 0 ]
>
> # Once you’re set up the workflow is simple:
> # 1. Modify your code or tests.
> # 2. Test your package with Ctrl/Cmd + Shift + T or devtools::test().
> # 3. Repeat until all tests pass.
>
>
> # library(testthat)
> # devtools::test()
>
> proc.time()
user system elapsed
5.768 0.305 6.114
genphen.Rcheck/genphen-Ex.timings
| name | user | system | elapsed | |
| dichotomous.phenotype.saap | 0.015 | 0.004 | 0.019 | |
| genotype.saap | 0.011 | 0.000 | 0.012 | |
| genotype.saap.msa | 0.003 | 0.000 | 0.003 | |
| genotype.snp | 0.005 | 0.000 | 0.005 | |
| genotype.snp.msa | 0.003 | 0.000 | 0.002 | |
| phenotype.saap | 0.002 | 0.000 | 0.002 | |
| phenotype.snp | 0.001 | 0.000 | 0.001 | |
| runDiagnostics | 2.413 | 0.142 | 1.287 | |
| runGenphen | 98.158 | 3.206 | 147.753 | |
| runPhyloBiasCheck | 1.361 | 0.014 | 1.382 | |