| Back to Multiple platform build/check report for BioC 3.9 |
|
This page was generated on 2019-10-16 12:03:44 -0400 (Wed, 16 Oct 2019).
| Package 638/1741 | Hostname | OS / Arch | INSTALL | BUILD | CHECK | BUILD BIN | ||||||
| geneRxCluster 1.20.0 Charles Berry
| malbec2 | Linux (Ubuntu 18.04.2 LTS) / x86_64 | [ OK ] | OK | OK | |||||||
| tokay2 | Windows Server 2012 R2 Standard / x64 | OK | OK | OK | OK | |||||||
| celaya2 | OS X 10.11.6 El Capitan / x86_64 | OK | OK | OK | OK |
| Package: geneRxCluster |
| Version: 1.20.0 |
| Command: /home/biocbuild/bbs-3.9-bioc/R/bin/R CMD INSTALL geneRxCluster |
| StartedAt: 2019-10-15 18:33:32 -0400 (Tue, 15 Oct 2019) |
| EndedAt: 2019-10-15 18:33:42 -0400 (Tue, 15 Oct 2019) |
| EllapsedTime: 9.6 seconds |
| RetCode: 0 |
| Status: OK |
##############################################################################
##############################################################################
###
### Running command:
###
### /home/biocbuild/bbs-3.9-bioc/R/bin/R CMD INSTALL geneRxCluster
###
##############################################################################
##############################################################################
* installing to library ‘/home/biocbuild/bbs-3.9-bioc/R/library’
* installing *source* package ‘geneRxCluster’ ...
** using staged installation
** libs
gcc -I"/home/biocbuild/bbs-3.9-bioc/R/include" -DNDEBUG -I/usr/local/include -fpic -g -O2 -Wall -c cluster.c -o cluster.o
cluster.c: In function ‘cutptClean_new_elt’:
cluster.c:80:6: warning: suggest explicit braces to avoid ambiguous ‘else’ [-Wdangling-else]
if (*pvj!=NOTAIL)
^
cluster.c: In function ‘gRxC_cluster’:
cluster.c:682:2: warning: ‘cutptFunRes’ may be used uninitialized in this function [-Wmaybe-uninitialized]
SET_VECTOR_ELT(final,2,cutptFunRes);
^~~~~~~~~~~~~~~~~~~~~~~~~~~~~~~~~~~
gcc -shared -L/home/biocbuild/bbs-3.9-bioc/R/lib -L/usr/local/lib -o geneRxCluster.so cluster.o -L/home/biocbuild/bbs-3.9-bioc/R/lib -lR
installing to /home/biocbuild/bbs-3.9-bioc/R/library/00LOCK-geneRxCluster/00new/geneRxCluster/libs
** R
** inst
** byte-compile and prepare package for lazy loading
** help
*** installing help indices
** building package indices
** installing vignettes
** testing if installed package can be loaded from temporary location
** checking absolute paths in shared objects and dynamic libraries
** testing if installed package can be loaded from final location
** testing if installed package keeps a record of temporary installation path
* DONE (geneRxCluster)