| Back to Multiple platform build/check report for BioC 3.9 |
|
This page was generated on 2019-10-16 12:18:53 -0400 (Wed, 16 Oct 2019).
| Package 613/1741 | Hostname | OS / Arch | INSTALL | BUILD | CHECK | BUILD BIN | ||||||
| gcrma 2.56.0 Z. Wu
| malbec2 | Linux (Ubuntu 18.04.2 LTS) / x86_64 | OK | OK | OK | |||||||
| tokay2 | Windows Server 2012 R2 Standard / x64 | OK | OK | OK | [ OK ] | |||||||
| celaya2 | OS X 10.11.6 El Capitan / x86_64 | OK | OK | OK | OK |
| Package: gcrma |
| Version: 2.56.0 |
| Command: rm -rf gcrma.buildbin-libdir && mkdir gcrma.buildbin-libdir && C:\Users\biocbuild\bbs-3.9-bioc\R\bin\R.exe CMD INSTALL --merge-multiarch --build --library=gcrma.buildbin-libdir gcrma_2.56.0.tar.gz |
| StartedAt: 2019-10-16 09:15:49 -0400 (Wed, 16 Oct 2019) |
| EndedAt: 2019-10-16 09:16:34 -0400 (Wed, 16 Oct 2019) |
| EllapsedTime: 44.7 seconds |
| RetCode: 0 |
| Status: OK |
| PackageFile: gcrma_2.56.0.zip |
| PackageFileSize: 306.7 KiB |
##############################################################################
##############################################################################
###
### Running command:
###
### rm -rf gcrma.buildbin-libdir && mkdir gcrma.buildbin-libdir && C:\Users\biocbuild\bbs-3.9-bioc\R\bin\R.exe CMD INSTALL --merge-multiarch --build --library=gcrma.buildbin-libdir gcrma_2.56.0.tar.gz
###
##############################################################################
##############################################################################
install for i386
* installing *source* package 'gcrma' ...
** using staged installation
** libs
C:/Rtools/mingw_32/bin/gcc -I"C:/Users/BIOCBU~1/BBS-3~1.9-B/R/include" -DNDEBUG -I"C:/extsoft/include" -O3 -Wall -std=gnu99 -mtune=generic -c baseProfile.c -o baseProfile.o
C:/Rtools/mingw_32/bin/gcc -I"C:/Users/BIOCBU~1/BBS-3~1.9-B/R/include" -DNDEBUG -I"C:/extsoft/include" -O3 -Wall -std=gnu99 -mtune=generic -c computeAffinities.c -o computeAffinities.o
C:/Rtools/mingw_32/bin/gcc -I"C:/Users/BIOCBU~1/BBS-3~1.9-B/R/include" -DNDEBUG -I"C:/extsoft/include" -O3 -Wall -std=gnu99 -mtune=generic -c postmean.c -o postmean.o
C:/Rtools/mingw_32/bin/gcc -shared -s -static-libgcc -o gcrma.dll tmp.def baseProfile.o computeAffinities.o postmean.o -LC:/extsoft/lib/i386 -LC:/extsoft/lib -LC:/Users/BIOCBU~1/BBS-3~1.9-B/R/bin/i386 -lR
installing to C:/Users/biocbuild/bbs-3.9-bioc/meat/gcrma.buildbin-libdir/00LOCK-gcrma/00new/gcrma/libs/i386
** R
** data
** inst
** byte-compile and prepare package for lazy loading
** help
*** installing help indices
converting help for package 'gcrma'
finding HTML links ... done
affinity.spline.coefs html
bg.adjust.affinities html
bg.adjust.gcrma html
bg.parameters.ns html
compute.affinities html
fast.bkg html
gcrma html
gcrma.engine html
gcrma.engine2 html
getCDF html
justGCRMA html
** building package indices
** installing vignettes
** testing if installed package can be loaded from temporary location
** testing if installed package can be loaded from final location
** testing if installed package keeps a record of temporary installation path
install for x64
* installing *source* package 'gcrma' ...
** libs
C:/Rtools/mingw_64/bin/gcc -I"C:/Users/BIOCBU~1/BBS-3~1.9-B/R/include" -DNDEBUG -I"C:/extsoft/include" -O2 -Wall -std=gnu99 -mtune=generic -c baseProfile.c -o baseProfile.o
C:/Rtools/mingw_64/bin/gcc -I"C:/Users/BIOCBU~1/BBS-3~1.9-B/R/include" -DNDEBUG -I"C:/extsoft/include" -O2 -Wall -std=gnu99 -mtune=generic -c computeAffinities.c -o computeAffinities.o
C:/Rtools/mingw_64/bin/gcc -I"C:/Users/BIOCBU~1/BBS-3~1.9-B/R/include" -DNDEBUG -I"C:/extsoft/include" -O2 -Wall -std=gnu99 -mtune=generic -c postmean.c -o postmean.o
C:/Rtools/mingw_64/bin/gcc -shared -s -static-libgcc -o gcrma.dll tmp.def baseProfile.o computeAffinities.o postmean.o -LC:/extsoft/lib/x64 -LC:/extsoft/lib -LC:/Users/BIOCBU~1/BBS-3~1.9-B/R/bin/x64 -lR
installing to C:/Users/biocbuild/bbs-3.9-bioc/meat/gcrma.buildbin-libdir/gcrma/libs/x64
** testing if installed package can be loaded
* MD5 sums
packaged installation of 'gcrma' as gcrma_2.56.0.zip
* DONE (gcrma)