| Back to Multiple platform build/check report for BioC 3.9 |
|
This page was generated on 2019-10-16 12:24:28 -0400 (Wed, 16 Oct 2019).
| Package 602/1741 | Hostname | OS / Arch | INSTALL | BUILD | CHECK | BUILD BIN | ||||||
| gaia 2.28.0 S. Morganella
| malbec2 | Linux (Ubuntu 18.04.2 LTS) / x86_64 | OK | OK | OK | |||||||
| tokay2 | Windows Server 2012 R2 Standard / x64 | OK | OK | OK | [ OK ] | |||||||
| celaya2 | OS X 10.11.6 El Capitan / x86_64 | OK | OK | OK | OK |
| Package: gaia |
| Version: 2.28.0 |
| Command: rm -rf gaia.buildbin-libdir && mkdir gaia.buildbin-libdir && C:\Users\biocbuild\bbs-3.9-bioc\R\bin\R.exe CMD INSTALL --merge-multiarch --build --library=gaia.buildbin-libdir gaia_2.28.0.tar.gz |
| StartedAt: 2019-10-16 09:15:16 -0400 (Wed, 16 Oct 2019) |
| EndedAt: 2019-10-16 09:15:41 -0400 (Wed, 16 Oct 2019) |
| EllapsedTime: 25.7 seconds |
| RetCode: 0 |
| Status: OK |
| PackageFile: gaia_2.28.0.zip |
| PackageFileSize: 700.9 KiB |
##############################################################################
##############################################################################
###
### Running command:
###
### rm -rf gaia.buildbin-libdir && mkdir gaia.buildbin-libdir && C:\Users\biocbuild\bbs-3.9-bioc\R\bin\R.exe CMD INSTALL --merge-multiarch --build --library=gaia.buildbin-libdir gaia_2.28.0.tar.gz
###
##############################################################################
##############################################################################
install for i386
* installing *source* package 'gaia' ...
** using staged installation
** R
** data
** inst
** byte-compile and prepare package for lazy loading
** help
*** installing help indices
converting help for package 'gaia'
finding HTML links ... done
crc html
crc_markers html
gaia-package html
generate_approx_null_hypothesis html
generate_null_hypothesis html
load_cnv html
load_markers html
peel_off html
qvalue html
runGAIA html
search_peaks_in_regions html
synthCNV_Matrix html
synthMarkers_Matrix html
write_significant_regions html
** building package indices
** installing vignettes
** testing if installed package can be loaded from temporary location
** testing if installed package can be loaded from final location
** testing if installed package keeps a record of temporary installation path
install for x64
* installing *source* package 'gaia' ...
** testing if installed package can be loaded
* MD5 sums
packaged installation of 'gaia' as gaia_2.28.0.zip
* DONE (gaia)