| Back to Multiple platform build/check report for BioC 3.9 |
|
This page was generated on 2019-10-16 12:24:21 -0400 (Wed, 16 Oct 2019).
| Package 600/1741 | Hostname | OS / Arch | INSTALL | BUILD | CHECK | BUILD BIN | ||||||
| gage 2.34.0 Weijun Luo
| malbec2 | Linux (Ubuntu 18.04.2 LTS) / x86_64 | OK | OK | WARNINGS | |||||||
| tokay2 | Windows Server 2012 R2 Standard / x64 | OK | OK | WARNINGS | [ OK ] | |||||||
| celaya2 | OS X 10.11.6 El Capitan / x86_64 | OK | OK | WARNINGS | OK |
| Package: gage |
| Version: 2.34.0 |
| Command: rm -rf gage.buildbin-libdir && mkdir gage.buildbin-libdir && C:\Users\biocbuild\bbs-3.9-bioc\R\bin\R.exe CMD INSTALL --merge-multiarch --build --library=gage.buildbin-libdir gage_2.34.0.tar.gz |
| StartedAt: 2019-10-16 09:15:09 -0400 (Wed, 16 Oct 2019) |
| EndedAt: 2019-10-16 09:15:34 -0400 (Wed, 16 Oct 2019) |
| EllapsedTime: 25.6 seconds |
| RetCode: 0 |
| Status: OK |
| PackageFile: gage_2.34.0.zip |
| PackageFileSize: 2.669 MiB |
##############################################################################
##############################################################################
###
### Running command:
###
### rm -rf gage.buildbin-libdir && mkdir gage.buildbin-libdir && C:\Users\biocbuild\bbs-3.9-bioc\R\bin\R.exe CMD INSTALL --merge-multiarch --build --library=gage.buildbin-libdir gage_2.34.0.tar.gz
###
##############################################################################
##############################################################################
install for i386
* installing *source* package 'gage' ...
** using staged installation
** R
** data
** inst
** byte-compile and prepare package for lazy loading
** help
*** installing help indices
converting help for package 'gage'
finding HTML links ... done
eg2sym html
egSymb html
essGene html
esset.grp html
gage-internal html
gage html
gageComp html
gagePipe html
geneData html
go.gsets html
gs.tTest html
gse16873 html
heter.gage html
kegg.gs html
kegg.gsets html
readExpData html
readList html
sigGeneSet html
** building package indices
** installing vignettes
** testing if installed package can be loaded from temporary location
** testing if installed package can be loaded from final location
** testing if installed package keeps a record of temporary installation path
install for x64
* installing *source* package 'gage' ...
** testing if installed package can be loaded
* MD5 sums
packaged installation of 'gage' as gage_2.34.0.zip
* DONE (gage)