| Back to Multiple platform build/check report for BioC 3.9 |
|
This page was generated on 2019-10-16 12:20:59 -0400 (Wed, 16 Oct 2019).
| Package 584/1741 | Hostname | OS / Arch | INSTALL | BUILD | CHECK | BUILD BIN | ||||||
| flowViz 1.48.0 Mike Jiang
| malbec2 | Linux (Ubuntu 18.04.2 LTS) / x86_64 | OK | OK | OK | |||||||
| tokay2 | Windows Server 2012 R2 Standard / x64 | OK | OK | WARNINGS | [ OK ] | |||||||
| celaya2 | OS X 10.11.6 El Capitan / x86_64 | OK | OK | OK | OK |
| Package: flowViz |
| Version: 1.48.0 |
| Command: rm -rf flowViz.buildbin-libdir && mkdir flowViz.buildbin-libdir && C:\Users\biocbuild\bbs-3.9-bioc\R\bin\R.exe CMD INSTALL --merge-multiarch --build --library=flowViz.buildbin-libdir flowViz_1.48.0.tar.gz |
| StartedAt: 2019-10-16 09:14:08 -0400 (Wed, 16 Oct 2019) |
| EndedAt: 2019-10-16 09:14:54 -0400 (Wed, 16 Oct 2019) |
| EllapsedTime: 46.4 seconds |
| RetCode: 0 |
| Status: OK |
| PackageFile: flowViz_1.48.0.zip |
| PackageFileSize: 1006 KiB |
##############################################################################
##############################################################################
###
### Running command:
###
### rm -rf flowViz.buildbin-libdir && mkdir flowViz.buildbin-libdir && C:\Users\biocbuild\bbs-3.9-bioc\R\bin\R.exe CMD INSTALL --merge-multiarch --build --library=flowViz.buildbin-libdir flowViz_1.48.0.tar.gz
###
##############################################################################
##############################################################################
install for i386
* installing *source* package 'flowViz' ...
** using staged installation
** R
** inst
** byte-compile and prepare package for lazy loading
** help
*** installing help indices
converting help for package 'flowViz'
finding HTML links ... done
addName-methods html
contour-methods html
densityplot html
ecdfplot html
flowPlot html
flowViz-package html
flowViz.par.get html
glines-methods html
Rd warning: C:/Users/biocbuild/bbs-3.9-bioc/tmpdir/RtmpYdjDNC/R.INSTALL8d85c397f0a/flowViz/man/glines-methods.Rd:86: file link 'kmeansFilter' in package 'flowCore' does not exist and so has been treated as a topic
Rd warning: C:/Users/biocbuild/bbs-3.9-bioc/tmpdir/RtmpYdjDNC/R.INSTALL8d85c397f0a/flowViz/man/glines-methods.Rd:98: file link 'polygonGate' in package 'flowCore' does not exist and so has been treated as a topic
Rd warning: C:/Users/biocbuild/bbs-3.9-bioc/tmpdir/RtmpYdjDNC/R.INSTALL8d85c397f0a/flowViz/man/glines-methods.Rd:105: file link 'quadGate' in package 'flowCore' does not exist and so has been treated as a topic
Rd warning: C:/Users/biocbuild/bbs-3.9-bioc/tmpdir/RtmpYdjDNC/R.INSTALL8d85c397f0a/flowViz/man/glines-methods.Rd:112: file link 'rectangleGate' in package 'flowCore' does not exist and so has been treated as a topic
Rd warning: C:/Users/biocbuild/bbs-3.9-bioc/tmpdir/RtmpYdjDNC/R.INSTALL8d85c397f0a/flowViz/man/glines-methods.Rd:119: file link 'rectangleGate' in package 'flowCore' does not exist and so has been treated as a topic
glpoints-methods html
glpolygon-methods html
Rd warning: C:/Users/biocbuild/bbs-3.9-bioc/tmpdir/RtmpYdjDNC/R.INSTALL8d85c397f0a/flowViz/man/glpolygon-methods.Rd:118: file link 'kmeansFilter' in package 'flowCore' does not exist and so has been treated as a topic
Rd warning: C:/Users/biocbuild/bbs-3.9-bioc/tmpdir/RtmpYdjDNC/R.INSTALL8d85c397f0a/flowViz/man/glpolygon-methods.Rd:130: file link 'polygonGate' in package 'flowCore' does not exist and so has been treated as a topic
Rd warning: C:/Users/biocbuild/bbs-3.9-bioc/tmpdir/RtmpYdjDNC/R.INSTALL8d85c397f0a/flowViz/man/glpolygon-methods.Rd:137: file link 'quadGate' in package 'flowCore' does not exist and so has been treated as a topic
Rd warning: C:/Users/biocbuild/bbs-3.9-bioc/tmpdir/RtmpYdjDNC/R.INSTALL8d85c397f0a/flowViz/man/glpolygon-methods.Rd:144: file link 'rectangleGate' in package 'flowCore' does not exist and so has been treated as a topic
Rd warning: C:/Users/biocbuild/bbs-3.9-bioc/tmpdir/RtmpYdjDNC/R.INSTALL8d85c397f0a/flowViz/man/glpolygon-methods.Rd:151: file link 'rectangleGate' in package 'flowCore' does not exist and so has been treated as a topic
gpoints-methods html
gpolygon-methods html
Rd warning: C:/Users/biocbuild/bbs-3.9-bioc/tmpdir/RtmpYdjDNC/R.INSTALL8d85c397f0a/flowViz/man/gpolygon-methods.Rd:111: file link 'kmeansFilter' in package 'flowCore' does not exist and so has been treated as a topic
Rd warning: C:/Users/biocbuild/bbs-3.9-bioc/tmpdir/RtmpYdjDNC/R.INSTALL8d85c397f0a/flowViz/man/gpolygon-methods.Rd:123: file link 'polygonGate' in package 'flowCore' does not exist and so has been treated as a topic
Rd warning: C:/Users/biocbuild/bbs-3.9-bioc/tmpdir/RtmpYdjDNC/R.INSTALL8d85c397f0a/flowViz/man/gpolygon-methods.Rd:130: file link 'quadGate' in package 'flowCore' does not exist and so has been treated as a topic
Rd warning: C:/Users/biocbuild/bbs-3.9-bioc/tmpdir/RtmpYdjDNC/R.INSTALL8d85c397f0a/flowViz/man/gpolygon-methods.Rd:137: file link 'rectangleGate' in package 'flowCore' does not exist and so has been treated as a topic
Rd warning: C:/Users/biocbuild/bbs-3.9-bioc/tmpdir/RtmpYdjDNC/R.INSTALL8d85c397f0a/flowViz/man/gpolygon-methods.Rd:144: file link 'ellipsoidGate' in package 'flowCore' does not exist and so has been treated as a topic
lattice-methods html
plot html
splom html
timeLinePlot html
xyplot html
Rd warning: C:/Users/biocbuild/bbs-3.9-bioc/tmpdir/RtmpYdjDNC/R.INSTALL8d85c397f0a/flowViz/man/xyplot.Rd:104: file link 'filtersList-class' in package 'flowCore' does not exist and so has been treated as a topic
Rd warning: C:/Users/biocbuild/bbs-3.9-bioc/tmpdir/RtmpYdjDNC/R.INSTALL8d85c397f0a/flowViz/man/xyplot.Rd:174: file link 'sqrt' in package 'base' does not exist and so has been treated as a topic
** building package indices
** installing vignettes
** testing if installed package can be loaded from temporary location
** testing if installed package can be loaded from final location
** testing if installed package keeps a record of temporary installation path
install for x64
* installing *source* package 'flowViz' ...
** testing if installed package can be loaded
* MD5 sums
packaged installation of 'flowViz' as flowViz_1.48.0.zip
* DONE (flowViz)