| Back to Multiple platform build/check report for BioC 3.9 |
|
This page was generated on 2019-10-16 11:56:18 -0400 (Wed, 16 Oct 2019).
| Package 575/1741 | Hostname | OS / Arch | INSTALL | BUILD | CHECK | BUILD BIN | ||||||
Mike Jiang
| malbec2 | Linux (Ubuntu 18.04.2 LTS) / x86_64 | [ ERROR ] | ERROR | skipped | |||||||
| tokay2 | Windows Server 2012 R2 Standard / x64 | ...NOT SUPPORTED... | ||||||||||
| celaya2 | OS X 10.11.6 El Capitan / x86_64 | ...NOT SUPPORTED... | ||||||||||
| Package: flowQ |
| Version: 1.44.0 |
| Command: /home/biocbuild/bbs-3.9-bioc/R/bin/R CMD INSTALL flowQ |
| StartedAt: 2019-10-15 18:42:49 -0400 (Tue, 15 Oct 2019) |
| EndedAt: 2019-10-15 18:43:17 -0400 (Tue, 15 Oct 2019) |
| EllapsedTime: 28.0 seconds |
| RetCode: 1 |
| Status: ERROR |
##############################################################################
##############################################################################
###
### Running command:
###
### /home/biocbuild/bbs-3.9-bioc/R/bin/R CMD INSTALL flowQ
###
##############################################################################
##############################################################################
* installing to library ‘/home/biocbuild/bbs-3.9-bioc/R/library’
* installing *source* package ‘flowQ’ ...
** using staged installation
** R
** data
** inst
** byte-compile and prepare package for lazy loading
** help
*** installing help indices
** building package indices
** installing vignettes
** testing if installed package can be loaded from temporary location
Error: package or namespace load failed for ‘flowQ’:
.onAttach failed in attachNamespace() for 'flowQ', details:
call: sprintf("Package '%s' is deprecated and will be removed from Bioconductor\n version %s",
error: object 'pkgname' not found
Error: loading failed
Execution halted
ERROR: loading failed
* removing ‘/home/biocbuild/bbs-3.9-bioc/R/library/flowQ’