| Back to Multiple platform build/check report for BioC 3.9 | 
 | 
This page was generated on 2019-10-16 12:28:57 -0400 (Wed, 16 Oct 2019).
| Package 569/1741 | Hostname | OS / Arch | INSTALL | BUILD | CHECK | BUILD BIN | ||||||
| flowMatch 1.20.0 Ariful Azad 
 | malbec2 | Linux (Ubuntu 18.04.2 LTS) / x86_64 | OK | OK | OK |  | ||||||
| tokay2 | Windows Server 2012 R2 Standard / x64 | [ OK ] | OK | OK | OK |  | ||||||
| celaya2 | OS X 10.11.6 El Capitan / x86_64 | OK | OK | OK | OK |  | 
| Package: flowMatch | 
| Version: 1.20.0 | 
| Command: C:\cygwin\bin\curl.exe -O https://malbec2.bioconductor.org/BBS/3.9/bioc/src/contrib/flowMatch_1.20.0.tar.gz && rm -rf flowMatch.buildbin-libdir && mkdir flowMatch.buildbin-libdir && C:\Users\biocbuild\bbs-3.9-bioc\R\bin\R.exe CMD INSTALL --merge-multiarch --build --library=flowMatch.buildbin-libdir flowMatch_1.20.0.tar.gz && C:\Users\biocbuild\bbs-3.9-bioc\R\bin\R.exe CMD INSTALL flowMatch_1.20.0.zip && rm flowMatch_1.20.0.tar.gz flowMatch_1.20.0.zip | 
| StartedAt: 2019-10-15 19:27:56 -0400 (Tue, 15 Oct 2019) | 
| EndedAt: 2019-10-15 19:29:27 -0400 (Tue, 15 Oct 2019) | 
| EllapsedTime: 91.8 seconds | 
| RetCode: 0 | 
| Status: OK | 
##############################################################################
##############################################################################
###
### Running command:
###
###   C:\cygwin\bin\curl.exe -O https://malbec2.bioconductor.org/BBS/3.9/bioc/src/contrib/flowMatch_1.20.0.tar.gz && rm -rf flowMatch.buildbin-libdir && mkdir flowMatch.buildbin-libdir && C:\Users\biocbuild\bbs-3.9-bioc\R\bin\R.exe CMD INSTALL --merge-multiarch --build --library=flowMatch.buildbin-libdir flowMatch_1.20.0.tar.gz && C:\Users\biocbuild\bbs-3.9-bioc\R\bin\R.exe CMD INSTALL flowMatch_1.20.0.zip && rm flowMatch_1.20.0.tar.gz flowMatch_1.20.0.zip
###
##############################################################################
##############################################################################
  % Total    % Received % Xferd  Average Speed   Time    Time     Time  Current
                                 Dload  Upload   Total   Spent    Left  Speed
  0     0    0     0    0     0      0      0 --:--:-- --:--:-- --:--:--     0
  0  123k    0     0    0     0      0      0 --:--:-- --:--:-- --:--:--     0
100  123k  100  123k    0     0  1506k      0 --:--:-- --:--:-- --:--:-- 1621k
install for i386
* installing *source* package 'flowMatch' ...
** using staged installation
** libs
C:/Rtools/mingw_32/bin/g++  -I"C:/Users/BIOCBU~1/BBS-3~1.9-B/R/include" -DNDEBUG  -I"C:/Users/biocbuild/bbs-3.9-bioc/R/library/Rcpp/include"   -I"C:/extsoft/include"     -O2 -Wall  -mtune=generic -c BipartiteGraph.cpp -o BipartiteGraph.o
C:/Rtools/mingw_32/bin/g++  -I"C:/Users/BIOCBU~1/BBS-3~1.9-B/R/include" -DNDEBUG  -I"C:/Users/biocbuild/bbs-3.9-bioc/R/library/Rcpp/include"   -I"C:/extsoft/include"     -O2 -Wall  -mtune=generic -c MinWghtEdgCoverBipartite.cpp -o MinWghtEdgCoverBipartite.o
MinWghtEdgCoverBipartite.cpp: In function 'void update_height(mclust&, std::vector >, std::vector >, double)':
MinWghtEdgCoverBipartite.cpp:271:16: warning: comparison between signed and unsigned integer expressions [-Wsign-compare]
  for(int i=0; i >&, std::vector >&, double, double)':
MinWghtEdgCoverBipartite.cpp:487:10: warning: variable 'delta_cx_cy' set but not used [-Wunused-but-set-variable]
      int delta_cx_cy  = 0;
          ^
C:/Rtools/mingw_32/bin/g++  -I"C:/Users/BIOCBU~1/BBS-3~1.9-B/R/include" -DNDEBUG  -I"C:/Users/biocbuild/bbs-3.9-bioc/R/library/Rcpp/include"   -I"C:/extsoft/include"     -O2 -Wall  -mtune=generic -c flowMatch.cpp -o flowMatch.o
flowMatch.cpp: In function 'Rcpp::List computeMEC(Rcpp::NumericMatrix, double)':
flowMatch.cpp:43:16: warning: comparison between signed and unsigned integer expressions [-Wsign-compare]
  for(int i=0; i >, std::vector >, double)':
MinWghtEdgCoverBipartite.cpp:271:16: warning: comparison between signed and unsigned integer expressions [-Wsign-compare]
  for(int i=0; i >&, std::vector >&, double, double)':
MinWghtEdgCoverBipartite.cpp:487:10: warning: variable 'delta_cx_cy' set but not used [-Wunused-but-set-variable]
      int delta_cx_cy  = 0;
          ^
C:/Rtools/mingw_64/bin/g++  -I"C:/Users/BIOCBU~1/BBS-3~1.9-B/R/include" -DNDEBUG  -I"C:/Users/biocbuild/bbs-3.9-bioc/R/library/Rcpp/include"   -I"C:/extsoft/include"     -O2 -Wall  -mtune=generic -c flowMatch.cpp -o flowMatch.o
flowMatch.cpp: In function 'Rcpp::List computeMEC(Rcpp::NumericMatrix, double)':
flowMatch.cpp:43:16: warning: comparison between signed and unsigned integer expressions [-Wsign-compare]
  for(int i=0; i