| Back to Multiple platform build/check report for BioC 3.9 |
|
This page was generated on 2019-10-16 12:29:39 -0400 (Wed, 16 Oct 2019).
| Package 564/1741 | Hostname | OS / Arch | INSTALL | BUILD | CHECK | BUILD BIN | ||||||
| flowCyBar 1.20.0 Joachim Schumann
| malbec2 | Linux (Ubuntu 18.04.2 LTS) / x86_64 | OK | OK | OK | |||||||
| tokay2 | Windows Server 2012 R2 Standard / x64 | [ OK ] | OK | OK | OK | |||||||
| celaya2 | OS X 10.11.6 El Capitan / x86_64 | OK | OK | OK | OK |
| Package: flowCyBar |
| Version: 1.20.0 |
| Command: C:\cygwin\bin\curl.exe -O https://malbec2.bioconductor.org/BBS/3.9/bioc/src/contrib/flowCyBar_1.20.0.tar.gz && rm -rf flowCyBar.buildbin-libdir && mkdir flowCyBar.buildbin-libdir && C:\Users\biocbuild\bbs-3.9-bioc\R\bin\R.exe CMD INSTALL --merge-multiarch --build --library=flowCyBar.buildbin-libdir flowCyBar_1.20.0.tar.gz && C:\Users\biocbuild\bbs-3.9-bioc\R\bin\R.exe CMD INSTALL flowCyBar_1.20.0.zip && rm flowCyBar_1.20.0.tar.gz flowCyBar_1.20.0.zip |
| StartedAt: 2019-10-15 19:18:39 -0400 (Tue, 15 Oct 2019) |
| EndedAt: 2019-10-15 19:19:08 -0400 (Tue, 15 Oct 2019) |
| EllapsedTime: 28.7 seconds |
| RetCode: 0 |
| Status: OK |
##############################################################################
##############################################################################
###
### Running command:
###
### C:\cygwin\bin\curl.exe -O https://malbec2.bioconductor.org/BBS/3.9/bioc/src/contrib/flowCyBar_1.20.0.tar.gz && rm -rf flowCyBar.buildbin-libdir && mkdir flowCyBar.buildbin-libdir && C:\Users\biocbuild\bbs-3.9-bioc\R\bin\R.exe CMD INSTALL --merge-multiarch --build --library=flowCyBar.buildbin-libdir flowCyBar_1.20.0.tar.gz && C:\Users\biocbuild\bbs-3.9-bioc\R\bin\R.exe CMD INSTALL flowCyBar_1.20.0.zip && rm flowCyBar_1.20.0.tar.gz flowCyBar_1.20.0.zip
###
##############################################################################
##############################################################################
% Total % Received % Xferd Average Speed Time Time Time Current
Dload Upload Total Spent Left Speed
0 0 0 0 0 0 0 0 --:--:-- --:--:-- --:--:-- 0
100 24213 100 24213 0 0 226k 0 --:--:-- --:--:-- --:--:-- 241k
install for i386
* installing *source* package 'flowCyBar' ...
files 'build/vignette.rds', 'inst/doc/flowCyBar-manual.R', 'inst/doc/flowCyBar-manual.Rnw', 'inst/doc/flowCyBar-manual.bib', 'inst/doc/flowCyBar-manual.pdf' are missing
files 'DESCRIPTION', 'R/correlation.R', 'R/cybar_plot.R', 'R/nmds.R', 'R/normalize.R', 'man/correlation.Rd', 'man/cybar_plot.Rd', 'man/flowCyBar-package.Rd', 'man/nmds.Rd', 'man/normalize.Rd', 'vignettes/flowCyBar-manual.Rnw' have the wrong MD5 checksums
** using staged installation
** R
** data
** byte-compile and prepare package for lazy loading
** help
*** installing help indices
converting help for package 'flowCyBar'
finding HTML links ... done
Abiotic_data_sample html
Cell_number_sample html
Corr_data_sample html
correlation html
cybar_plot html
flowCyBar-package html
nmds html
normalize html
** building package indices
** installing vignettes
** testing if installed package can be loaded from temporary location
** testing if installed package can be loaded from final location
** testing if installed package keeps a record of temporary installation path
install for x64
* installing *source* package 'flowCyBar' ...
files 'build/vignette.rds', 'inst/doc/flowCyBar-manual.R', 'inst/doc/flowCyBar-manual.Rnw', 'inst/doc/flowCyBar-manual.bib', 'inst/doc/flowCyBar-manual.pdf' are missing
files 'DESCRIPTION', 'R/correlation.R', 'R/cybar_plot.R', 'R/nmds.R', 'R/normalize.R', 'man/correlation.Rd', 'man/cybar_plot.Rd', 'man/flowCyBar-package.Rd', 'man/nmds.Rd', 'man/normalize.Rd', 'vignettes/flowCyBar-manual.Rnw' have the wrong MD5 checksums
** testing if installed package can be loaded
* MD5 sums
packaged installation of 'flowCyBar' as flowCyBar_1.20.0.zip
* DONE (flowCyBar)
* installing to library 'C:/Users/biocbuild/bbs-3.9-bioc/R/library'
package 'flowCyBar' successfully unpacked and MD5 sums checked