| Back to Multiple platform build/check report for BioC 3.9 | 
 | 
This page was generated on 2019-10-16 12:35:53 -0400 (Wed, 16 Oct 2019).
| Package 515/1741 | Hostname | OS / Arch | INSTALL | BUILD | CHECK | BUILD BIN | ||||||
| epivizrStandalone 1.12.0 Hector Corrada Bravo 
 | malbec2 | Linux (Ubuntu 18.04.2 LTS) / x86_64 | OK | OK | OK |  | ||||||
| tokay2 | Windows Server 2012 R2 Standard / x64 | OK | [ OK ] | WARNINGS | OK |  | ||||||
| celaya2 | OS X 10.11.6 El Capitan / x86_64 | OK | OK | OK | OK |  | 
| Package: epivizrStandalone | 
| Version: 1.12.0 | 
| Command: chmod a+r epivizrStandalone -R && C:\Users\biocbuild\bbs-3.9-bioc\R\bin\R.exe CMD build --keep-empty-dirs --no-resave-data epivizrStandalone | 
| StartedAt: 2019-10-15 23:59:03 -0400 (Tue, 15 Oct 2019) | 
| EndedAt: 2019-10-15 23:59:45 -0400 (Tue, 15 Oct 2019) | 
| EllapsedTime: 42.2 seconds | 
| RetCode: 0 | 
| Status: OK | 
| PackageFile: epivizrStandalone_1.12.0.tar.gz | 
| PackageFileSize: 221.4 KiB | 
############################################################################## ############################################################################## ### ### Running command: ### ### chmod a+r epivizrStandalone -R && C:\Users\biocbuild\bbs-3.9-bioc\R\bin\R.exe CMD build --keep-empty-dirs --no-resave-data epivizrStandalone ### ############################################################################## ############################################################################## * checking for file 'epivizrStandalone/DESCRIPTION' ... OK * preparing 'epivizrStandalone': * checking DESCRIPTION meta-information ... OK * installing the package to build vignettes * creating vignettes ... OK * checking for LF line-endings in source and make files and shell scripts * checking for empty or unneeded directories * building 'epivizrStandalone_1.12.0.tar.gz'