| Back to Multiple platform build/check report for BioC 3.9 | 
 | 
This page was generated on 2019-10-16 12:43:03 -0400 (Wed, 16 Oct 2019).
| Package 509/1741 | Hostname | OS / Arch | INSTALL | BUILD | CHECK | BUILD BIN | ||||||
| epihet 1.0.0 Xiaowen Chen 
 | malbec2 | Linux (Ubuntu 18.04.2 LTS) / x86_64 | OK | OK | OK |  | ||||||
| tokay2 | Windows Server 2012 R2 Standard / x64 | [ OK ] | OK | OK | OK |  | ||||||
| celaya2 | OS X 10.11.6 El Capitan / x86_64 | OK | OK | OK | OK |  | 
| Package: epihet | 
| Version: 1.0.0 | 
| Command: C:\cygwin\bin\curl.exe -O https://malbec2.bioconductor.org/BBS/3.9/bioc/src/contrib/epihet_1.0.0.tar.gz && rm -rf epihet.buildbin-libdir && mkdir epihet.buildbin-libdir && C:\Users\biocbuild\bbs-3.9-bioc\R\bin\R.exe CMD INSTALL --merge-multiarch --build --library=epihet.buildbin-libdir epihet_1.0.0.tar.gz && C:\Users\biocbuild\bbs-3.9-bioc\R\bin\R.exe CMD INSTALL epihet_1.0.0.zip && rm epihet_1.0.0.tar.gz epihet_1.0.0.zip | 
| StartedAt: 2019-10-15 20:01:04 -0400 (Tue, 15 Oct 2019) | 
| EndedAt: 2019-10-15 20:02:03 -0400 (Tue, 15 Oct 2019) | 
| EllapsedTime: 59.3 seconds | 
| RetCode: 0 | 
| Status: OK | 
##############################################################################
##############################################################################
###
### Running command:
###
###   C:\cygwin\bin\curl.exe -O https://malbec2.bioconductor.org/BBS/3.9/bioc/src/contrib/epihet_1.0.0.tar.gz && rm -rf epihet.buildbin-libdir && mkdir epihet.buildbin-libdir && C:\Users\biocbuild\bbs-3.9-bioc\R\bin\R.exe CMD INSTALL --merge-multiarch --build --library=epihet.buildbin-libdir epihet_1.0.0.tar.gz && C:\Users\biocbuild\bbs-3.9-bioc\R\bin\R.exe CMD INSTALL epihet_1.0.0.zip && rm epihet_1.0.0.tar.gz epihet_1.0.0.zip
###
##############################################################################
##############################################################################
  % Total    % Received % Xferd  Average Speed   Time    Time     Time  Current
                                 Dload  Upload   Total   Spent    Left  Speed
  0     0    0     0    0     0      0      0 --:--:-- --:--:-- --:--:--     0
100  453k  100  453k    0     0  3592k      0 --:--:-- --:--:-- --:--:-- 3811k
install for i386
* installing *source* package 'epihet' ...
** using staged installation
** R
** data
** inst
** byte-compile and prepare package for lazy loading
** help
*** installing help indices
  converting help for package 'epihet'
    finding HTML links ... done
    compMatrix                              html  
    data                                    html  
    diffHet                                 html  
    epiBox                                  html  
    epiMA                                   html  
    epiMap                                  html  
    epiNetwork                              html  
    epiPCA                                  html  
    epiPathway                              html  
    epiTSNE                                 html  
    jaccard                                 html  
    makeGR                                  html  
    moduleAnno                              html  
    moduleSim                               html  
    moduleVisual                            html  
    readGR                                  html  
    shannon                                 html  
    splitn                                  html  
    summarize                               html  
    userobj                                 html  
** building package indices
** installing vignettes
** testing if installed package can be loaded from temporary location
** testing if installed package can be loaded from final location
** testing if installed package keeps a record of temporary installation path
install for x64
* installing *source* package 'epihet' ...
** testing if installed package can be loaded
* MD5 sums
packaged installation of 'epihet' as epihet_1.0.0.zip
* DONE (epihet)
* installing to library 'C:/Users/biocbuild/bbs-3.9-bioc/R/library'
package 'epihet' successfully unpacked and MD5 sums checked