| Back to Multiple platform build/check report for BioC 3.9 |
|
This page was generated on 2019-10-16 12:32:47 -0400 (Wed, 16 Oct 2019).
| Package 504/1741 | Hostname | OS / Arch | INSTALL | BUILD | CHECK | BUILD BIN | ||||||
| ensembldb 2.8.1 Johannes Rainer
| malbec2 | Linux (Ubuntu 18.04.2 LTS) / x86_64 | OK | OK | OK | |||||||
| tokay2 | Windows Server 2012 R2 Standard / x64 | OK | OK | OK | [ OK ] | |||||||
| celaya2 | OS X 10.11.6 El Capitan / x86_64 | OK | OK | OK | OK |
| Package: ensembldb |
| Version: 2.8.1 |
| Command: rm -rf ensembldb.buildbin-libdir && mkdir ensembldb.buildbin-libdir && C:\Users\biocbuild\bbs-3.9-bioc\R\bin\R.exe CMD INSTALL --merge-multiarch --build --library=ensembldb.buildbin-libdir ensembldb_2.8.1.tar.gz |
| StartedAt: 2019-10-16 09:08:49 -0400 (Wed, 16 Oct 2019) |
| EndedAt: 2019-10-16 09:09:50 -0400 (Wed, 16 Oct 2019) |
| EllapsedTime: 60.7 seconds |
| RetCode: 0 |
| Status: OK |
| PackageFile: ensembldb_2.8.1.zip |
| PackageFileSize: 3.364 MiB |
##############################################################################
##############################################################################
###
### Running command:
###
### rm -rf ensembldb.buildbin-libdir && mkdir ensembldb.buildbin-libdir && C:\Users\biocbuild\bbs-3.9-bioc\R\bin\R.exe CMD INSTALL --merge-multiarch --build --library=ensembldb.buildbin-libdir ensembldb_2.8.1.tar.gz
###
##############################################################################
##############################################################################
install for i386
* installing *source* package 'ensembldb' ...
** using staged installation
** R
** inst
** byte-compile and prepare package for lazy loading
** help
*** installing help indices
converting help for package 'ensembldb'
finding HTML links ... done
Deprecated html
EnsDb-AnnotationDbi html
EnsDb-class html
EnsDb-exonsBy html
finding level-2 HTML links ... done
EnsDb-lengths html
EnsDb-seqlevels html
EnsDb-sequences html
EnsDb-utils html
EnsDb html
Filter-classes html
ProteinFunctionality html
cdsToTranscript html
convertFilter html
genomeToProtein html
genomeToTranscript html
global-filters html
hasProteinData-EnsDb-method html
listEnsDbs html
makeEnsemblDbPackage html
proteinToGenome html
proteinToTranscript html
runEnsDbApp html
transcriptToCds html
transcriptToGenome html
transcriptToProtein html
useMySQL-EnsDb-method html
** building package indices
** installing vignettes
** testing if installed package can be loaded from temporary location
** testing if installed package can be loaded from final location
** testing if installed package keeps a record of temporary installation path
install for x64
* installing *source* package 'ensembldb' ...
** testing if installed package can be loaded
* MD5 sums
packaged installation of 'ensembldb' as ensembldb_2.8.1.zip
* DONE (ensembldb)