| Back to Multiple platform build/check report for BioC 3.9 |
|
This page was generated on 2019-10-16 12:44:16 -0400 (Wed, 16 Oct 2019).
| Package 503/1741 | Hostname | OS / Arch | INSTALL | BUILD | CHECK | BUILD BIN | ||||||
| enrichTF 1.0.0 Zheng Wei
| malbec2 | Linux (Ubuntu 18.04.2 LTS) / x86_64 | OK | OK | OK | |||||||
| tokay2 | Windows Server 2012 R2 Standard / x64 | OK | OK | OK | [ OK ] | |||||||
| celaya2 | OS X 10.11.6 El Capitan / x86_64 | OK | OK | OK | OK |
| Package: enrichTF |
| Version: 1.0.0 |
| Command: rm -rf enrichTF.buildbin-libdir && mkdir enrichTF.buildbin-libdir && C:\Users\biocbuild\bbs-3.9-bioc\R\bin\R.exe CMD INSTALL --merge-multiarch --build --library=enrichTF.buildbin-libdir enrichTF_1.0.0.tar.gz |
| StartedAt: 2019-10-16 09:08:46 -0400 (Wed, 16 Oct 2019) |
| EndedAt: 2019-10-16 09:09:46 -0400 (Wed, 16 Oct 2019) |
| EllapsedTime: 60.6 seconds |
| RetCode: 0 |
| Status: OK |
| PackageFile: enrichTF_1.0.0.zip |
| PackageFileSize: 1.31 MiB |
##############################################################################
##############################################################################
###
### Running command:
###
### rm -rf enrichTF.buildbin-libdir && mkdir enrichTF.buildbin-libdir && C:\Users\biocbuild\bbs-3.9-bioc\R\bin\R.exe CMD INSTALL --merge-multiarch --build --library=enrichTF.buildbin-libdir enrichTF_1.0.0.tar.gz
###
##############################################################################
##############################################################################
install for i386
* installing *source* package 'enrichTF' ...
** using staged installation
** R
** inst
** byte-compile and prepare package for lazy loading
** help
*** installing help indices
converting help for package 'enrichTF'
finding HTML links ... done
EnrichStep-class html
GenBackground html
finding level-2 HTML links ... done
MotifsInRegions html
PECA_TF_enrich html
RegionConnectTargetGene html
TFsEnrichInRegions html
** building package indices
** installing vignettes
** testing if installed package can be loaded from temporary location
** testing if installed package can be loaded from final location
** testing if installed package keeps a record of temporary installation path
install for x64
* installing *source* package 'enrichTF' ...
** testing if installed package can be loaded
* MD5 sums
packaged installation of 'enrichTF' as enrichTF_1.0.0.zip
* DONE (enrichTF)