| Back to Multiple platform build/check report for BioC 3.9 |
|
This page was generated on 2019-10-16 12:06:48 -0400 (Wed, 16 Oct 2019).
| Package 486/1741 | Hostname | OS / Arch | INSTALL | BUILD | CHECK | BUILD BIN | ||||||
| edge 2.16.0 John D. Storey
| malbec2 | Linux (Ubuntu 18.04.2 LTS) / x86_64 | OK | OK | [ OK ] | |||||||
| tokay2 | Windows Server 2012 R2 Standard / x64 | OK | OK | OK | OK | |||||||
| celaya2 | OS X 10.11.6 El Capitan / x86_64 | OK | OK | OK | OK |
| Package: edge |
| Version: 2.16.0 |
| Command: /home/biocbuild/bbs-3.9-bioc/R/bin/R CMD check --install=check:edge.install-out.txt --library=/home/biocbuild/bbs-3.9-bioc/R/library --no-vignettes --timings edge_2.16.0.tar.gz |
| StartedAt: 2019-10-16 01:24:18 -0400 (Wed, 16 Oct 2019) |
| EndedAt: 2019-10-16 01:27:27 -0400 (Wed, 16 Oct 2019) |
| EllapsedTime: 189.2 seconds |
| RetCode: 0 |
| Status: OK |
| CheckDir: edge.Rcheck |
| Warnings: 0 |
##############################################################################
##############################################################################
###
### Running command:
###
### /home/biocbuild/bbs-3.9-bioc/R/bin/R CMD check --install=check:edge.install-out.txt --library=/home/biocbuild/bbs-3.9-bioc/R/library --no-vignettes --timings edge_2.16.0.tar.gz
###
##############################################################################
##############################################################################
* using log directory ‘/home/biocbuild/bbs-3.9-bioc/meat/edge.Rcheck’
* using R version 3.6.1 (2019-07-05)
* using platform: x86_64-pc-linux-gnu (64-bit)
* using session charset: UTF-8
* using option ‘--no-vignettes’
* checking for file ‘edge/DESCRIPTION’ ... OK
* checking extension type ... Package
* this is package ‘edge’ version ‘2.16.0’
* checking package namespace information ... OK
* checking package dependencies ... OK
* checking if this is a source package ... OK
* checking if there is a namespace ... OK
* checking for hidden files and directories ... OK
* checking for portable file names ... OK
* checking for sufficient/correct file permissions ... OK
* checking whether package ‘edge’ can be installed ... OK
* checking installed package size ... OK
* checking package directory ... OK
* checking ‘build’ directory ... OK
* checking DESCRIPTION meta-information ... OK
* checking top-level files ... OK
* checking for left-over files ... OK
* checking index information ... OK
* checking package subdirectories ... OK
* checking R files for non-ASCII characters ... OK
* checking R files for syntax errors ... OK
* checking whether the package can be loaded ... OK
* checking whether the package can be loaded with stated dependencies ... OK
* checking whether the package can be unloaded cleanly ... OK
* checking whether the namespace can be loaded with stated dependencies ... OK
* checking whether the namespace can be unloaded cleanly ... OK
* checking dependencies in R code ... OK
* checking S3 generic/method consistency ... OK
* checking replacement functions ... OK
* checking foreign function calls ... OK
* checking R code for possible problems ... NOTE
build_study: no visible global function definition for ‘as.formula’
createSet: no visible global function definition for ‘model.matrix’
deSetCheck: no visible global function definition for ‘model.matrix’
fitFDist: no visible global function definition for ‘median’
fitFDist: no visible global function definition for ‘lm.fit’
fitFDist: no visible global function definition for ‘predict’
fit_wmodels: no visible global function definition for ‘model.matrix’
fit_wmodels: no visible global function definition for ‘lm.wfit’
null: no visible global function definition for ‘model.matrix’
apply_sva,deSet: no visible global function definition for ‘as.formula’
apply_sva,deSet: no visible global function definition for ‘terms’
fit_models,deSet: no visible global function definition for
‘model.matrix’
fullModel<-,deSet: no visible global function definition for
‘model.matrix’
lrt,deSet-deFit: no visible global function definition for ‘pf’
nullModel<-,deSet: no visible global function definition for
‘model.matrix’
Undefined global functions or variables:
as.formula lm.fit lm.wfit median model.matrix pf predict terms
Consider adding
importFrom("stats", "as.formula", "lm.fit", "lm.wfit", "median",
"model.matrix", "pf", "predict", "terms")
to your NAMESPACE file.
* checking Rd files ... OK
* checking Rd metadata ... OK
* checking Rd cross-references ... OK
* checking for missing documentation entries ... OK
* checking for code/documentation mismatches ... OK
* checking Rd \usage sections ... OK
* checking Rd contents ... OK
* checking for unstated dependencies in examples ... OK
* checking contents of ‘data’ directory ... OK
* checking data for non-ASCII characters ... OK
* checking data for ASCII and uncompressed saves ... OK
* checking line endings in C/C++/Fortran sources/headers ... OK
* checking compiled code ... NOTE
Note: information on .o files is not available
* checking files in ‘vignettes’ ... OK
* checking examples ... OK
Examples with CPU or elapsed time > 5s
user system elapsed
apply_snm 13.195 0.124 13.319
* checking for unstated dependencies in ‘tests’ ... OK
* checking tests ...
Running ‘testthat.R’
OK
* checking for unstated dependencies in vignettes ... OK
* checking package vignettes in ‘inst/doc’ ... OK
* checking running R code from vignettes ... SKIPPED
* checking re-building of vignette outputs ... SKIPPED
* checking PDF version of manual ... OK
* DONE
Status: 2 NOTEs
See
‘/home/biocbuild/bbs-3.9-bioc/meat/edge.Rcheck/00check.log’
for details.
edge.Rcheck/00install.out
##############################################################################
##############################################################################
###
### Running command:
###
### /home/biocbuild/bbs-3.9-bioc/R/bin/R CMD INSTALL edge
###
##############################################################################
##############################################################################
* installing to library ‘/home/biocbuild/bbs-3.9-bioc/R/library’
* installing *source* package ‘edge’ ...
** using staged installation
** libs
gcc -I"/home/biocbuild/bbs-3.9-bioc/R/include" -DNDEBUG -I/usr/local/include -fpic -g -O2 -Wall -c edge-init.c -o edge-init.o
gcc -I"/home/biocbuild/bbs-3.9-bioc/R/include" -DNDEBUG -I/usr/local/include -fpic -g -O2 -Wall -c edgeKLODP.c -o edgeKLODP.o
edgeKLODP.c: In function ‘odpScoreCluster’:
edgeKLODP.c:65:5: warning: ‘middle’ may be used uninitialized in this function [-Wmaybe-uninitialized]
free_vector(middle, 0, *p - 1);
^~~~~~~~~~~~~~~~~~~~~~~~~~~~~~
gcc -shared -L/home/biocbuild/bbs-3.9-bioc/R/lib -L/usr/local/lib -o edge.so edge-init.o edgeKLODP.o -L/home/biocbuild/bbs-3.9-bioc/R/lib -lR
installing to /home/biocbuild/bbs-3.9-bioc/R/library/00LOCK-edge/00new/edge/libs
** R
** data
*** moving datasets to lazyload DB
** inst
** byte-compile and prepare package for lazy loading
** help
*** installing help indices
** building package indices
** installing vignettes
** testing if installed package can be loaded from temporary location
** checking absolute paths in shared objects and dynamic libraries
** testing if installed package can be loaded from final location
** testing if installed package keeps a record of temporary installation path
* DONE (edge)
edge.Rcheck/tests/testthat.Rout
R version 3.6.1 (2019-07-05) -- "Action of the Toes"
Copyright (C) 2019 The R Foundation for Statistical Computing
Platform: x86_64-pc-linux-gnu (64-bit)
R is free software and comes with ABSOLUTELY NO WARRANTY.
You are welcome to redistribute it under certain conditions.
Type 'license()' or 'licence()' for distribution details.
R is a collaborative project with many contributors.
Type 'contributors()' for more information and
'citation()' on how to cite R or R packages in publications.
Type 'demo()' for some demos, 'help()' for on-line help, or
'help.start()' for an HTML browser interface to help.
Type 'q()' to quit R.
> library(testthat)
> library(edge)
Loading required package: Biobase
Loading required package: BiocGenerics
Loading required package: parallel
Attaching package: 'BiocGenerics'
The following objects are masked from 'package:parallel':
clusterApply, clusterApplyLB, clusterCall, clusterEvalQ,
clusterExport, clusterMap, parApply, parCapply, parLapply,
parLapplyLB, parRapply, parSapply, parSapplyLB
The following objects are masked from 'package:stats':
IQR, mad, sd, var, xtabs
The following objects are masked from 'package:base':
Filter, Find, Map, Position, Reduce, anyDuplicated, append,
as.data.frame, basename, cbind, colnames, dirname, do.call,
duplicated, eval, evalq, get, grep, grepl, intersect, is.unsorted,
lapply, mapply, match, mget, order, paste, pmax, pmax.int, pmin,
pmin.int, rank, rbind, rownames, sapply, setdiff, sort, table,
tapply, union, unique, unsplit, which, which.max, which.min
Welcome to Bioconductor
Vignettes contain introductory material; view with
'browseVignettes()'. To cite Bioconductor, see
'citation("Biobase")', and for packages 'citation("pkgname")'.
>
> test_check("edge")
══ testthat results ═══════════════════════════════════════════════════════════
[ OK: 29 | SKIPPED: 0 | WARNINGS: 0 | FAILED: 0 ]
>
> proc.time()
user system elapsed
8.502 0.267 8.754
edge.Rcheck/edge-Ex.timings
| name | user | system | elapsed | |
| apply_jackstraw | 2.342 | 0.012 | 2.354 | |
| apply_qvalue | 0.545 | 0.008 | 0.552 | |
| apply_snm | 13.195 | 0.124 | 13.319 | |
| apply_sva | 3.260 | 0.060 | 3.321 | |
| betaCoef | 0.309 | 0.000 | 0.309 | |
| build_models | 0.353 | 0.000 | 0.352 | |
| build_study | 0.302 | 0.000 | 0.302 | |
| deSet | 0.706 | 0.000 | 0.707 | |
| edge | 0 | 0 | 0 | |
| endotoxin | 1.085 | 0.000 | 1.094 | |
| fitFull | 0.281 | 0.000 | 0.281 | |
| fitNull | 0.294 | 0.000 | 0.294 | |
| fit_models | 0.477 | 0.004 | 0.482 | |
| fullMatrix | 0.487 | 0.000 | 0.488 | |
| fullModel | 0.521 | 0.004 | 0.525 | |
| gibson | 0.678 | 0.000 | 0.678 | |
| individual | 0.291 | 0.000 | 0.291 | |
| kidney | 0.816 | 0.000 | 0.816 | |
| kl_clust | 0.428 | 0.000 | 0.427 | |
| lrt | 0.875 | 0.000 | 0.875 | |
| nullMatrix | 0.364 | 0.000 | 0.365 | |
| nullModel | 0.943 | 0.003 | 0.945 | |
| odp | 2.260 | 0.000 | 2.259 | |
| qvalueObj | 1.372 | 0.000 | 1.372 | |
| resFull | 0.438 | 0.000 | 0.438 | |
| resNull | 0.463 | 0.000 | 0.464 | |
| sType | 0.444 | 0.000 | 0.444 | |
| show | 1.305 | 0.004 | 1.309 | |
| summary | 0.891 | 0.000 | 0.891 | |