| Back to Multiple platform build/check report for BioC 3.9 |
|
This page was generated on 2019-10-16 12:26:03 -0400 (Wed, 16 Oct 2019).
| Package 476/1741 | Hostname | OS / Arch | INSTALL | BUILD | CHECK | BUILD BIN | ||||||
| easyRNASeq 2.20.0 Nicolas Delhomme
| malbec2 | Linux (Ubuntu 18.04.2 LTS) / x86_64 | OK | OK | OK | |||||||
| tokay2 | Windows Server 2012 R2 Standard / x64 | [ OK ] | OK | OK | OK | |||||||
| celaya2 | OS X 10.11.6 El Capitan / x86_64 | OK | OK | OK | OK |
| Package: easyRNASeq |
| Version: 2.20.0 |
| Command: C:\cygwin\bin\curl.exe -O https://malbec2.bioconductor.org/BBS/3.9/bioc/src/contrib/easyRNASeq_2.20.0.tar.gz && rm -rf easyRNASeq.buildbin-libdir && mkdir easyRNASeq.buildbin-libdir && C:\Users\biocbuild\bbs-3.9-bioc\R\bin\R.exe CMD INSTALL --merge-multiarch --build --library=easyRNASeq.buildbin-libdir easyRNASeq_2.20.0.tar.gz && C:\Users\biocbuild\bbs-3.9-bioc\R\bin\R.exe CMD INSTALL easyRNASeq_2.20.0.zip && rm easyRNASeq_2.20.0.tar.gz easyRNASeq_2.20.0.zip |
| StartedAt: 2019-10-15 20:10:00 -0400 (Tue, 15 Oct 2019) |
| EndedAt: 2019-10-15 20:12:25 -0400 (Tue, 15 Oct 2019) |
| EllapsedTime: 144.8 seconds |
| RetCode: 0 |
| Status: OK |
##############################################################################
##############################################################################
###
### Running command:
###
### C:\cygwin\bin\curl.exe -O https://malbec2.bioconductor.org/BBS/3.9/bioc/src/contrib/easyRNASeq_2.20.0.tar.gz && rm -rf easyRNASeq.buildbin-libdir && mkdir easyRNASeq.buildbin-libdir && C:\Users\biocbuild\bbs-3.9-bioc\R\bin\R.exe CMD INSTALL --merge-multiarch --build --library=easyRNASeq.buildbin-libdir easyRNASeq_2.20.0.tar.gz && C:\Users\biocbuild\bbs-3.9-bioc\R\bin\R.exe CMD INSTALL easyRNASeq_2.20.0.zip && rm easyRNASeq_2.20.0.tar.gz easyRNASeq_2.20.0.zip
###
##############################################################################
##############################################################################
% Total % Received % Xferd Average Speed Time Time Time Current
Dload Upload Total Spent Left Speed
0 0 0 0 0 0 0 0 --:--:-- --:--:-- --:--:-- 0
100 121k 100 121k 0 0 1984k 0 --:--:-- --:--:-- --:--:-- 2253k
install for i386
* installing *source* package 'easyRNASeq' ...
** using staged installation
** R
** data
** inst
** byte-compile and prepare package for lazy loading
Creating a generic function for 'basename' from package 'base' in package 'easyRNASeq'
Creating a generic function for 'file.exists' from package 'base' in package 'easyRNASeq'
** help
*** installing help indices
converting help for package 'easyRNASeq'
finding HTML links ... done
BiocFileCache-methods html
finding level-2 HTML links ... done
DESeq-methods html
GenomicRanges-methods html
IRanges-methods html
Rsamtools-methods html
ShortRead-methods html
basename-methods html
easyRNASeq-AnnotParam-accessors html
easyRNASeq-AnnotParam-class html
easyRNASeq-AnnotParam html
easyRNASeq-BamFileList html
easyRNASeq-BamParam-accessors html
easyRNASeq-BamParam-class html
easyRNASeq-BamParam html
easyRNASeq-RnaSeqParam-accessors html
easyRNASeq-RnaSeqParam-class html
easyRNASeq-RnaSeqParam html
easyRNASeq-accessors html
easyRNASeq-annotation-internal-methods
html
easyRNASeq-annotation-methods html
easyRNASeq-class html
easyRNASeq-correction-methods html
easyRNASeq-coverage-methods html
easyRNASeq-datasets html
easyRNASeq-defunct-annotation-methods html
easyRNASeq-defunct html
easyRNASeq-easyRNASeq html
easyRNASeq-global-variables html
easyRNASeq-internal-AnnotParam-methods
html
easyRNASeq-internal-methods html
easyRNASeq-island-methods html
easyRNASeq-package html
easyRNASeq-simpleRNASeq html
easyRNASeq-summarization-internal-methods
html
easyRNASeq-summarization-methods html
easyRNASeq-synthetic-transcripts html
edgeR-methods html
file.exists-methods html
genomeIntervals-methods html
parallel-methods html
print-methods html
show-methods html
** building package indices
** installing vignettes
** testing if installed package can be loaded from temporary location
** testing if installed package can be loaded from final location
** testing if installed package keeps a record of temporary installation path
install for x64
* installing *source* package 'easyRNASeq' ...
** testing if installed package can be loaded
* MD5 sums
packaged installation of 'easyRNASeq' as easyRNASeq_2.20.0.zip
* DONE (easyRNASeq)
* installing to library 'C:/Users/biocbuild/bbs-3.9-bioc/R/library'
package 'easyRNASeq' successfully unpacked and MD5 sums checked