| Back to Multiple platform build/check report for BioC 3.9 |
|
This page was generated on 2019-10-16 12:43:22 -0400 (Wed, 16 Oct 2019).
| Package 444/1741 | Hostname | OS / Arch | INSTALL | BUILD | CHECK | BUILD BIN | ||||||
| divergence 1.0.0 Wikum Dinalankara
| malbec2 | Linux (Ubuntu 18.04.2 LTS) / x86_64 | OK | OK | OK | |||||||
| tokay2 | Windows Server 2012 R2 Standard / x64 | OK | OK | [ OK ] | OK | |||||||
| celaya2 | OS X 10.11.6 El Capitan / x86_64 | OK | OK | OK | OK |
| Package: divergence |
| Version: 1.0.0 |
| Command: C:\Users\biocbuild\bbs-3.9-bioc\R\bin\R.exe CMD check --force-multiarch --install=check:divergence.install-out.txt --library=C:\Users\biocbuild\bbs-3.9-bioc\R\library --no-vignettes --timings divergence_1.0.0.tar.gz |
| StartedAt: 2019-10-16 03:17:07 -0400 (Wed, 16 Oct 2019) |
| EndedAt: 2019-10-16 03:22:37 -0400 (Wed, 16 Oct 2019) |
| EllapsedTime: 330.0 seconds |
| RetCode: 0 |
| Status: OK |
| CheckDir: divergence.Rcheck |
| Warnings: 0 |
##############################################################################
##############################################################################
###
### Running command:
###
### C:\Users\biocbuild\bbs-3.9-bioc\R\bin\R.exe CMD check --force-multiarch --install=check:divergence.install-out.txt --library=C:\Users\biocbuild\bbs-3.9-bioc\R\library --no-vignettes --timings divergence_1.0.0.tar.gz
###
##############################################################################
##############################################################################
* using log directory 'C:/Users/biocbuild/bbs-3.9-bioc/meat/divergence.Rcheck'
* using R version 3.6.1 (2019-07-05)
* using platform: x86_64-w64-mingw32 (64-bit)
* using session charset: ISO8859-1
* using option '--no-vignettes'
* checking for file 'divergence/DESCRIPTION' ... OK
* this is package 'divergence' version '1.0.0'
* package encoding: UTF-8
* checking package namespace information ... OK
* checking package dependencies ... OK
* checking if this is a source package ... OK
* checking if there is a namespace ... OK
* checking for hidden files and directories ... OK
* checking for portable file names ... OK
* checking whether package 'divergence' can be installed ... OK
* checking installed package size ... OK
* checking package directory ... OK
* checking 'build' directory ... OK
* checking DESCRIPTION meta-information ... OK
* checking top-level files ... NOTE
File
LICENSE
is not mentioned in the DESCRIPTION file.
* checking for left-over files ... OK
* checking index information ... OK
* checking package subdirectories ... OK
* checking R files for non-ASCII characters ... OK
* checking R files for syntax errors ... OK
* loading checks for arch 'i386'
** checking whether the package can be loaded ... OK
** checking whether the package can be loaded with stated dependencies ... OK
** checking whether the package can be unloaded cleanly ... OK
** checking whether the namespace can be loaded with stated dependencies ... OK
** checking whether the namespace can be unloaded cleanly ... OK
* loading checks for arch 'x64'
** checking whether the package can be loaded ... OK
** checking whether the package can be loaded with stated dependencies ... OK
** checking whether the package can be unloaded cleanly ... OK
** checking whether the namespace can be loaded with stated dependencies ... OK
** checking whether the namespace can be unloaded cleanly ... OK
* checking dependencies in R code ... OK
* checking S3 generic/method consistency ... OK
* checking replacement functions ... OK
* checking foreign function calls ... OK
* checking R code for possible problems ... NOTE
check_SE: no visible binding for global variable 'data'
computeSingleFeaturesetBinaryVector: no visible global function
definition for 'dist'
computeSingleFeaturesetSupport: no visible global function definition
for 'dist'
computeSingleFeaturesetSupport: no visible global function definition
for 'quantile'
computeSingleRange: no visible global function definition for
'quantile'
getRangesBySections: no visible global function definition for
'detectCores'
rowChiSq: no visible global function definition for 'chisq.test'
rowChiSq: no visible global function definition for 'xtabs'
Undefined global functions or variables:
chisq.test data detectCores dist quantile xtabs
Consider adding
importFrom("stats", "chisq.test", "dist", "quantile", "xtabs")
importFrom("utils", "data")
to your NAMESPACE file.
* checking Rd files ... OK
* checking Rd metadata ... OK
* checking Rd cross-references ... OK
* checking for missing documentation entries ... OK
* checking for code/documentation mismatches ... OK
* checking Rd \usage sections ... OK
* checking Rd contents ... OK
* checking for unstated dependencies in examples ... OK
* checking contents of 'data' directory ... OK
* checking data for non-ASCII characters ... OK
* checking data for ASCII and uncompressed saves ... OK
* checking files in 'vignettes' ... OK
* checking examples ...
** running examples for arch 'i386' ... OK
Examples with CPU or elapsed time > 5s
user system elapsed
computeChiSquaredTest 22.56 0.25 23.13
computeUnivariateDigitization 18.73 0.09 18.84
findUnivariateGammaWithSupport 16.18 0.00 16.17
computeMultivariateDigitization 6.30 0.17 6.47
** running examples for arch 'x64' ... OK
Examples with CPU or elapsed time > 5s
user system elapsed
computeUnivariateDigitization 22.43 0.09 22.53
computeChiSquaredTest 20.59 0.04 20.65
findUnivariateGammaWithSupport 16.49 0.00 16.49
computeMultivariateDigitization 5.66 0.22 5.88
* checking for unstated dependencies in vignettes ... OK
* checking package vignettes in 'inst/doc' ... OK
* checking running R code from vignettes ... SKIPPED
* checking re-building of vignette outputs ... SKIPPED
* checking PDF version of manual ... OK
* DONE
Status: 2 NOTEs
See
'C:/Users/biocbuild/bbs-3.9-bioc/meat/divergence.Rcheck/00check.log'
for details.
divergence.Rcheck/00install.out
##############################################################################
##############################################################################
###
### Running command:
###
### C:\cygwin\bin\curl.exe -O https://malbec2.bioconductor.org/BBS/3.9/bioc/src/contrib/divergence_1.0.0.tar.gz && rm -rf divergence.buildbin-libdir && mkdir divergence.buildbin-libdir && C:\Users\biocbuild\bbs-3.9-bioc\R\bin\R.exe CMD INSTALL --merge-multiarch --build --library=divergence.buildbin-libdir divergence_1.0.0.tar.gz && C:\Users\biocbuild\bbs-3.9-bioc\R\bin\R.exe CMD INSTALL divergence_1.0.0.zip && rm divergence_1.0.0.tar.gz divergence_1.0.0.zip
###
##############################################################################
##############################################################################
% Total % Received % Xferd Average Speed Time Time Time Current
Dload Upload Total Spent Left Speed
0 0 0 0 0 0 0 0 --:--:-- --:--:-- --:--:-- 0
100 1919k 100 1919k 0 0 18.5M 0 --:--:-- --:--:-- --:--:-- 19.9M
install for i386
* installing *source* package 'divergence' ...
** using staged installation
** R
** data
*** moving datasets to lazyload DB
** byte-compile and prepare package for lazy loading
** help
*** installing help indices
converting help for package 'divergence'
finding HTML links ... done
breastTCGA_ER html
breastTCGA_Group html
breastTCGA_Mat html
computeChiSquaredTest html
computeMultivariateBinaryMatrix html
computeMultivariateDigitization html
computeMultivariateSupport html
computeQuantileMatrix html
computeUnivariateDigitization html
computeUnivariateSupport html
computeUnivariateTernaryMatrix html
findMultivariateGammaWithSupport html
findUnivariateGammaWithSupport html
msigdb_Hallmarks html
** building package indices
** installing vignettes
** testing if installed package can be loaded from temporary location
** testing if installed package can be loaded from final location
** testing if installed package keeps a record of temporary installation path
install for x64
* installing *source* package 'divergence' ...
** testing if installed package can be loaded
* MD5 sums
packaged installation of 'divergence' as divergence_1.0.0.zip
* DONE (divergence)
* installing to library 'C:/Users/biocbuild/bbs-3.9-bioc/R/library'
package 'divergence' successfully unpacked and MD5 sums checked
|
divergence.Rcheck/examples_i386/divergence-Ex.timings
|
divergence.Rcheck/examples_x64/divergence-Ex.timings
|