| Back to Multiple platform build/check report for BioC 3.9 |
|
This page was generated on 2019-10-16 13:03:53 -0400 (Wed, 16 Oct 2019).
| Package 400/1741 | Hostname | OS / Arch | INSTALL | BUILD | CHECK | BUILD BIN | ||||||
| decompTumor2Sig 2.0.0 Rosario M. Piro
| malbec2 | Linux (Ubuntu 18.04.2 LTS) / x86_64 | OK | OK | OK | |||||||
| tokay2 | Windows Server 2012 R2 Standard / x64 | OK | OK | OK | OK | |||||||
| celaya2 | OS X 10.11.6 El Capitan / x86_64 | OK | OK | [ OK ] | OK |
| Package: decompTumor2Sig |
| Version: 2.0.0 |
| Command: /Library/Frameworks/R.framework/Versions/Current/Resources/bin/R CMD check --install=check:decompTumor2Sig.install-out.txt --library=/Library/Frameworks/R.framework/Versions/Current/Resources/library --no-vignettes --timings decompTumor2Sig_2.0.0.tar.gz |
| StartedAt: 2019-10-16 02:02:19 -0400 (Wed, 16 Oct 2019) |
| EndedAt: 2019-10-16 02:11:32 -0400 (Wed, 16 Oct 2019) |
| EllapsedTime: 553.7 seconds |
| RetCode: 0 |
| Status: OK |
| CheckDir: decompTumor2Sig.Rcheck |
| Warnings: 0 |
##############################################################################
##############################################################################
###
### Running command:
###
### /Library/Frameworks/R.framework/Versions/Current/Resources/bin/R CMD check --install=check:decompTumor2Sig.install-out.txt --library=/Library/Frameworks/R.framework/Versions/Current/Resources/library --no-vignettes --timings decompTumor2Sig_2.0.0.tar.gz
###
##############################################################################
##############################################################################
* using log directory ‘/Users/biocbuild/bbs-3.9-bioc/meat/decompTumor2Sig.Rcheck’
* using R version 3.6.1 (2019-07-05)
* using platform: x86_64-apple-darwin15.6.0 (64-bit)
* using session charset: UTF-8
* using option ‘--no-vignettes’
* checking for file ‘decompTumor2Sig/DESCRIPTION’ ... OK
* checking extension type ... Package
* this is package ‘decompTumor2Sig’ version ‘2.0.0’
* package encoding: UTF-8
* checking package namespace information ... OK
* checking package dependencies ... OK
* checking if this is a source package ... OK
* checking if there is a namespace ... OK
* checking for hidden files and directories ... OK
* checking for portable file names ... OK
* checking for sufficient/correct file permissions ... OK
* checking whether package ‘decompTumor2Sig’ can be installed ... OK
* checking installed package size ... OK
* checking package directory ... OK
* checking ‘build’ directory ... OK
* checking DESCRIPTION meta-information ... OK
* checking top-level files ... NOTE
File
inst/LICENSE
will install at top-level and is not mentioned in the DESCRIPTION file.
* checking for left-over files ... OK
* checking index information ... OK
* checking package subdirectories ... OK
* checking R files for non-ASCII characters ... OK
* checking R files for syntax errors ... OK
* checking whether the package can be loaded ... OK
* checking whether the package can be loaded with stated dependencies ... OK
* checking whether the package can be unloaded cleanly ... OK
* checking whether the namespace can be loaded with stated dependencies ... OK
* checking whether the namespace can be unloaded cleanly ... OK
* checking dependencies in R code ... OK
* checking S3 generic/method consistency ... OK
* checking replacement functions ... OK
* checking foreign function calls ... OK
* checking R code for possible problems ... OK
* checking Rd files ... OK
* checking Rd metadata ... OK
* checking Rd cross-references ... OK
* checking for missing documentation entries ... OK
* checking for code/documentation mismatches ... OK
* checking Rd \usage sections ... OK
* checking Rd contents ... OK
* checking for unstated dependencies in examples ... OK
* checking files in ‘vignettes’ ... OK
* checking examples ... OK
Examples with CPU or elapsed time > 5s
user system elapsed
plotExplainedVariance 131.614 0.653 134.908
convertGenomesFromVRanges 11.914 1.701 13.619
readGenomesFromMPF 5.889 0.894 6.784
decomposeTumorGenomes 5.292 0.846 6.772
isExposureSet 4.828 0.771 6.227
readGenomesFromVCF 4.690 0.798 5.487
* checking for unstated dependencies in vignettes ... OK
* checking package vignettes in ‘inst/doc’ ... OK
* checking running R code from vignettes ... SKIPPED
* checking re-building of vignette outputs ... SKIPPED
* checking PDF version of manual ... OK
* DONE
Status: 1 NOTE
See
‘/Users/biocbuild/bbs-3.9-bioc/meat/decompTumor2Sig.Rcheck/00check.log’
for details.
decompTumor2Sig.Rcheck/00install.out
############################################################################## ############################################################################## ### ### Running command: ### ### /Library/Frameworks/R.framework/Versions/Current/Resources/bin/R CMD INSTALL decompTumor2Sig ### ############################################################################## ############################################################################## * installing to library ‘/Library/Frameworks/R.framework/Versions/3.6/Resources/library’ * installing *source* package ‘decompTumor2Sig’ ... ** using staged installation ** R ** inst ** byte-compile and prepare package for lazy loading ** help *** installing help indices ** building package indices ** installing vignettes ** testing if installed package can be loaded from temporary location ** testing if installed package can be loaded from final location ** testing if installed package keeps a record of temporary installation path * DONE (decompTumor2Sig)
decompTumor2Sig.Rcheck/decompTumor2Sig-Ex.timings
| name | user | system | elapsed | |
| composeGenomesFromExposures | 0.514 | 0.119 | 1.446 | |
| computeExplainedVariance | 0.434 | 0.057 | 1.225 | |
| convertAlexandrov2Shiraishi | 0.106 | 0.006 | 0.854 | |
| convertGenomesFromVRanges | 11.914 | 1.701 | 13.619 | |
| decomposeTumorGenomes | 5.292 | 0.846 | 6.772 | |
| determineSignatureDistances | 0.086 | 0.006 | 0.708 | |
| downgradeShiraishiSignatures | 0.010 | 0.003 | 0.014 | |
| evaluateDecompositionQuality | 0.309 | 0.013 | 0.950 | |
| getGenomesFromMutFeatData | 0.770 | 0.031 | 0.832 | |
| getSignaturesFromEstParam | 0.171 | 0.007 | 0.180 | |
| isAlexandrovSet | 0.044 | 0.003 | 0.681 | |
| isExposureSet | 4.828 | 0.771 | 6.227 | |
| isShiraishiSet | 0.088 | 0.004 | 0.710 | |
| isSignatureSet | 0.049 | 0.003 | 0.680 | |
| mapSignatureSets | 0.218 | 0.004 | 0.840 | |
| plotDecomposedContribution | 0.554 | 0.016 | 1.200 | |
| plotExplainedVariance | 131.614 | 0.653 | 134.908 | |
| plotMutationDistribution | 3.275 | 0.030 | 3.941 | |
| readAlexandrovSignatures | 0.061 | 0.004 | 0.802 | |
| readGenomesFromMPF | 5.889 | 0.894 | 6.784 | |
| readGenomesFromVCF | 4.690 | 0.798 | 5.487 | |
| readShiraishiSignatures | 0.009 | 0.001 | 0.010 | |
| sameSignatureFormat | 0.085 | 0.004 | 0.825 | |