| Back to Multiple platform build/check report for BioC 3.9 |
|
This page was generated on 2019-10-16 12:38:07 -0400 (Wed, 16 Oct 2019).
| Package 379/1741 | Hostname | OS / Arch | INSTALL | BUILD | CHECK | BUILD BIN | ||||||
| cydar 1.8.0 Aaron Lun
| malbec2 | Linux (Ubuntu 18.04.2 LTS) / x86_64 | OK | OK | OK | |||||||
| tokay2 | Windows Server 2012 R2 Standard / x64 | OK | OK | WARNINGS | [ OK ] | |||||||
| celaya2 | OS X 10.11.6 El Capitan / x86_64 | OK | OK | OK | OK |
| Package: cydar |
| Version: 1.8.0 |
| Command: rm -rf cydar.buildbin-libdir && mkdir cydar.buildbin-libdir && C:\Users\biocbuild\bbs-3.9-bioc\R\bin\R.exe CMD INSTALL --merge-multiarch --build --library=cydar.buildbin-libdir cydar_1.8.0.tar.gz |
| StartedAt: 2019-10-16 09:00:49 -0400 (Wed, 16 Oct 2019) |
| EndedAt: 2019-10-16 09:02:29 -0400 (Wed, 16 Oct 2019) |
| EllapsedTime: 99.7 seconds |
| RetCode: 0 |
| Status: OK |
| PackageFile: cydar_1.8.0.zip |
| PackageFileSize: 1.625 MiB |
##############################################################################
##############################################################################
###
### Running command:
###
### rm -rf cydar.buildbin-libdir && mkdir cydar.buildbin-libdir && C:\Users\biocbuild\bbs-3.9-bioc\R\bin\R.exe CMD INSTALL --merge-multiarch --build --library=cydar.buildbin-libdir cydar_1.8.0.tar.gz
###
##############################################################################
##############################################################################
install for i386
* installing *source* package 'cydar' ...
** using staged installation
** libs
C:/Rtools/mingw_32/bin/g++ -std=gnu++11 -I"C:/Users/BIOCBU~1/BBS-3~1.9-B/R/include" -DNDEBUG -I"C:/Users/biocbuild/bbs-3.9-bioc/R/library/Rcpp/include" -I"C:/extsoft/include" -O2 -Wall -mtune=generic -c compute_density.cpp -o compute_density.o
compute_density.cpp: In function 'SEXPREC* compute_density(SEXP, SEXP)':
compute_density.cpp:10:23: warning: comparison between signed and unsigned integer expressions [-Wsign-compare]
for (size_t i=0; i ncells) {
^
C:/Rtools/mingw_32/bin/g++ -std=gnu++11 -I"C:/Users/BIOCBU~1/BBS-3~1.9-B/R/include" -DNDEBUG -I"C:/Users/biocbuild/bbs-3.9-bioc/R/library/Rcpp/include" -I"C:/extsoft/include" -O2 -Wall -mtune=generic -c drop_redundant.cpp -o drop_redundant.o
C:/Rtools/mingw_32/bin/g++ -std=gnu++11 -I"C:/Users/BIOCBU~1/BBS-3~1.9-B/R/include" -DNDEBUG -I"C:/Users/biocbuild/bbs-3.9-bioc/R/library/Rcpp/include" -I"C:/extsoft/include" -O2 -Wall -mtune=generic -c init.cpp -o init.o
C:/Rtools/mingw_32/bin/g++ -std=gnu++11 -I"C:/Users/BIOCBU~1/BBS-3~1.9-B/R/include" -DNDEBUG -I"C:/Users/biocbuild/bbs-3.9-bioc/R/library/Rcpp/include" -I"C:/extsoft/include" -O2 -Wall -mtune=generic -c utils.cpp -o utils.o
C:/Rtools/mingw_32/bin/g++ -shared -s -static-libgcc -o cydar.dll tmp.def compute_density.o compute_hyperstats.o compute_median_int.o drop_redundant.o init.o utils.o -LC:/extsoft/lib/i386 -LC:/extsoft/lib -LC:/Users/BIOCBU~1/BBS-3~1.9-B/R/bin/i386 -lR
installing to C:/Users/biocbuild/bbs-3.9-bioc/meat/cydar.buildbin-libdir/00LOCK-cydar/00new/cydar/libs/i386
** R
** inst
** byte-compile and prepare package for lazy loading
** help
*** installing help indices
converting help for package 'cydar'
finding HTML links ... done
CyData html
finding level-2 HTML links ... done
countCells html
createColorBar html
dnaGate html
expandRadius html
findFirstSphere html
intensityRanges html
interpretSpheres html
labelSpheres html
medIntensities html
multiIntHist html
neighborDistances html
normalizeBatch html
Rd warning: C:/Users/biocbuild/bbs-3.9-bioc/tmpdir/RtmpKG6RNp/R.INSTALL17442e8e4e56/cydar/man/normalizeBatch.Rd:137: file link 'normalization' in package 'flowCore' does not exist and so has been treated as a topic
outlierGate html
Rd warning: C:/Users/biocbuild/bbs-3.9-bioc/tmpdir/RtmpKG6RNp/R.INSTALL17442e8e4e56/cydar/man/outlierGate.Rd:38: file link 'rectangleGate' in package 'flowCore' does not exist and so has been treated as a topic
pickBestMarkers html
plotSphereIntensity html
plotSphereLogFC html
poolCells html
Rd warning: C:/Users/biocbuild/bbs-3.9-bioc/tmpdir/RtmpKG6RNp/R.INSTALL17442e8e4e56/cydar/man/poolCells.Rd:26: file link 'estimateLogicle' in package 'flowCore' does not exist and so has been treated as a topic
Rd warning: C:/Users/biocbuild/bbs-3.9-bioc/tmpdir/RtmpKG6RNp/R.INSTALL17442e8e4e56/cydar/man/poolCells.Rd:36: file link 'flowFrame' in package 'flowCore' does not exist and so has been treated as a topic
Rd warning: C:/Users/biocbuild/bbs-3.9-bioc/tmpdir/RtmpKG6RNp/R.INSTALL17442e8e4e56/cydar/man/poolCells.Rd:38: file link 'estimateLogicle' in package 'flowCore' does not exist and so has been treated as a topic
prepareCellData html
spatialFDR html
** building package indices
** installing vignettes
** testing if installed package can be loaded from temporary location
** testing if installed package can be loaded from final location
** testing if installed package keeps a record of temporary installation path
install for x64
* installing *source* package 'cydar' ...
** libs
C:/Rtools/mingw_64/bin/g++ -std=gnu++11 -I"C:/Users/BIOCBU~1/BBS-3~1.9-B/R/include" -DNDEBUG -I"C:/Users/biocbuild/bbs-3.9-bioc/R/library/Rcpp/include" -I"C:/extsoft/include" -O2 -Wall -mtune=generic -c compute_density.cpp -o compute_density.o
compute_density.cpp: In function 'SEXPREC* compute_density(SEXP, SEXP)':
compute_density.cpp:10:23: warning: comparison between signed and unsigned integer expressions [-Wsign-compare]
for (size_t i=0; i ncells) {
^
C:/Rtools/mingw_64/bin/g++ -std=gnu++11 -I"C:/Users/BIOCBU~1/BBS-3~1.9-B/R/include" -DNDEBUG -I"C:/Users/biocbuild/bbs-3.9-bioc/R/library/Rcpp/include" -I"C:/extsoft/include" -O2 -Wall -mtune=generic -c drop_redundant.cpp -o drop_redundant.o
C:/Rtools/mingw_64/bin/g++ -std=gnu++11 -I"C:/Users/BIOCBU~1/BBS-3~1.9-B/R/include" -DNDEBUG -I"C:/Users/biocbuild/bbs-3.9-bioc/R/library/Rcpp/include" -I"C:/extsoft/include" -O2 -Wall -mtune=generic -c init.cpp -o init.o
C:/Rtools/mingw_64/bin/g++ -std=gnu++11 -I"C:/Users/BIOCBU~1/BBS-3~1.9-B/R/include" -DNDEBUG -I"C:/Users/biocbuild/bbs-3.9-bioc/R/library/Rcpp/include" -I"C:/extsoft/include" -O2 -Wall -mtune=generic -c utils.cpp -o utils.o
C:/Rtools/mingw_64/bin/g++ -shared -s -static-libgcc -o cydar.dll tmp.def compute_density.o compute_hyperstats.o compute_median_int.o drop_redundant.o init.o utils.o -LC:/extsoft/lib/x64 -LC:/extsoft/lib -LC:/Users/BIOCBU~1/BBS-3~1.9-B/R/bin/x64 -lR
installing to C:/Users/biocbuild/bbs-3.9-bioc/meat/cydar.buildbin-libdir/cydar/libs/x64
** testing if installed package can be loaded
* MD5 sums
packaged installation of 'cydar' as cydar_1.8.0.zip
* DONE (cydar)