| Back to Multiple platform build/check report for BioC 3.9 |
|
This page was generated on 2019-10-16 12:35:55 -0400 (Wed, 16 Oct 2019).
| Package 359/1741 | Hostname | OS / Arch | INSTALL | BUILD | CHECK | BUILD BIN | ||||||
| covRNA 1.10.0 Lara Urban
| malbec2 | Linux (Ubuntu 18.04.2 LTS) / x86_64 | OK | OK | OK | |||||||
| tokay2 | Windows Server 2012 R2 Standard / x64 | [ OK ] | OK | OK | OK | |||||||
| celaya2 | OS X 10.11.6 El Capitan / x86_64 | OK | OK | OK | OK |
| Package: covRNA |
| Version: 1.10.0 |
| Command: C:\cygwin\bin\curl.exe -O https://malbec2.bioconductor.org/BBS/3.9/bioc/src/contrib/covRNA_1.10.0.tar.gz && rm -rf covRNA.buildbin-libdir && mkdir covRNA.buildbin-libdir && C:\Users\biocbuild\bbs-3.9-bioc\R\bin\R.exe CMD INSTALL --merge-multiarch --build --library=covRNA.buildbin-libdir covRNA_1.10.0.tar.gz && C:\Users\biocbuild\bbs-3.9-bioc\R\bin\R.exe CMD INSTALL covRNA_1.10.0.zip && rm covRNA_1.10.0.tar.gz covRNA_1.10.0.zip |
| StartedAt: 2019-10-15 19:12:37 -0400 (Tue, 15 Oct 2019) |
| EndedAt: 2019-10-15 19:13:35 -0400 (Tue, 15 Oct 2019) |
| EllapsedTime: 57.5 seconds |
| RetCode: 0 |
| Status: OK |
##############################################################################
##############################################################################
###
### Running command:
###
### C:\cygwin\bin\curl.exe -O https://malbec2.bioconductor.org/BBS/3.9/bioc/src/contrib/covRNA_1.10.0.tar.gz && rm -rf covRNA.buildbin-libdir && mkdir covRNA.buildbin-libdir && C:\Users\biocbuild\bbs-3.9-bioc\R\bin\R.exe CMD INSTALL --merge-multiarch --build --library=covRNA.buildbin-libdir covRNA_1.10.0.tar.gz && C:\Users\biocbuild\bbs-3.9-bioc\R\bin\R.exe CMD INSTALL covRNA_1.10.0.zip && rm covRNA_1.10.0.tar.gz covRNA_1.10.0.zip
###
##############################################################################
##############################################################################
% Total % Received % Xferd Average Speed Time Time Time Current
Dload Upload Total Spent Left Speed
0 0 0 0 0 0 0 0 --:--:-- --:--:-- --:--:-- 0
100 264k 100 264k 0 0 1690k 0 --:--:-- --:--:-- --:--:-- 1764k
install for i386
* installing *source* package 'covRNA' ...
** using staged installation
** R
** data
*** moving datasets to lazyload DB
** inst
** byte-compile and prepare package for lazy loading
** help
*** installing help indices
converting help for package 'covRNA'
finding HTML links ... done
Baca html
covRNA html
ord html
plot.ord html
plot.stat html
stat html
vis html
** building package indices
** installing vignettes
** testing if installed package can be loaded from temporary location
** testing if installed package can be loaded from final location
** testing if installed package keeps a record of temporary installation path
install for x64
* installing *source* package 'covRNA' ...
** testing if installed package can be loaded
* MD5 sums
packaged installation of 'covRNA' as covRNA_1.10.0.zip
* DONE (covRNA)
* installing to library 'C:/Users/biocbuild/bbs-3.9-bioc/R/library'
package 'covRNA' successfully unpacked and MD5 sums checked