| Back to Multiple platform build/check report for BioC 3.9 |
|
This page was generated on 2019-10-16 12:43:15 -0400 (Wed, 16 Oct 2019).
| Package 324/1741 | Hostname | OS / Arch | INSTALL | BUILD | CHECK | BUILD BIN | ||||||
| cola 1.0.1 Zuguang Gu
| malbec2 | Linux (Ubuntu 18.04.2 LTS) / x86_64 | OK | OK | OK | |||||||
| tokay2 | Windows Server 2012 R2 Standard / x64 | OK | OK | OK | [ OK ] | |||||||
| celaya2 | OS X 10.11.6 El Capitan / x86_64 | OK | OK | OK | OK |
| Package: cola |
| Version: 1.0.1 |
| Command: rm -rf cola.buildbin-libdir && mkdir cola.buildbin-libdir && C:\Users\biocbuild\bbs-3.9-bioc\R\bin\R.exe CMD INSTALL --merge-multiarch --build --library=cola.buildbin-libdir cola_1.0.1.tar.gz |
| StartedAt: 2019-10-16 08:57:28 -0400 (Wed, 16 Oct 2019) |
| EndedAt: 2019-10-16 08:58:40 -0400 (Wed, 16 Oct 2019) |
| EllapsedTime: 72.0 seconds |
| RetCode: 0 |
| Status: OK |
| PackageFile: cola_1.0.1.zip |
| PackageFileSize: 4.416 MiB |
##############################################################################
##############################################################################
###
### Running command:
###
### rm -rf cola.buildbin-libdir && mkdir cola.buildbin-libdir && C:\Users\biocbuild\bbs-3.9-bioc\R\bin\R.exe CMD INSTALL --merge-multiarch --build --library=cola.buildbin-libdir cola_1.0.1.tar.gz
###
##############################################################################
##############################################################################
install for i386
* installing *source* package 'cola' ...
** using staged installation
** libs
C:/Rtools/mingw_32/bin/g++ -I"C:/Users/BIOCBU~1/BBS-3~1.9-B/R/include" -DNDEBUG -I"C:/Users/biocbuild/bbs-3.9-bioc/R/library/Rcpp/include" -I"C:/extsoft/include" -O2 -Wall -mtune=generic -c RcppExports.cpp -o RcppExports.o
C:/Rtools/mingw_32/bin/g++ -I"C:/Users/BIOCBU~1/BBS-3~1.9-B/R/include" -DNDEBUG -I"C:/Users/biocbuild/bbs-3.9-bioc/R/library/Rcpp/include" -I"C:/extsoft/include" -O2 -Wall -mtune=generic -c cal_consensus_mat.cpp -o cal_consensus_mat.o
C:/Rtools/mingw_32/bin/g++ -I"C:/Users/BIOCBU~1/BBS-3~1.9-B/R/include" -DNDEBUG -I"C:/Users/biocbuild/bbs-3.9-bioc/R/library/Rcpp/include" -I"C:/extsoft/include" -O2 -Wall -mtune=generic -c pdist.cpp -o pdist.o
C:/Rtools/mingw_32/bin/g++ -shared -s -static-libgcc -o cola.dll tmp.def RcppExports.o cal_consensus_mat.o pdist.o -LC:/extsoft/lib/i386 -LC:/extsoft/lib -LC:/Users/BIOCBU~1/BBS-3~1.9-B/R/bin/i386 -lR
installing to C:/Users/biocbuild/bbs-3.9-bioc/meat/cola.buildbin-libdir/00LOCK-cola/00new/cola/libs/i386
** R
** data
** inst
** byte-compile and prepare package for lazy loading
** help
*** installing help indices
converting help for package 'cola'
finding HTML links ... done
ATC html
ConsensusPartition-class html
ConsensusPartitionList-class html
Extract.ConsensusPartitionList html
Extract.HierarchicalPartition html
ExtractExtract.ConsensusPartitionList html
ExtractExtract.HierarchicalPartition html
FCC html
GO_enrichment-ANY-method html
GO_enrichment-ConsensusPartition-method
html
GO_enrichment-ConsensusPartitionList-method
html
GO_enrichment-HierarchicalPartition-method
html
GO_enrichment-dispatch html
HierarchicalPartition-class html
PAC html
aPAC html
adjust_matrix html
adjust_outlier html
all_leaves-HierarchicalPartition-method
html
all_nodes-HierarchicalPartition-method
html
all_partition_methods html
all_top_value_methods html
cola html
cola_opt html
cola_report-ConsensusPartition-method html
cola_report-ConsensusPartitionList-method
html
cola_report-HierarchicalPartition-method
html
cola_report-dispatch html
cola_rh html
cola_rl html
collect_classes-ConsensusPartition-method
html
collect_classes-ConsensusPartitionList-method
html
collect_classes-HierarchicalPartition-method
html
collect_classes-dispatch html
collect_plots-ConsensusPartition-method
html
collect_plots-ConsensusPartitionList-method
html
collect_plots-HierarchicalPartition-method
html
collect_plots-dispatch html
collect_stats-ConsensusPartition-method
html
collect_stats-ConsensusPartitionList-method
html
collect_stats-dispatch html
colnames-ConsensusPartition-method html
colnames-ConsensusPartitionList-method
html
colnames-HierarchicalPartition-method html
colnames-dispatch html
compare_signatures-ConsensusPartition-method
html
concordance html
consensus_heatmap-ConsensusPartition-method
html
consensus_partition html
correspond_between_rankings html
correspond_between_two_rankings html
dim.ConsensusPartition html
dim.ConsensusPartitionList html
dim.HierarchicalPartition html
dimension_reduction-ConsensusPartition-method
html
dimension_reduction-HierarchicalPartition-method
html
dimension_reduction-dispatch html
dimension_reduction-matrix-method html
find_best_km html
get_anno-ConsensusPartition-method html
get_anno-ConsensusPartitionList-method
html
get_anno-HierarchicalPartition-method html
get_anno-dispatch html
get_anno_col-ConsensusPartition-method
html
get_anno_col-ConsensusPartitionList-method
html
get_anno_col-HierarchicalPartition-method
html
get_anno_col-dispatch html
get_classes-ConsensusPartition-method html
get_classes-ConsensusPartitionList-method
html
get_classes-HierarchicalPartition-method
html
get_classes-dispatch html
get_consensus-ConsensusPartition-method
html
get_hierarchy html
get_matrix-ConsensusPartition-method html
get_matrix-ConsensusPartitionList-method
html
get_matrix-HierarchicalPartition-method
html
get_matrix-dispatch html
get_membership-ConsensusPartition-method
html
get_membership-ConsensusPartitionList-method
html
get_membership-dispatch html
get_param-ConsensusPartition-method html
get_signatures-ConsensusPartition-method
html
get_signatures-HierarchicalPartition-method
html
get_signatures-dispatch html
get_stats-ConsensusPartition-method html
get_stats-ConsensusPartitionList-method
html
get_stats-dispatch html
hierarchical_partition html
knitr_add_tab_item html
knitr_insert_tabs html
map_to_entrez_id html
max_depth-HierarchicalPartition-method
html
membership_heatmap-ConsensusPartition-method
html
ncol-ConsensusPartition-method html
ncol-ConsensusPartitionList-method html
ncol-HierarchicalPartition-method html
ncol-dispatch html
nrow-ConsensusPartition-method html
nrow-ConsensusPartitionList-method html
nrow-HierarchicalPartition-method html
nrow-dispatch html
plot_ecdf-ConsensusPartition-method html
recalc_stats html
register_NMF html
register_SOM html
register_partition_methods html
register_top_value_methods html
relabel_class html
remove_partition_methods html
remove_top_value_methods html
rownames-ConsensusPartition-method html
rownames-ConsensusPartitionList-method
html
rownames-HierarchicalPartition-method html
rownames-dispatch html
run_all_consensus_partition_methods html
select_partition_number-ConsensusPartition-method
html
show-ConsensusPartition-method html
show-ConsensusPartitionList-method html
show-HierarchicalPartition-method html
show-dispatch html
submit_to_david html
suggest_best_k-ConsensusPartition-method
html
suggest_best_k-ConsensusPartitionList-method
html
suggest_best_k-HierarchicalPartition-method
html
suggest_best_k-dispatch html
test_between_factors html
test_to_known_factors-ConsensusPartition-method
html
test_to_known_factors-ConsensusPartitionList-method
html
test_to_known_factors-HierarchicalPartition-method
html
test_to_known_factors-dispatch html
top_elements_overlap html
top_rows_heatmap-ConsensusPartitionList-method
html
top_rows_heatmap-dispatch html
top_rows_heatmap-matrix-method html
top_rows_overlap-ConsensusPartitionList-method
html
top_rows_overlap-dispatch html
top_rows_overlap-matrix-method html
** building package indices
** installing vignettes
** testing if installed package can be loaded from temporary location
** testing if installed package can be loaded from final location
** testing if installed package keeps a record of temporary installation path
install for x64
* installing *source* package 'cola' ...
** libs
C:/Rtools/mingw_64/bin/g++ -I"C:/Users/BIOCBU~1/BBS-3~1.9-B/R/include" -DNDEBUG -I"C:/Users/biocbuild/bbs-3.9-bioc/R/library/Rcpp/include" -I"C:/extsoft/include" -O2 -Wall -mtune=generic -c RcppExports.cpp -o RcppExports.o
C:/Rtools/mingw_64/bin/g++ -I"C:/Users/BIOCBU~1/BBS-3~1.9-B/R/include" -DNDEBUG -I"C:/Users/biocbuild/bbs-3.9-bioc/R/library/Rcpp/include" -I"C:/extsoft/include" -O2 -Wall -mtune=generic -c cal_consensus_mat.cpp -o cal_consensus_mat.o
C:/Rtools/mingw_64/bin/g++ -I"C:/Users/BIOCBU~1/BBS-3~1.9-B/R/include" -DNDEBUG -I"C:/Users/biocbuild/bbs-3.9-bioc/R/library/Rcpp/include" -I"C:/extsoft/include" -O2 -Wall -mtune=generic -c pdist.cpp -o pdist.o
C:/Rtools/mingw_64/bin/g++ -shared -s -static-libgcc -o cola.dll tmp.def RcppExports.o cal_consensus_mat.o pdist.o -LC:/extsoft/lib/x64 -LC:/extsoft/lib -LC:/Users/BIOCBU~1/BBS-3~1.9-B/R/bin/x64 -lR
installing to C:/Users/biocbuild/bbs-3.9-bioc/meat/cola.buildbin-libdir/cola/libs/x64
** testing if installed package can be loaded
* MD5 sums
packaged installation of 'cola' as cola_1.0.1.zip
* DONE (cola)