| Back to Multiple platform build/check report for BioC 3.9 |
|
This page was generated on 2019-10-16 12:10:07 -0400 (Wed, 16 Oct 2019).
| Package 295/1741 | Hostname | OS / Arch | INSTALL | BUILD | CHECK | BUILD BIN | ||||||
| clusterSeq 1.8.0 Thomas J. Hardcastle
| malbec2 | Linux (Ubuntu 18.04.2 LTS) / x86_64 | OK | OK | [ OK ] | |||||||
| tokay2 | Windows Server 2012 R2 Standard / x64 | OK | OK | WARNINGS | OK | |||||||
| celaya2 | OS X 10.11.6 El Capitan / x86_64 | OK | OK | OK | OK |
| Package: clusterSeq |
| Version: 1.8.0 |
| Command: /home/biocbuild/bbs-3.9-bioc/R/bin/R CMD check --install=check:clusterSeq.install-out.txt --library=/home/biocbuild/bbs-3.9-bioc/R/library --no-vignettes --timings clusterSeq_1.8.0.tar.gz |
| StartedAt: 2019-10-16 00:36:30 -0400 (Wed, 16 Oct 2019) |
| EndedAt: 2019-10-16 00:41:30 -0400 (Wed, 16 Oct 2019) |
| EllapsedTime: 299.8 seconds |
| RetCode: 0 |
| Status: OK |
| CheckDir: clusterSeq.Rcheck |
| Warnings: 0 |
##############################################################################
##############################################################################
###
### Running command:
###
### /home/biocbuild/bbs-3.9-bioc/R/bin/R CMD check --install=check:clusterSeq.install-out.txt --library=/home/biocbuild/bbs-3.9-bioc/R/library --no-vignettes --timings clusterSeq_1.8.0.tar.gz
###
##############################################################################
##############################################################################
* using log directory ‘/home/biocbuild/bbs-3.9-bioc/meat/clusterSeq.Rcheck’
* using R version 3.6.1 (2019-07-05)
* using platform: x86_64-pc-linux-gnu (64-bit)
* using session charset: UTF-8
* using option ‘--no-vignettes’
* checking for file ‘clusterSeq/DESCRIPTION’ ... OK
* checking extension type ... Package
* this is package ‘clusterSeq’ version ‘1.8.0’
* checking package namespace information ... OK
* checking package dependencies ... OK
* checking if this is a source package ... OK
* checking if there is a namespace ... OK
* checking for hidden files and directories ... OK
* checking for portable file names ... OK
* checking for sufficient/correct file permissions ... OK
* checking whether package ‘clusterSeq’ can be installed ... OK
* checking installed package size ... OK
* checking package directory ... OK
* checking ‘build’ directory ... OK
* checking DESCRIPTION meta-information ... OK
* checking top-level files ... OK
* checking for left-over files ... OK
* checking index information ... OK
* checking package subdirectories ... OK
* checking R files for non-ASCII characters ... OK
* checking R files for syntax errors ... OK
* checking whether the package can be loaded ... OK
* checking whether the package can be loaded with stated dependencies ... OK
* checking whether the package can be unloaded cleanly ... OK
* checking whether the namespace can be loaded with stated dependencies ... OK
* checking whether the namespace can be unloaded cleanly ... OK
* checking dependencies in R code ... OK
* checking S3 generic/method consistency ... OK
* checking replacement functions ... OK
* checking foreign function calls ... OK
* checking R code for possible problems ... OK
* checking Rd files ... OK
* checking Rd metadata ... OK
* checking Rd cross-references ... OK
* checking for missing documentation entries ... OK
* checking for code/documentation mismatches ... OK
* checking Rd \usage sections ... OK
* checking Rd contents ... OK
* checking for unstated dependencies in examples ... OK
* checking contents of ‘data’ directory ... OK
* checking data for non-ASCII characters ... OK
* checking data for ASCII and uncompressed saves ... OK
* checking files in ‘vignettes’ ... OK
* checking examples ... OK
Examples with CPU or elapsed time > 5s
user system elapsed
kCluster 179.899 5.418 52.766
makeClustersFF 157.814 3.099 46.413
makeClusters 150.942 4.227 41.426
clusterSeq-package 151.037 3.346 42.232
wallace 33.581 2.472 11.647
* checking for unstated dependencies in vignettes ... OK
* checking package vignettes in ‘inst/doc’ ... OK
* checking running R code from vignettes ... SKIPPED
* checking re-building of vignette outputs ... SKIPPED
* checking PDF version of manual ... OK
* DONE
Status: OK
clusterSeq.Rcheck/00install.out
############################################################################## ############################################################################## ### ### Running command: ### ### /home/biocbuild/bbs-3.9-bioc/R/bin/R CMD INSTALL clusterSeq ### ############################################################################## ############################################################################## * installing to library ‘/home/biocbuild/bbs-3.9-bioc/R/library’ * installing *source* package ‘clusterSeq’ ... ** using staged installation ** R ** data ** byte-compile and prepare package for lazy loading ** help *** installing help indices ** building package indices ** installing vignettes ** testing if installed package can be loaded from temporary location ** testing if installed package can be loaded from final location ** testing if installed package keeps a record of temporary installation path * DONE (clusterSeq)
clusterSeq.Rcheck/clusterSeq-Ex.timings
| name | user | system | elapsed | |
| associatePosteriors | 2.246 | 0.472 | 1.708 | |
| clusterSeq-package | 151.037 | 3.346 | 42.232 | |
| kCluster | 179.899 | 5.418 | 52.766 | |
| makeClusters | 150.942 | 4.227 | 41.426 | |
| makeClustersFF | 157.814 | 3.099 | 46.413 | |
| plotCluster | 2.126 | 0.336 | 1.428 | |
| wallace | 33.581 | 2.472 | 11.647 | |