| Back to Multiple platform build/check report for BioC 3.9 |
|
This page was generated on 2019-10-16 12:24:48 -0400 (Wed, 16 Oct 2019).
| Package 288/1741 | Hostname | OS / Arch | INSTALL | BUILD | CHECK | BUILD BIN | ||||||
| clst 1.32.0 Noah Hoffman
| malbec2 | Linux (Ubuntu 18.04.2 LTS) / x86_64 | OK | OK | WARNINGS | |||||||
| tokay2 | Windows Server 2012 R2 Standard / x64 | [ OK ] | OK | WARNINGS | OK | |||||||
| celaya2 | OS X 10.11.6 El Capitan / x86_64 | OK | OK | WARNINGS | OK |
| Package: clst |
| Version: 1.32.0 |
| Command: C:\cygwin\bin\curl.exe -O https://malbec2.bioconductor.org/BBS/3.9/bioc/src/contrib/clst_1.32.0.tar.gz && rm -rf clst.buildbin-libdir && mkdir clst.buildbin-libdir && C:\Users\biocbuild\bbs-3.9-bioc\R\bin\R.exe CMD INSTALL --merge-multiarch --build --library=clst.buildbin-libdir clst_1.32.0.tar.gz && C:\Users\biocbuild\bbs-3.9-bioc\R\bin\R.exe CMD INSTALL clst_1.32.0.zip && rm clst_1.32.0.tar.gz clst_1.32.0.zip |
| StartedAt: 2019-10-15 19:04:15 -0400 (Tue, 15 Oct 2019) |
| EndedAt: 2019-10-15 19:04:38 -0400 (Tue, 15 Oct 2019) |
| EllapsedTime: 23.0 seconds |
| RetCode: 0 |
| Status: OK |
##############################################################################
##############################################################################
###
### Running command:
###
### C:\cygwin\bin\curl.exe -O https://malbec2.bioconductor.org/BBS/3.9/bioc/src/contrib/clst_1.32.0.tar.gz && rm -rf clst.buildbin-libdir && mkdir clst.buildbin-libdir && C:\Users\biocbuild\bbs-3.9-bioc\R\bin\R.exe CMD INSTALL --merge-multiarch --build --library=clst.buildbin-libdir clst_1.32.0.tar.gz && C:\Users\biocbuild\bbs-3.9-bioc\R\bin\R.exe CMD INSTALL clst_1.32.0.zip && rm clst_1.32.0.tar.gz clst_1.32.0.zip
###
##############################################################################
##############################################################################
% Total % Received % Xferd Average Speed Time Time Time Current
Dload Upload Total Spent Left Speed
0 0 0 0 0 0 0 0 --:--:-- --:--:-- --:--:-- 0
100 742k 100 742k 0 0 9986k 0 --:--:-- --:--:-- --:--:-- 10.8M
install for i386
* installing *source* package 'clst' ...
** using staged installation
** R
** data
*** moving datasets to lazyload DB
** byte-compile and prepare package for lazy loading
** help
*** installing help indices
converting help for package 'clst'
finding HTML links ... done
actino html
bvseqs html
classify html
clst-package html
findThreshold html
plotDistances html
Rd warning: C:/Users/biocbuild/bbs-3.9-bioc/tmpdir/Rtmpw7gVa5/R.INSTALLe60bae6004/clst/man/plotDistances.Rd:41: file link 'bwplot' in package 'lattice' does not exist and so has been treated as a topic
printClst html
scaleDistPlot html
strep html
** building package indices
** installing vignettes
** testing if installed package can be loaded from temporary location
** testing if installed package can be loaded from final location
** testing if installed package keeps a record of temporary installation path
install for x64
* installing *source* package 'clst' ...
** testing if installed package can be loaded
* MD5 sums
packaged installation of 'clst' as clst_1.32.0.zip
* DONE (clst)
* installing to library 'C:/Users/biocbuild/bbs-3.9-bioc/R/library'
package 'clst' successfully unpacked and MD5 sums checked