| Back to Multiple platform build/check report for BioC 3.9 |
|
This page was generated on 2019-10-16 12:28:09 -0400 (Wed, 16 Oct 2019).
| Package 281/1741 | Hostname | OS / Arch | INSTALL | BUILD | CHECK | BUILD BIN | ||||||
| cleanUpdTSeq 1.22.2 Jianhong Ou
| malbec2 | Linux (Ubuntu 18.04.2 LTS) / x86_64 | OK | OK | OK | |||||||
| tokay2 | Windows Server 2012 R2 Standard / x64 | [ OK ] | OK | OK | OK | |||||||
| celaya2 | OS X 10.11.6 El Capitan / x86_64 | OK | OK | OK | OK |
| Package: cleanUpdTSeq |
| Version: 1.22.2 |
| Command: C:\cygwin\bin\curl.exe -O https://malbec2.bioconductor.org/BBS/3.9/bioc/src/contrib/cleanUpdTSeq_1.22.2.tar.gz && rm -rf cleanUpdTSeq.buildbin-libdir && mkdir cleanUpdTSeq.buildbin-libdir && C:\Users\biocbuild\bbs-3.9-bioc\R\bin\R.exe CMD INSTALL --merge-multiarch --build --library=cleanUpdTSeq.buildbin-libdir cleanUpdTSeq_1.22.2.tar.gz && C:\Users\biocbuild\bbs-3.9-bioc\R\bin\R.exe CMD INSTALL cleanUpdTSeq_1.22.2.zip && rm cleanUpdTSeq_1.22.2.tar.gz cleanUpdTSeq_1.22.2.zip |
| StartedAt: 2019-10-15 20:28:38 -0400 (Tue, 15 Oct 2019) |
| EndedAt: 2019-10-15 20:30:00 -0400 (Tue, 15 Oct 2019) |
| EllapsedTime: 81.6 seconds |
| RetCode: 0 |
| Status: OK |
##############################################################################
##############################################################################
###
### Running command:
###
### C:\cygwin\bin\curl.exe -O https://malbec2.bioconductor.org/BBS/3.9/bioc/src/contrib/cleanUpdTSeq_1.22.2.tar.gz && rm -rf cleanUpdTSeq.buildbin-libdir && mkdir cleanUpdTSeq.buildbin-libdir && C:\Users\biocbuild\bbs-3.9-bioc\R\bin\R.exe CMD INSTALL --merge-multiarch --build --library=cleanUpdTSeq.buildbin-libdir cleanUpdTSeq_1.22.2.tar.gz && C:\Users\biocbuild\bbs-3.9-bioc\R\bin\R.exe CMD INSTALL cleanUpdTSeq_1.22.2.zip && rm cleanUpdTSeq_1.22.2.tar.gz cleanUpdTSeq_1.22.2.zip
###
##############################################################################
##############################################################################
% Total % Received % Xferd Average Speed Time Time Time Current
Dload Upload Total Spent Left Speed
0 0 0 0 0 0 0 0 --:--:-- --:--:-- --:--:-- 0
100 3931k 100 3931k 0 0 39.2M 0 --:--:-- --:--:-- --:--:-- 42.1M
install for i386
* installing *source* package 'cleanUpdTSeq' ...
** using staged installation
** R
** data
** inst
** byte-compile and prepare package for lazy loading
** help
*** installing help indices
converting help for package 'cleanUpdTSeq'
finding HTML links ... done
BED2GRangesSeq html
PASclassifier-class html
buildClassifier html
buildFeatureVector html
classifier html
cleanUpdTSeq-package html
data.NaiveBayes html
featureVector-class html
getDownstreamSequence html
getUpstreamSequence html
modelInfo-class html
naiveBayes html
predictTestSet html
** building package indices
** installing vignettes
** testing if installed package can be loaded from temporary location
** testing if installed package can be loaded from final location
** testing if installed package keeps a record of temporary installation path
install for x64
* installing *source* package 'cleanUpdTSeq' ...
** testing if installed package can be loaded
* MD5 sums
packaged installation of 'cleanUpdTSeq' as cleanUpdTSeq_1.22.2.zip
* DONE (cleanUpdTSeq)
* installing to library 'C:/Users/biocbuild/bbs-3.9-bioc/R/library'
package 'cleanUpdTSeq' successfully unpacked and MD5 sums checked