| Back to Multiple platform build/check report for BioC 3.9 |
|
This page was generated on 2019-10-16 12:36:08 -0400 (Wed, 16 Oct 2019).
| Package 273/1741 | Hostname | OS / Arch | INSTALL | BUILD | CHECK | BUILD BIN | ||||||
| chromstaR 1.10.0 Aaron Taudt
| malbec2 | Linux (Ubuntu 18.04.2 LTS) / x86_64 | OK | OK | OK | |||||||
| tokay2 | Windows Server 2012 R2 Standard / x64 | OK | OK | [ OK ] | OK | |||||||
| celaya2 | OS X 10.11.6 El Capitan / x86_64 | OK | OK | OK | OK |
| Package: chromstaR |
| Version: 1.10.0 |
| Command: C:\Users\biocbuild\bbs-3.9-bioc\R\bin\R.exe CMD check --force-multiarch --install=check:chromstaR.install-out.txt --library=C:\Users\biocbuild\bbs-3.9-bioc\R\library --no-vignettes --timings chromstaR_1.10.0.tar.gz |
| StartedAt: 2019-10-16 02:39:49 -0400 (Wed, 16 Oct 2019) |
| EndedAt: 2019-10-16 02:51:35 -0400 (Wed, 16 Oct 2019) |
| EllapsedTime: 705.8 seconds |
| RetCode: 0 |
| Status: OK |
| CheckDir: chromstaR.Rcheck |
| Warnings: 0 |
##############################################################################
##############################################################################
###
### Running command:
###
### C:\Users\biocbuild\bbs-3.9-bioc\R\bin\R.exe CMD check --force-multiarch --install=check:chromstaR.install-out.txt --library=C:\Users\biocbuild\bbs-3.9-bioc\R\library --no-vignettes --timings chromstaR_1.10.0.tar.gz
###
##############################################################################
##############################################################################
* using log directory 'C:/Users/biocbuild/bbs-3.9-bioc/meat/chromstaR.Rcheck'
* using R version 3.6.1 (2019-07-05)
* using platform: x86_64-w64-mingw32 (64-bit)
* using session charset: ISO8859-1
* using option '--no-vignettes'
* checking for file 'chromstaR/DESCRIPTION' ... OK
* checking extension type ... Package
* this is package 'chromstaR' version '1.10.0'
* checking package namespace information ... OK
* checking package dependencies ... OK
* checking if this is a source package ... OK
* checking if there is a namespace ... OK
* checking for hidden files and directories ... OK
* checking for portable file names ... OK
* checking whether package 'chromstaR' can be installed ... OK
* checking installed package size ... NOTE
installed size is 6.7Mb
sub-directories of 1Mb or more:
data 4.5Mb
libs 1.2Mb
* checking package directory ... OK
* checking 'build' directory ... OK
* checking DESCRIPTION meta-information ... OK
* checking top-level files ... OK
* checking for left-over files ... OK
* checking index information ... OK
* checking package subdirectories ... OK
* checking R files for non-ASCII characters ... OK
* checking R files for syntax errors ... OK
* loading checks for arch 'i386'
** checking whether the package can be loaded ... OK
** checking whether the package can be loaded with stated dependencies ... OK
** checking whether the package can be unloaded cleanly ... OK
** checking whether the namespace can be loaded with stated dependencies ... OK
** checking whether the namespace can be unloaded cleanly ... OK
* loading checks for arch 'x64'
** checking whether the package can be loaded ... OK
** checking whether the package can be loaded with stated dependencies ... OK
** checking whether the package can be unloaded cleanly ... OK
** checking whether the namespace can be loaded with stated dependencies ... OK
** checking whether the namespace can be unloaded cleanly ... OK
* checking dependencies in R code ... OK
* checking S3 generic/method consistency ... OK
* checking replacement functions ... OK
* checking foreign function calls ... OK
* checking R code for possible problems ... NOTE
Chromstar: multiple local function definitions for 'parallel.helper'
with different formal arguments
* checking Rd files ... OK
* checking Rd metadata ... OK
* checking Rd cross-references ... OK
* checking for missing documentation entries ... OK
* checking for code/documentation mismatches ... OK
* checking Rd \usage sections ... OK
* checking Rd contents ... OK
* checking for unstated dependencies in examples ... OK
* checking contents of 'data' directory ... OK
* checking data for non-ASCII characters ... OK
* checking data for ASCII and uncompressed saves ... OK
* checking line endings in C/C++/Fortran sources/headers ... OK
* checking line endings in Makefiles ... OK
* checking compilation flags in Makevars ... OK
* checking for GNU extensions in Makefiles ... OK
* checking for portable use of $(BLAS_LIBS) and $(LAPACK_LIBS) ... OK
* checking compiled code ... NOTE
Note: information on .o files for i386 is not available
Note: information on .o files for x64 is not available
File 'C:/Users/biocbuild/bbs-3.9-bioc/R/library/chromstaR/libs/i386/chromstaR.dll':
Found 'abort', possibly from 'abort' (C), 'runtime' (Fortran)
Found 'exit', possibly from 'exit' (C), 'stop' (Fortran)
Found 'printf', possibly from 'printf' (C)
File 'C:/Users/biocbuild/bbs-3.9-bioc/R/library/chromstaR/libs/x64/chromstaR.dll':
Found 'abort', possibly from 'abort' (C), 'runtime' (Fortran)
Found 'exit', possibly from 'exit' (C), 'stop' (Fortran)
Found 'printf', possibly from 'printf' (C)
Compiled code should not call entry points which might terminate R nor
write to stdout/stderr instead of to the console, nor use Fortran I/O
nor system RNGs. The detected symbols are linked into the code but
might come from libraries and not actually be called.
See 'Writing portable packages' in the 'Writing R Extensions' manual.
* checking files in 'vignettes' ... OK
* checking examples ...
** running examples for arch 'i386' ... OK
Examples with CPU or elapsed time > 5s
user system elapsed
combineMultivariates 28.00 0.20 28.21
enrichment_analysis 15.36 0.22 20.20
callPeaksMultivariate 12.97 0.32 13.30
changePostCutoff 10.50 0.27 10.76
callPeaksReplicates 10.18 0.15 10.34
combinatorialStates 8.53 0.23 8.76
unis2pseudomulti 7.95 0.10 8.04
plotGenomeBrowser 7.53 0.06 7.60
Chromstar 6.64 0.47 47.96
readCustomBedFile 5.75 0.01 5.77
changeMaxPostCutoff 5.18 0.20 5.39
plotExpression 1.78 0.03 5.48
** running examples for arch 'x64' ... OK
Examples with CPU or elapsed time > 5s
user system elapsed
combineMultivariates 22.11 0.26 22.37
enrichment_analysis 16.30 0.25 19.52
unis2pseudomulti 9.95 0.13 10.09
callPeaksMultivariate 9.67 0.22 9.89
readCustomBedFile 9.20 0.09 9.30
callPeaksReplicates 9.03 0.17 9.20
changePostCutoff 7.75 0.07 7.83
Chromstar 7.02 0.31 52.95
combinatorialStates 7.14 0.10 7.24
plotGenomeBrowser 6.64 0.05 6.69
changeMaxPostCutoff 4.96 0.10 5.05
plotExpression 1.91 0.06 5.28
* checking for unstated dependencies in 'tests' ... OK
* checking tests ...
** running tests for arch 'i386' ...
Running 'testthat.R'
OK
** running tests for arch 'x64' ...
Running 'testthat.R'
OK
* checking for unstated dependencies in vignettes ... OK
* checking package vignettes in 'inst/doc' ... OK
* checking running R code from vignettes ... SKIPPED
* checking re-building of vignette outputs ... SKIPPED
* checking PDF version of manual ... OK
* DONE
Status: 3 NOTEs
See
'C:/Users/biocbuild/bbs-3.9-bioc/meat/chromstaR.Rcheck/00check.log'
for details.
chromstaR.Rcheck/00install.out
##############################################################################
##############################################################################
###
### Running command:
###
### C:\cygwin\bin\curl.exe -O https://malbec2.bioconductor.org/BBS/3.9/bioc/src/contrib/chromstaR_1.10.0.tar.gz && rm -rf chromstaR.buildbin-libdir && mkdir chromstaR.buildbin-libdir && C:\Users\biocbuild\bbs-3.9-bioc\R\bin\R.exe CMD INSTALL --merge-multiarch --build --library=chromstaR.buildbin-libdir chromstaR_1.10.0.tar.gz && C:\Users\biocbuild\bbs-3.9-bioc\R\bin\R.exe CMD INSTALL chromstaR_1.10.0.zip && rm chromstaR_1.10.0.tar.gz chromstaR_1.10.0.zip
###
##############################################################################
##############################################################################
% Total % Received % Xferd Average Speed Time Time Time Current
Dload Upload Total Spent Left Speed
0 0 0 0 0 0 0 0 --:--:-- --:--:-- --:--:-- 0
100 6684k 100 6684k 0 0 57.8M 0 --:--:-- --:--:-- --:--:-- 61.0M
install for i386
* installing *source* package 'chromstaR' ...
** using staged installation
** libs
C:/Rtools/mingw_32/bin/g++ -I"C:/Users/BIOCBU~1/BBS-3~1.9-B/R/include" -DNDEBUG -I"C:/extsoft/include" -fopenmp -O2 -Wall -mtune=generic -c R_interface.cpp -o R_interface.o
C:/Rtools/mingw_32/bin/g++ -I"C:/Users/BIOCBU~1/BBS-3~1.9-B/R/include" -DNDEBUG -I"C:/extsoft/include" -fopenmp -O2 -Wall -mtune=generic -c densities.cpp -o densities.o
C:/Rtools/mingw_32/bin/g++ -I"C:/Users/BIOCBU~1/BBS-3~1.9-B/R/include" -DNDEBUG -I"C:/extsoft/include" -fopenmp -O2 -Wall -mtune=generic -c init.cpp -o init.o
C:/Rtools/mingw_32/bin/g++ -I"C:/Users/BIOCBU~1/BBS-3~1.9-B/R/include" -DNDEBUG -I"C:/extsoft/include" -fopenmp -O2 -Wall -mtune=generic -c scalehmm.cpp -o scalehmm.o
C:/Rtools/mingw_32/bin/g++ -I"C:/Users/BIOCBU~1/BBS-3~1.9-B/R/include" -DNDEBUG -I"C:/extsoft/include" -fopenmp -O2 -Wall -mtune=generic -c utility.cpp -o utility.o
C:/Rtools/mingw_32/bin/g++ -shared -s -static-libgcc -o chromstaR.dll tmp.def R_interface.o densities.o init.o scalehmm.o utility.o -fopenmp -LC:/extsoft/lib/i386 -LC:/extsoft/lib -LC:/Users/BIOCBU~1/BBS-3~1.9-B/R/bin/i386 -lR
installing to C:/Users/biocbuild/bbs-3.9-bioc/meat/chromstaR.buildbin-libdir/00LOCK-chromstaR/00new/chromstaR/libs/i386
** R
** data
** inst
** byte-compile and prepare package for lazy loading
** help
*** installing help indices
converting help for package 'chromstaR'
finding HTML links ... done
Chromstar html
binReads html
finding level-2 HTML links ... done
binned.data html
callPeaksMultivariate html
callPeaksReplicates html
callPeaksUnivariate html
callPeaksUnivariateAllChr html
changeMaxPostCutoff html
changePostCutoff html
chromstaR-objects html
chromstaR-package html
collapseBins html
combinatorialStates html
combineMultivariates html
combinedMultiHMM html
conversion html
enrichmentAtAnnotation html
enrichment_analysis html
experiment.table html
exportFiles html
exportGRangesAsBedFile html
fixedWidthBins html
genes_rn4 html
genomicFrequencies html
getCombinations html
getDistinctColors html
getStateColors html
heatmapCombinations html
heatmapCountCorrelation html
heatmapTransitionProbs html
loadHmmsFromFiles html
mergeChroms html
model.combined html
model.multivariate html
model.univariate html
multiHMM html
multivariateSegmentation html
plotExpression html
plotGenomeBrowser html
plotHistogram html
plotHistograms html
plotting html
print.combinedMultiHMM html
print.multiHMM html
print.uniHMM html
readBamFileAsGRanges html
readBedFileAsGRanges html
readConfig html
readCustomBedFile html
removeCondition html
scanBinsizes html
scores html
simulateMultivariate html
simulateReadsFromCounts html
simulateUnivariate html
state.brewer html
stateBrewer html
subsample html
transitionFrequencies html
uniHMM html
unis2pseudomulti html
variableWidthBins html
writeConfig html
zinbinom html
** building package indices
** installing vignettes
** testing if installed package can be loaded from temporary location
** testing if installed package can be loaded from final location
** testing if installed package keeps a record of temporary installation path
install for x64
* installing *source* package 'chromstaR' ...
** libs
C:/Rtools/mingw_64/bin/g++ -I"C:/Users/BIOCBU~1/BBS-3~1.9-B/R/include" -DNDEBUG -I"C:/extsoft/include" -fopenmp -O2 -Wall -mtune=generic -c R_interface.cpp -o R_interface.o
C:/Rtools/mingw_64/bin/g++ -I"C:/Users/BIOCBU~1/BBS-3~1.9-B/R/include" -DNDEBUG -I"C:/extsoft/include" -fopenmp -O2 -Wall -mtune=generic -c densities.cpp -o densities.o
C:/Rtools/mingw_64/bin/g++ -I"C:/Users/BIOCBU~1/BBS-3~1.9-B/R/include" -DNDEBUG -I"C:/extsoft/include" -fopenmp -O2 -Wall -mtune=generic -c init.cpp -o init.o
C:/Rtools/mingw_64/bin/g++ -I"C:/Users/BIOCBU~1/BBS-3~1.9-B/R/include" -DNDEBUG -I"C:/extsoft/include" -fopenmp -O2 -Wall -mtune=generic -c scalehmm.cpp -o scalehmm.o
C:/Rtools/mingw_64/bin/g++ -I"C:/Users/BIOCBU~1/BBS-3~1.9-B/R/include" -DNDEBUG -I"C:/extsoft/include" -fopenmp -O2 -Wall -mtune=generic -c utility.cpp -o utility.o
C:/Rtools/mingw_64/bin/g++ -shared -s -static-libgcc -o chromstaR.dll tmp.def R_interface.o densities.o init.o scalehmm.o utility.o -fopenmp -LC:/extsoft/lib/x64 -LC:/extsoft/lib -LC:/Users/BIOCBU~1/BBS-3~1.9-B/R/bin/x64 -lR
installing to C:/Users/biocbuild/bbs-3.9-bioc/meat/chromstaR.buildbin-libdir/chromstaR/libs/x64
** testing if installed package can be loaded
* MD5 sums
packaged installation of 'chromstaR' as chromstaR_1.10.0.zip
* DONE (chromstaR)
* installing to library 'C:/Users/biocbuild/bbs-3.9-bioc/R/library'
package 'chromstaR' successfully unpacked and MD5 sums checked
|
chromstaR.Rcheck/tests_i386/testthat.Rout
R version 3.6.1 (2019-07-05) -- "Action of the Toes"
Copyright (C) 2019 The R Foundation for Statistical Computing
Platform: i386-w64-mingw32/i386 (32-bit)
R is free software and comes with ABSOLUTELY NO WARRANTY.
You are welcome to redistribute it under certain conditions.
Type 'license()' or 'licence()' for distribution details.
R is a collaborative project with many contributors.
Type 'contributors()' for more information and
'citation()' on how to cite R or R packages in publications.
Type 'demo()' for some demos, 'help()' for on-line help, or
'help.start()' for an HTML browser interface to help.
Type 'q()' to quit R.
> library(testthat)
> library(chromstaR)
Loading required package: GenomicRanges
Loading required package: stats4
Loading required package: BiocGenerics
Loading required package: parallel
Attaching package: 'BiocGenerics'
The following objects are masked from 'package:parallel':
clusterApply, clusterApplyLB, clusterCall, clusterEvalQ,
clusterExport, clusterMap, parApply, parCapply, parLapply,
parLapplyLB, parRapply, parSapply, parSapplyLB
The following objects are masked from 'package:stats':
IQR, mad, sd, var, xtabs
The following objects are masked from 'package:base':
Filter, Find, Map, Position, Reduce, anyDuplicated, append,
as.data.frame, basename, cbind, colnames, dirname, do.call,
duplicated, eval, evalq, get, grep, grepl, intersect, is.unsorted,
lapply, mapply, match, mget, order, paste, pmax, pmax.int, pmin,
pmin.int, rank, rbind, rownames, sapply, setdiff, sort, table,
tapply, union, unique, unsplit, which, which.max, which.min
Loading required package: S4Vectors
Attaching package: 'S4Vectors'
The following object is masked from 'package:base':
expand.grid
Loading required package: IRanges
Attaching package: 'IRanges'
The following object is masked from 'package:grDevices':
windows
Loading required package: GenomeInfoDb
Loading required package: ggplot2
Loading required package: chromstaRData
Please visit https://github.com/ataudt/chromstaR for the latest bugfixes and features.
>
> test_check("chromstaR")
== testthat results ===========================================================
[ OK: 44 | SKIPPED: 0 | WARNINGS: 0 | FAILED: 0 ]
>
> proc.time()
user system elapsed
23.17 1.09 24.25
|
chromstaR.Rcheck/tests_x64/testthat.Rout
R version 3.6.1 (2019-07-05) -- "Action of the Toes"
Copyright (C) 2019 The R Foundation for Statistical Computing
Platform: x86_64-w64-mingw32/x64 (64-bit)
R is free software and comes with ABSOLUTELY NO WARRANTY.
You are welcome to redistribute it under certain conditions.
Type 'license()' or 'licence()' for distribution details.
R is a collaborative project with many contributors.
Type 'contributors()' for more information and
'citation()' on how to cite R or R packages in publications.
Type 'demo()' for some demos, 'help()' for on-line help, or
'help.start()' for an HTML browser interface to help.
Type 'q()' to quit R.
> library(testthat)
> library(chromstaR)
Loading required package: GenomicRanges
Loading required package: stats4
Loading required package: BiocGenerics
Loading required package: parallel
Attaching package: 'BiocGenerics'
The following objects are masked from 'package:parallel':
clusterApply, clusterApplyLB, clusterCall, clusterEvalQ,
clusterExport, clusterMap, parApply, parCapply, parLapply,
parLapplyLB, parRapply, parSapply, parSapplyLB
The following objects are masked from 'package:stats':
IQR, mad, sd, var, xtabs
The following objects are masked from 'package:base':
Filter, Find, Map, Position, Reduce, anyDuplicated, append,
as.data.frame, basename, cbind, colnames, dirname, do.call,
duplicated, eval, evalq, get, grep, grepl, intersect, is.unsorted,
lapply, mapply, match, mget, order, paste, pmax, pmax.int, pmin,
pmin.int, rank, rbind, rownames, sapply, setdiff, sort, table,
tapply, union, unique, unsplit, which, which.max, which.min
Loading required package: S4Vectors
Attaching package: 'S4Vectors'
The following object is masked from 'package:base':
expand.grid
Loading required package: IRanges
Attaching package: 'IRanges'
The following object is masked from 'package:grDevices':
windows
Loading required package: GenomeInfoDb
Loading required package: ggplot2
Loading required package: chromstaRData
Please visit https://github.com/ataudt/chromstaR for the latest bugfixes and features.
>
> test_check("chromstaR")
== testthat results ===========================================================
[ OK: 44 | SKIPPED: 0 | WARNINGS: 0 | FAILED: 0 ]
>
> proc.time()
user system elapsed
16.43 0.68 17.10
|
|
chromstaR.Rcheck/examples_i386/chromstaR-Ex.timings
|
chromstaR.Rcheck/examples_x64/chromstaR-Ex.timings
|