| Back to Multiple platform build/check report for BioC 3.9 |
|
This page was generated on 2019-04-09 13:35:55 -0400 (Tue, 09 Apr 2019).
| Package 270/1703 | Hostname | OS / Arch | INSTALL | BUILD | CHECK | BUILD BIN | ||||||
| chromVAR 1.5.0 Alicia Schep
| malbec2 | Linux (Ubuntu 18.04.2 LTS) / x86_64 | OK | OK | OK | |||||||
| tokay2 | Windows Server 2012 R2 Standard / x64 | OK | OK | WARNINGS | OK | |||||||
| celaya2 | OS X 10.11.6 El Capitan / x86_64 | OK | OK | OK | OK | |||||||
| merida2 | OS X 10.11.6 El Capitan / x86_64 | OK | OK | [ OK ] | OK |
| Package: chromVAR |
| Version: 1.5.0 |
| Command: /Library/Frameworks/R.framework/Versions/Current/Resources/bin/R CMD check --install=check:chromVAR.install-out.txt --library=/Library/Frameworks/R.framework/Versions/Current/Resources/library --no-vignettes --timings chromVAR_1.5.0.tar.gz |
| StartedAt: 2019-04-08 23:54:00 -0400 (Mon, 08 Apr 2019) |
| EndedAt: 2019-04-09 00:01:01 -0400 (Tue, 09 Apr 2019) |
| EllapsedTime: 420.7 seconds |
| RetCode: 0 |
| Status: OK |
| CheckDir: chromVAR.Rcheck |
| Warnings: 0 |
##############################################################################
##############################################################################
###
### Running command:
###
### /Library/Frameworks/R.framework/Versions/Current/Resources/bin/R CMD check --install=check:chromVAR.install-out.txt --library=/Library/Frameworks/R.framework/Versions/Current/Resources/library --no-vignettes --timings chromVAR_1.5.0.tar.gz
###
##############################################################################
##############################################################################
* using log directory ‘/Users/biocbuild/bbs-3.9-bioc/meat/chromVAR.Rcheck’
* using R Under development (unstable) (2018-11-27 r75683)
* using platform: x86_64-apple-darwin15.6.0 (64-bit)
* using session charset: UTF-8
* using option ‘--no-vignettes’
* checking for file ‘chromVAR/DESCRIPTION’ ... OK
* checking extension type ... Package
* this is package ‘chromVAR’ version ‘1.5.0’
* checking package namespace information ... OK
* checking package dependencies ... OK
* checking if this is a source package ... OK
* checking if there is a namespace ... OK
* checking for hidden files and directories ... OK
* checking for portable file names ... OK
* checking for sufficient/correct file permissions ... OK
* checking whether package ‘chromVAR’ can be installed ... OK
* checking installed package size ... OK
* checking package directory ... OK
* checking ‘build’ directory ... OK
* checking DESCRIPTION meta-information ... OK
* checking top-level files ... OK
* checking for left-over files ... OK
* checking index information ... OK
* checking package subdirectories ... OK
* checking R files for non-ASCII characters ... OK
* checking R files for syntax errors ... OK
* checking whether the package can be loaded ... OK
* checking whether the package can be loaded with stated dependencies ... OK
* checking whether the package can be unloaded cleanly ... OK
* checking whether the namespace can be loaded with stated dependencies ... OK
* checking whether the namespace can be unloaded cleanly ... OK
* checking dependencies in R code ... OK
* checking S3 generic/method consistency ... OK
* checking replacement functions ... OK
* checking foreign function calls ... OK
* checking R code for possible problems ... OK
* checking Rd files ... OK
* checking Rd metadata ... OK
* checking Rd cross-references ... OK
* checking for missing documentation entries ... OK
* checking for code/documentation mismatches ... OK
* checking Rd \usage sections ... OK
* checking Rd contents ... OK
* checking for unstated dependencies in examples ... OK
* checking contents of ‘data’ directory ... OK
* checking data for non-ASCII characters ... OK
* checking data for ASCII and uncompressed saves ... OK
* checking line endings in C/C++/Fortran sources/headers ... OK
* checking line endings in Makefiles ... OK
* checking compilation flags in Makevars ... OK
* checking for GNU extensions in Makefiles ... OK
* checking for portable use of $(BLAS_LIBS) and $(LAPACK_LIBS) ... OK
* checking compiled code ... NOTE
Note: information on .o files is not available
* checking files in ‘vignettes’ ... OK
* checking examples ... OK
Examples with CPU or elapsed time > 5s
user system elapsed
deviationsCovariability 25.354 0.473 26.148
getJasparMotifs 7.797 0.135 8.025
pwmDistance 7.491 0.135 7.729
plotVariability 5.684 0.072 5.831
getCounts 4.996 0.309 5.385
* checking for unstated dependencies in ‘tests’ ... OK
* checking tests ...
Running ‘testthat.R’
OK
* checking for unstated dependencies in vignettes ... OK
* checking package vignettes in ‘inst/doc’ ... OK
* checking running R code from vignettes ... SKIPPED
* checking re-building of vignette outputs ... SKIPPED
* checking PDF version of manual ... OK
* DONE
Status: 1 NOTE
See
‘/Users/biocbuild/bbs-3.9-bioc/meat/chromVAR.Rcheck/00check.log’
for details.
chromVAR.Rcheck/00install.out
############################################################################## ############################################################################## ### ### Running command: ### ### /Library/Frameworks/R.framework/Versions/Current/Resources/bin/R CMD INSTALL chromVAR ### ############################################################################## ############################################################################## * installing to library ‘/Library/Frameworks/R.framework/Versions/3.6/Resources/library’ * installing *source* package ‘chromVAR’ ... ** libs clang++ -std=gnu++11 -I"/Library/Frameworks/R.framework/Resources/include" -DNDEBUG -I"/Library/Frameworks/R.framework/Versions/3.6/Resources/library/Rcpp/include" -I"/Library/Frameworks/R.framework/Versions/3.6/Resources/library/RcppArmadillo/include" -I/usr/local/include -fPIC -Wall -g -O2 -c RcppExports.cpp -o RcppExports.o clang++ -std=gnu++11 -I"/Library/Frameworks/R.framework/Resources/include" -DNDEBUG -I"/Library/Frameworks/R.framework/Versions/3.6/Resources/library/Rcpp/include" -I"/Library/Frameworks/R.framework/Versions/3.6/Resources/library/RcppArmadillo/include" -I/usr/local/include -fPIC -Wall -g -O2 -c pwm_similarity.cpp -o pwm_similarity.o clang++ -std=gnu++11 -I"/Library/Frameworks/R.framework/Resources/include" -DNDEBUG -I"/Library/Frameworks/R.framework/Versions/3.6/Resources/library/Rcpp/include" -I"/Library/Frameworks/R.framework/Versions/3.6/Resources/library/RcppArmadillo/include" -I/usr/local/include -fPIC -Wall -g -O2 -c utils.cpp -o utils.o clang++ -std=gnu++11 -dynamiclib -Wl,-headerpad_max_install_names -undefined dynamic_lookup -single_module -multiply_defined suppress -L/Library/Frameworks/R.framework/Resources/lib -L/usr/local/lib -o chromVAR.so RcppExports.o pwm_similarity.o utils.o -L/Library/Frameworks/R.framework/Resources/lib -lRlapack -L/Library/Frameworks/R.framework/Resources/lib -lRblas -L/usr/local/gfortran/lib/gcc/x86_64-apple-darwin15/6.1.0 -L/usr/local/gfortran/lib -lgfortran -lquadmath -lm -F/Library/Frameworks/R.framework/.. -framework R -Wl,-framework -Wl,CoreFoundation installing to /Library/Frameworks/R.framework/Versions/3.6/Resources/library/chromVAR/libs ** R ** data *** moving datasets to lazyload DB ** inst ** byte-compile and prepare package for lazy loading ** help *** installing help indices ** building package indices ** installing vignettes ** testing if installed package can be loaded * DONE (chromVAR)
chromVAR.Rcheck/tests/testthat.Rout
R Under development (unstable) (2018-11-27 r75683) -- "Unsuffered Consequences"
Copyright (C) 2018 The R Foundation for Statistical Computing
Platform: x86_64-apple-darwin15.6.0 (64-bit)
R is free software and comes with ABSOLUTELY NO WARRANTY.
You are welcome to redistribute it under certain conditions.
Type 'license()' or 'licence()' for distribution details.
R is a collaborative project with many contributors.
Type 'contributors()' for more information and
'citation()' on how to cite R or R packages in publications.
Type 'demo()' for some demos, 'help()' for on-line help, or
'help.start()' for an HTML browser interface to help.
Type 'q()' to quit R.
> library(testthat)
> library(chromVAR)
> BiocParallel::register(BiocParallel::SerialParam())
> test_check("chromVAR")
══ testthat results ═══════════════════════════════════════════════════════════
OK: 65 SKIPPED: 0 FAILED: 0
>
> proc.time()
user system elapsed
24.347 1.228 25.780
chromVAR.Rcheck/chromVAR-Ex.timings
| name | user | system | elapsed | |
| addGCBias | 0.857 | 0.028 | 0.898 | |
| annotationMatches | 0.021 | 0.001 | 0.021 | |
| chromVAR_theme | 0.035 | 0.003 | 0.038 | |
| computeDeviations | 3.228 | 0.135 | 3.397 | |
| computeExpectations | 0.022 | 0.000 | 0.023 | |
| computeVariability | 4.294 | 0.122 | 4.465 | |
| counts | 0.014 | 0.000 | 0.015 | |
| deviationScores | 0.007 | 0.001 | 0.007 | |
| deviations | 0.010 | 0.000 | 0.012 | |
| deviationsCovariability | 25.354 | 0.473 | 26.148 | |
| deviationsTsne | 0.132 | 0.003 | 0.134 | |
| differentialDeviations | 0.016 | 0.000 | 0.018 | |
| differentialVariability | 0.033 | 0.001 | 0.033 | |
| example_counts | 0.002 | 0.001 | 0.002 | |
| filterPeaks | 0.319 | 0.014 | 0.335 | |
| filterSamples | 0.079 | 0.005 | 0.084 | |
| filterSamplesPlot | 0.148 | 0.009 | 0.157 | |
| getAnnotations | 0.535 | 0.010 | 0.552 | |
| getBackgroundPeaks | 1.064 | 0.141 | 1.216 | |
| getCisGroups | 0.083 | 0.000 | 0.084 | |
| getCounts | 4.996 | 0.309 | 5.385 | |
| getFragmentsPerPeak | 0.014 | 0.000 | 0.014 | |
| getFragmentsPerSample | 0.015 | 0.001 | 0.015 | |
| getJasparMotifs | 7.797 | 0.135 | 8.025 | |
| getPeaks | 0.099 | 0.001 | 0.101 | |
| getPermutedData | 1.903 | 0.195 | 2.118 | |
| getSampleCorrelation | 0.020 | 0.001 | 0.021 | |
| getSampleDepths | 0.151 | 0.001 | 0.154 | |
| getSampleDistance | 0.021 | 0.001 | 0.022 | |
| getTotalFragments | 0.015 | 0.001 | 0.016 | |
| makeBiasBins | 0.058 | 0.001 | 0.059 | |
| makePermutedSets | 1.147 | 0.051 | 1.207 | |
| matchKmers | 1.395 | 0.063 | 1.478 | |
| mini_counts | 0.002 | 0.001 | 0.003 | |
| mini_dev | 0.001 | 0.000 | 0.002 | |
| mini_ix | 0.001 | 0.000 | 0.002 | |
| plotVariability | 5.684 | 0.072 | 5.831 | |
| pwmDistance | 7.491 | 0.135 | 7.729 | |
| rbind-chromVARDeviations-method | 0.062 | 0.001 | 0.063 | |