| Back to Multiple platform build/check report for BioC 3.9 |
|
This page was generated on 2019-04-09 13:27:37 -0400 (Tue, 09 Apr 2019).
| Package 264/1703 | Hostname | OS / Arch | INSTALL | BUILD | CHECK | BUILD BIN | ||||||
| chroGPS 2.1.1 Oscar Reina
| malbec2 | Linux (Ubuntu 18.04.2 LTS) / x86_64 | OK | OK | OK | |||||||
| tokay2 | Windows Server 2012 R2 Standard / x64 | OK | OK | OK | OK | |||||||
| celaya2 | OS X 10.11.6 El Capitan / x86_64 | OK | OK | OK | OK | |||||||
| merida2 | OS X 10.11.6 El Capitan / x86_64 | OK | OK | [ OK ] | OK |
| Package: chroGPS |
| Version: 2.1.1 |
| Command: /Library/Frameworks/R.framework/Versions/Current/Resources/bin/R CMD check --install=check:chroGPS.install-out.txt --library=/Library/Frameworks/R.framework/Versions/Current/Resources/library --no-vignettes --timings chroGPS_2.1.1.tar.gz |
| StartedAt: 2019-04-08 23:51:25 -0400 (Mon, 08 Apr 2019) |
| EndedAt: 2019-04-08 23:55:54 -0400 (Mon, 08 Apr 2019) |
| EllapsedTime: 269.1 seconds |
| RetCode: 0 |
| Status: OK |
| CheckDir: chroGPS.Rcheck |
| Warnings: 0 |
##############################################################################
##############################################################################
###
### Running command:
###
### /Library/Frameworks/R.framework/Versions/Current/Resources/bin/R CMD check --install=check:chroGPS.install-out.txt --library=/Library/Frameworks/R.framework/Versions/Current/Resources/library --no-vignettes --timings chroGPS_2.1.1.tar.gz
###
##############################################################################
##############################################################################
* using log directory ‘/Users/biocbuild/bbs-3.9-bioc/meat/chroGPS.Rcheck’
* using R Under development (unstable) (2018-11-27 r75683)
* using platform: x86_64-apple-darwin15.6.0 (64-bit)
* using session charset: UTF-8
* using option ‘--no-vignettes’
* checking for file ‘chroGPS/DESCRIPTION’ ... OK
* checking extension type ... Package
* this is package ‘chroGPS’ version ‘2.1.1’
* checking package namespace information ... OK
* checking package dependencies ... OK
* checking if this is a source package ... OK
* checking if there is a namespace ... OK
* checking for hidden files and directories ... OK
* checking for portable file names ... OK
* checking for sufficient/correct file permissions ... OK
* checking whether package ‘chroGPS’ can be installed ... OK
* checking installed package size ... OK
* checking package directory ... OK
* checking ‘build’ directory ... OK
* checking DESCRIPTION meta-information ... OK
* checking top-level files ... OK
* checking for left-over files ... OK
* checking index information ... OK
* checking package subdirectories ... OK
* checking R files for non-ASCII characters ... OK
* checking R files for syntax errors ... OK
* checking whether the package can be loaded ... OK
* checking whether the package can be loaded with stated dependencies ... OK
* checking whether the package can be unloaded cleanly ... OK
* checking whether the namespace can be loaded with stated dependencies ... OK
* checking whether the namespace can be unloaded cleanly ... OK
* checking dependencies in R code ... OK
* checking S3 generic/method consistency ... OK
* checking replacement functions ... OK
* checking foreign function calls ... OK
* checking R code for possible problems ... NOTE
chisqdist : <anonymous>: no visible global function definition for
‘RleList’
chisqdist : <anonymous> : <anonymous>: no visible global function
definition for ‘Rle’
Undefined global functions or variables:
Rle RleList
* checking Rd files ... OK
* checking Rd metadata ... OK
* checking Rd cross-references ... OK
* checking for missing documentation entries ... OK
* checking for code/documentation mismatches ... OK
* checking Rd \usage sections ... OK
* checking Rd contents ... OK
* checking for unstated dependencies in examples ... OK
* checking contents of ‘data’ directory ... OK
* checking data for non-ASCII characters ... OK
* checking data for ASCII and uncompressed saves ... OK
* checking sizes of PDF files under ‘inst/doc’ ... OK
* checking installed files from ‘inst/doc’ ... OK
* checking files in ‘vignettes’ ... OK
* checking examples ... OK
Examples with CPU or elapsed time > 5s
user system elapsed
rankFactorsbyProfile 108.633 11.418 121.192
procrustesAdj 5.487 0.297 5.853
* checking for unstated dependencies in vignettes ... NOTE
'library' or 'require' call not declared from: ‘gtools’
* checking package vignettes in ‘inst/doc’ ... OK
* checking running R code from vignettes ... SKIPPED
* checking re-building of vignette outputs ... SKIPPED
* checking PDF version of manual ... OK
* DONE
Status: 2 NOTEs
See
‘/Users/biocbuild/bbs-3.9-bioc/meat/chroGPS.Rcheck/00check.log’
for details.
chroGPS.Rcheck/00install.out
############################################################################## ############################################################################## ### ### Running command: ### ### /Library/Frameworks/R.framework/Versions/Current/Resources/bin/R CMD INSTALL chroGPS ### ############################################################################## ############################################################################## * installing to library ‘/Library/Frameworks/R.framework/Versions/3.6/Resources/library’ * installing *source* package ‘chroGPS’ ... ** R ** data ** inst ** byte-compile and prepare package for lazy loading ** help *** installing help indices ** building package indices ** installing vignettes ‘chroGPS.Rnw’ ** testing if installed package can be loaded * DONE (chroGPS)
chroGPS.Rcheck/chroGPS-Ex.timings
| name | user | system | elapsed | |
| addVar | 0 | 0 | 0 | |
| adjustPeaks | 0.001 | 0.000 | 0.000 | |
| bg3 | 0.310 | 0.009 | 0.326 | |
| boostMDS | 0 | 0 | 0 | |
| clusGPS-class | 0.000 | 0.000 | 0.001 | |
| clusGPS | 0 | 0 | 0 | |
| combineGenesMatrix | 0 | 0 | 0 | |
| diffFactors | 0.624 | 0.017 | 0.653 | |
| diffGenes | 0.000 | 0.000 | 0.001 | |
| distGPS-class | 0.087 | 0.006 | 0.095 | |
| distGPS | 0.021 | 0.002 | 0.024 | |
| domainDist | 0.001 | 0.000 | 0.000 | |
| geneSetGPS | 0.000 | 0.001 | 0.000 | |
| getURL | 0.000 | 0.000 | 0.001 | |
| gff2RDList | 0 | 0 | 0 | |
| gps2xgmml | 0.000 | 0.000 | 0.001 | |
| mds-class | 0.001 | 0.000 | 0.001 | |
| mds | 0.01 | 0.00 | 0.01 | |
| mergeClusters | 0 | 0 | 0 | |
| mergeReplicates | 0.001 | 0.001 | 0.001 | |
| procrustesAdj | 5.487 | 0.297 | 5.853 | |
| profileClusters | 0 | 0 | 0 | |
| rankFactorsbyDomain | 0.082 | 0.005 | 0.087 | |
| rankFactorsbyProfile | 108.633 | 11.418 | 121.192 | |
| s2 | 0.207 | 0.012 | 0.221 | |
| splitDistGPS-class | 0.001 | 0.000 | 0.000 | |