| Back to Multiple platform build/check report for BioC 3.9 |
|
This page was generated on 2019-10-16 12:23:23 -0400 (Wed, 16 Oct 2019).
| Package 248/1741 | Hostname | OS / Arch | INSTALL | BUILD | CHECK | BUILD BIN | ||||||
| charm 2.30.0 Peter Murakami
| malbec2 | Linux (Ubuntu 18.04.2 LTS) / x86_64 | ERROR | ERROR | skipped | |||||||
| tokay2 | Windows Server 2012 R2 Standard / x64 | [ ERROR ] | ERROR | skipped | skipped | |||||||
| celaya2 | OS X 10.11.6 El Capitan / x86_64 | ERROR | ERROR | skipped | skipped |
| Package: charm |
| Version: 2.30.0 |
| Command: C:\cygwin\bin\curl.exe -O https://malbec2.bioconductor.org/BBS/3.9/bioc/src/contrib/charm_2.30.0.tar.gz && rm -rf charm.buildbin-libdir && mkdir charm.buildbin-libdir && C:\Users\biocbuild\bbs-3.9-bioc\R\bin\R.exe CMD INSTALL --merge-multiarch --build --library=charm.buildbin-libdir charm_2.30.0.tar.gz && C:\Users\biocbuild\bbs-3.9-bioc\R\bin\R.exe CMD INSTALL charm_2.30.0.zip && rm charm_2.30.0.tar.gz charm_2.30.0.zip |
| StartedAt: 2019-10-15 20:28:53 -0400 (Tue, 15 Oct 2019) |
| EndedAt: 2019-10-15 20:29:14 -0400 (Tue, 15 Oct 2019) |
| EllapsedTime: 20.3 seconds |
| RetCode: 1 |
| Status: ERROR |
##############################################################################
##############################################################################
###
### Running command:
###
### C:\cygwin\bin\curl.exe -O https://malbec2.bioconductor.org/BBS/3.9/bioc/src/contrib/charm_2.30.0.tar.gz && rm -rf charm.buildbin-libdir && mkdir charm.buildbin-libdir && C:\Users\biocbuild\bbs-3.9-bioc\R\bin\R.exe CMD INSTALL --merge-multiarch --build --library=charm.buildbin-libdir charm_2.30.0.tar.gz && C:\Users\biocbuild\bbs-3.9-bioc\R\bin\R.exe CMD INSTALL charm_2.30.0.zip && rm charm_2.30.0.tar.gz charm_2.30.0.zip
###
##############################################################################
##############################################################################
% Total % Received % Xferd Average Speed Time Time Time Current
Dload Upload Total Spent Left Speed
0 0 0 0 0 0 0 0 --:--:-- --:--:-- --:--:-- 0
100 86709 100 86709 0 0 460k 0 --:--:-- --:--:-- --:--:-- 481k
install for i386
* installing *source* package 'charm' ...
** using staged installation
** R
** inst
** byte-compile and prepare package for lazy loading
Error: object 'ebayes' is not exported by 'namespace:limma'
Execution halted
ERROR: lazy loading failed for package 'charm'
* removing 'C:/Users/biocbuild/bbs-3.9-bioc/meat/charm.buildbin-libdir/charm'