| Back to Multiple platform build/check report for BioC 3.9 |
|
This page was generated on 2019-04-02 13:27:30 -0400 (Tue, 02 Apr 2019).
| Package 220/1696 | Hostname | OS / Arch | INSTALL | BUILD | CHECK | BUILD BIN | ||||||
| cellbaseR 1.7.0 Mohammed OE Abdallah
| malbec2 | Linux (Ubuntu 18.04.2 LTS) / x86_64 | OK | OK | OK | |||||||
| tokay2 | Windows Server 2012 R2 Standard / x64 | OK | ERROR | skipped | skipped | |||||||
| celaya2 | OS X 10.11.6 El Capitan / x86_64 | OK | ERROR | skipped | skipped | |||||||
| merida2 | OS X 10.11.6 El Capitan / x86_64 | OK | OK | [ OK ] | OK |
| Package: cellbaseR |
| Version: 1.7.0 |
| Command: /Library/Frameworks/R.framework/Versions/Current/Resources/bin/R CMD check --install=check:cellbaseR.install-out.txt --library=/Library/Frameworks/R.framework/Versions/Current/Resources/library --no-vignettes --timings cellbaseR_1.7.0.tar.gz |
| StartedAt: 2019-04-01 23:41:52 -0400 (Mon, 01 Apr 2019) |
| EndedAt: 2019-04-01 23:45:13 -0400 (Mon, 01 Apr 2019) |
| EllapsedTime: 201.6 seconds |
| RetCode: 0 |
| Status: OK |
| CheckDir: cellbaseR.Rcheck |
| Warnings: 0 |
##############################################################################
##############################################################################
###
### Running command:
###
### /Library/Frameworks/R.framework/Versions/Current/Resources/bin/R CMD check --install=check:cellbaseR.install-out.txt --library=/Library/Frameworks/R.framework/Versions/Current/Resources/library --no-vignettes --timings cellbaseR_1.7.0.tar.gz
###
##############################################################################
##############################################################################
* using log directory ‘/Users/biocbuild/bbs-3.9-bioc/meat/cellbaseR.Rcheck’
* using R Under development (unstable) (2018-11-27 r75683)
* using platform: x86_64-apple-darwin15.6.0 (64-bit)
* using session charset: UTF-8
* using option ‘--no-vignettes’
* checking for file ‘cellbaseR/DESCRIPTION’ ... OK
* checking extension type ... Package
* this is package ‘cellbaseR’ version ‘1.7.0’
* checking package namespace information ... OK
* checking package dependencies ... OK
* checking if this is a source package ... OK
* checking if there is a namespace ... OK
* checking for hidden files and directories ... OK
* checking for portable file names ... OK
* checking for sufficient/correct file permissions ... OK
* checking whether package ‘cellbaseR’ can be installed ... OK
* checking installed package size ... OK
* checking package directory ... OK
* checking ‘build’ directory ... OK
* checking DESCRIPTION meta-information ... OK
* checking top-level files ... OK
* checking for left-over files ... OK
* checking index information ... OK
* checking package subdirectories ... OK
* checking R files for non-ASCII characters ... OK
* checking R files for syntax errors ... OK
* checking whether the package can be loaded ... OK
* checking whether the package can be loaded with stated dependencies ... OK
* checking whether the package can be unloaded cleanly ... OK
* checking whether the namespace can be loaded with stated dependencies ... OK
* checking whether the namespace can be unloaded cleanly ... OK
* checking dependencies in R code ... OK
* checking S3 generic/method consistency ... OK
* checking replacement functions ... OK
* checking foreign function calls ... OK
* checking R code for possible problems ... OK
* checking Rd files ... OK
* checking Rd metadata ... OK
* checking Rd cross-references ... OK
* checking for missing documentation entries ... OK
* checking for code/documentation mismatches ... OK
* checking Rd \usage sections ... OK
* checking Rd contents ... OK
* checking for unstated dependencies in examples ... OK
* checking files in ‘vignettes’ ... OK
* checking examples ... OK
Examples with CPU or elapsed time > 5s
user system elapsed
AnnotateVcf-CellBaseR-method 9.667 3.826 12.642
* checking for unstated dependencies in vignettes ... OK
* checking package vignettes in ‘inst/doc’ ... OK
* checking running R code from vignettes ... SKIPPED
* checking re-building of vignette outputs ... SKIPPED
* checking PDF version of manual ... OK
* DONE
Status: OK
cellbaseR.Rcheck/00install.out
############################################################################## ############################################################################## ### ### Running command: ### ### /Library/Frameworks/R.framework/Versions/Current/Resources/bin/R CMD INSTALL cellbaseR ### ############################################################################## ############################################################################## * installing to library ‘/Library/Frameworks/R.framework/Versions/3.6/Resources/library’ * installing *source* package ‘cellbaseR’ ... ** R ** inst ** byte-compile and prepare package for lazy loading ** help *** installing help indices ** building package indices ** installing vignettes ** testing if installed package can be loaded * DONE (cellbaseR)
cellbaseR.Rcheck/cellbaseR-Ex.timings
| name | user | system | elapsed | |
| AnnotateVcf-CellBaseR-method | 9.667 | 3.826 | 12.642 | |
| CellBaseParam | 0.002 | 0.001 | 0.003 | |
| CellBaseR | 0.044 | 0.008 | 0.358 | |
| createGeneModel | 0.303 | 0.042 | 1.015 | |
| getCaddScores | 0.057 | 0.008 | 0.608 | |
| getCellBase-CellBaseR-method | 0.072 | 0.009 | 0.637 | |
| getCellBaseResourceHelp | 0.313 | 0.042 | 1.012 | |
| getChromosomeInfo-CellBaseR-method | 0.057 | 0.003 | 0.608 | |
| getClinical-CellBaseR-method | 0.779 | 0.036 | 1.679 | |
| getClinicalByRegion | 1.932 | 0.114 | 3.421 | |
| getConservationByRegion | 0.075 | 0.005 | 0.781 | |
| getGene-CellBaseR-method | 0.125 | 0.006 | 0.786 | |
| getGeneInfo | 0.069 | 0.003 | 0.603 | |
| getMeta-CellBaseR-method | 0.077 | 0.003 | 0.626 | |
| getProtein-CellBaseR-method | 0.151 | 0.006 | 0.773 | |
| getProteinInfo | 0.137 | 0.004 | 0.769 | |
| getRegion-CellBaseR-method | 0.110 | 0.004 | 0.845 | |
| getRegulatoryByRegion | 0.155 | 0.007 | 1.066 | |
| getSnp-CellBaseR-method | 0.077 | 0.003 | 0.602 | |
| getSnpByGene | 0.097 | 0.008 | 0.638 | |
| getTf-CellBaseR-method | 0.050 | 0.003 | 3.789 | |
| getTfbsByRegion | 0.079 | 0.003 | 0.639 | |
| getTranscript-CellBaseR-method | 0.062 | 0.003 | 0.589 | |
| getTranscriptByGene | 0.056 | 0.003 | 0.577 | |
| getVariant-CellBaseR-method | 0.138 | 0.004 | 0.838 | |
| getVariantAnnotation | 0.128 | 0.004 | 0.795 | |
| getXref-CellBaseR-method | 0.055 | 0.003 | 0.591 | |