| Back to Multiple platform build/check report for BioC 3.9 |
|
This page was generated on 2019-10-16 12:26:20 -0400 (Wed, 16 Oct 2019).
| Package 227/1741 | Hostname | OS / Arch | INSTALL | BUILD | CHECK | BUILD BIN | ||||||
| cellGrowth 1.28.0 Julien Gagneur
| malbec2 | Linux (Ubuntu 18.04.2 LTS) / x86_64 | OK | OK | OK | |||||||
| tokay2 | Windows Server 2012 R2 Standard / x64 | OK | OK | OK | [ OK ] | |||||||
| celaya2 | OS X 10.11.6 El Capitan / x86_64 | OK | OK | OK | OK |
| Package: cellGrowth |
| Version: 1.28.0 |
| Command: rm -rf cellGrowth.buildbin-libdir && mkdir cellGrowth.buildbin-libdir && C:\Users\biocbuild\bbs-3.9-bioc\R\bin\R.exe CMD INSTALL --merge-multiarch --build --library=cellGrowth.buildbin-libdir cellGrowth_1.28.0.tar.gz |
| StartedAt: 2019-10-16 08:51:22 -0400 (Wed, 16 Oct 2019) |
| EndedAt: 2019-10-16 08:51:52 -0400 (Wed, 16 Oct 2019) |
| EllapsedTime: 30.2 seconds |
| RetCode: 0 |
| Status: OK |
| PackageFile: cellGrowth_1.28.0.zip |
| PackageFileSize: 601.5 KiB |
##############################################################################
##############################################################################
###
### Running command:
###
### rm -rf cellGrowth.buildbin-libdir && mkdir cellGrowth.buildbin-libdir && C:\Users\biocbuild\bbs-3.9-bioc\R\bin\R.exe CMD INSTALL --merge-multiarch --build --library=cellGrowth.buildbin-libdir cellGrowth_1.28.0.tar.gz
###
##############################################################################
##############################################################################
install for i386
* installing *source* package 'cellGrowth' ...
** using staged installation
** R
** inst
** byte-compile and prepare package for lazy loading
** help
*** installing help indices
converting help for package 'cellGrowth'
finding HTML links ... done
bandwidthCV html
baranyi html
fitCellGrowth html
fitCellGrowths html
getRowColumn html
getWellIdsTecan html
gompertz html
guessCellGrowthParams html
logistic html
plot.cellGrowthFit html
plot.well html
plotPlate html
readGenios html
readYeastGrower html
rosso html
standardWellId html
wellDataFrame html
** building package indices
** installing vignettes
** testing if installed package can be loaded from temporary location
** testing if installed package can be loaded from final location
** testing if installed package keeps a record of temporary installation path
install for x64
* installing *source* package 'cellGrowth' ...
** testing if installed package can be loaded
* MD5 sums
packaged installation of 'cellGrowth' as cellGrowth_1.28.0.zip
* DONE (cellGrowth)