| Back to Multiple platform build/check report for BioC 3.9 |
|
This page was generated on 2019-10-16 12:12:12 -0400 (Wed, 16 Oct 2019).
| Package 218/1741 | Hostname | OS / Arch | INSTALL | BUILD | CHECK | BUILD BIN | ||||||
| cbaf 1.6.0 Arman Shahrisa
| malbec2 | Linux (Ubuntu 18.04.2 LTS) / x86_64 | OK | OK | [ OK ] | |||||||
| tokay2 | Windows Server 2012 R2 Standard / x64 | OK | OK | OK | OK | |||||||
| celaya2 | OS X 10.11.6 El Capitan / x86_64 | OK | OK | OK | OK |
| Package: cbaf |
| Version: 1.6.0 |
| Command: /home/biocbuild/bbs-3.9-bioc/R/bin/R CMD check --install=check:cbaf.install-out.txt --library=/home/biocbuild/bbs-3.9-bioc/R/library --no-vignettes --timings cbaf_1.6.0.tar.gz |
| StartedAt: 2019-10-16 00:18:51 -0400 (Wed, 16 Oct 2019) |
| EndedAt: 2019-10-16 00:21:35 -0400 (Wed, 16 Oct 2019) |
| EllapsedTime: 163.9 seconds |
| RetCode: 0 |
| Status: OK |
| CheckDir: cbaf.Rcheck |
| Warnings: 0 |
##############################################################################
##############################################################################
###
### Running command:
###
### /home/biocbuild/bbs-3.9-bioc/R/bin/R CMD check --install=check:cbaf.install-out.txt --library=/home/biocbuild/bbs-3.9-bioc/R/library --no-vignettes --timings cbaf_1.6.0.tar.gz
###
##############################################################################
##############################################################################
* using log directory ‘/home/biocbuild/bbs-3.9-bioc/meat/cbaf.Rcheck’
* using R version 3.6.1 (2019-07-05)
* using platform: x86_64-pc-linux-gnu (64-bit)
* using session charset: UTF-8
* using option ‘--no-vignettes’
* checking for file ‘cbaf/DESCRIPTION’ ... OK
* this is package ‘cbaf’ version ‘1.6.0’
* package encoding: UTF-8
* checking package namespace information ... OK
* checking package dependencies ... OK
* checking if this is a source package ... OK
* checking if there is a namespace ... OK
* checking for hidden files and directories ... OK
* checking for portable file names ... OK
* checking for sufficient/correct file permissions ... OK
* checking whether package ‘cbaf’ can be installed ... OK
* checking installed package size ... OK
* checking package directory ... OK
* checking ‘build’ directory ... OK
* checking DESCRIPTION meta-information ... OK
* checking top-level files ... OK
* checking for left-over files ... OK
* checking index information ... OK
* checking package subdirectories ... OK
* checking R files for non-ASCII characters ... OK
* checking R files for syntax errors ... OK
* checking whether the package can be loaded ... OK
* checking whether the package can be loaded with stated dependencies ... OK
* checking whether the package can be unloaded cleanly ... OK
* checking whether the namespace can be loaded with stated dependencies ... OK
* checking whether the namespace can be unloaded cleanly ... OK
* checking dependencies in R code ... OK
* checking S3 generic/method consistency ... OK
* checking replacement functions ... OK
* checking foreign function calls ... OK
* checking R code for possible problems ... OK
* checking Rd files ... OK
* checking Rd metadata ... OK
* checking Rd cross-references ... OK
* checking for missing documentation entries ... OK
* checking for code/documentation mismatches ... OK
* checking Rd \usage sections ... OK
* checking Rd contents ... OK
* checking for unstated dependencies in examples ... OK
* checking files in ‘vignettes’ ... OK
* checking examples ... OK
Examples with CPU or elapsed time > 5s
user system elapsed
processMultipleStudies 10.370 0.370 9.124
processOneStudy 9.310 0.246 8.296
heatmapOutput 5.123 0.199 5.658
* checking for unstated dependencies in vignettes ... OK
* checking package vignettes in ‘inst/doc’ ... OK
* checking running R code from vignettes ... SKIPPED
* checking re-building of vignette outputs ... SKIPPED
* checking PDF version of manual ... OK
* DONE
Status: OK
cbaf.Rcheck/00install.out
############################################################################## ############################################################################## ### ### Running command: ### ### /home/biocbuild/bbs-3.9-bioc/R/bin/R CMD INSTALL cbaf ### ############################################################################## ############################################################################## * installing to library ‘/home/biocbuild/bbs-3.9-bioc/R/library’ * installing *source* package ‘cbaf’ ... ** using staged installation ** R ** inst ** byte-compile and prepare package for lazy loading ** help *** installing help indices ** building package indices ** installing vignettes ** testing if installed package can be loaded from temporary location ** testing if installed package can be loaded from final location ** testing if installed package keeps a record of temporary installation path * DONE (cbaf)
cbaf.Rcheck/cbaf-Ex.timings
| name | user | system | elapsed | |
| automatedStatistics | 2.227 | 0.124 | 2.441 | |
| cleanDatabase | 0.003 | 0.000 | 0.003 | |
| heatmapOutput | 5.123 | 0.199 | 5.658 | |
| obtainMultipleStudies | 0.598 | 0.000 | 0.604 | |
| obtainOneStudy | 0.586 | 0.004 | 0.590 | |
| processMultipleStudies | 10.370 | 0.370 | 9.124 | |
| processOneStudy | 9.310 | 0.246 | 8.296 | |
| xlsxOutput | 4.400 | 0.063 | 3.716 | |